BEGIN:VCALENDAR
VERSION:2.0
PRODID:-//新潟県央なび - 燕市・三条市・加茂市・弥彦村の店舗・施設案内 - ECPv6.0.6.2//NONSGML v1.0//EN
CALSCALE:GREGORIAN
METHOD:PUBLISH
X-WR-CALNAME:新潟県央なび - 燕市・三条市・加茂市・弥彦村の店舗・施設案内
X-ORIGINAL-URL:https://www.kenoh-navi.com
X-WR-CALDESC:新潟県央なび - 燕市・三条市・加茂市・弥彦村の店舗・施設案内 のイベント
REFRESH-INTERVAL;VALUE=DURATION:PT1H
X-Robots-Tag:noindex
X-PUBLISHED-TTL:PT1H
BEGIN:VTIMEZONE
TZID:Asia/Tokyo
BEGIN:STANDARD
TZOFFSETFROM:+0900
TZOFFSETTO:+0900
TZNAME:JST
DTSTART:20160101T000000
END:STANDARD
END:VTIMEZONE
BEGIN:VEVENT
DTSTART;VALUE=DATE:20160601
DTEND;VALUE=DATE:20160701
DTSTAMP:20260421T203559
CREATED:20160526T024725Z
LAST-MODIFIED:20160526T024725Z
UID:15079-1464739200-1467331199@www.kenoh-navi.com
SUMMARY:「吉田まちゼミ」が開催されます♪(6月1日～30日)
DESCRIPTION:お店が講師となって、プロのちょっとしたワザや生活に役立つ豆知識を伝える「吉田まちゼミ」を開催します！少人数で開催するアットホームなプチ講座。聞いてみたかった、あんなことやこんなことも聞けちゃうかも！？\n受講料無料♪受講したいゼミのお店へ直接お申込みください。\n\n　\n \n【注意事項等】\n・ 講座によっては、材料費がかかるものもあります。\n・ 材料費は原則として講座当日に会場で徴収します。\n・ お申し込み後のキャンセルは、材料費を頂戴することがございますのでご了承ください。\n・ お申し込みは、各店の受付時間内にお願いします。\n・ 小学生以下は保護者同伴でのご参加をお願いします。\n・ 受講者が限定されている講座もあります。\n・ 定員になり次第締め切らせていただきます。\n・ お申し込みの際に、受講時の持ち物をご確認ください。
URL:https://www.kenoh-navi.com/event/yoshida-machizemi/
ATTACH;FMTTYPE=image/jpeg:https://www.kenoh-navi.com/wp/wp-content/uploads/2016/05/yoshida-machizemi-ichach.jpg
END:VEVENT
BEGIN:VEVENT
DTSTART;VALUE=DATE:20160601
DTEND;VALUE=DATE:20160701
DTSTAMP:20260421T203559
CREATED:20160520T041458Z
LAST-MODIFIED:20160620T010348Z
UID:14960-1464739200-1467331199@www.kenoh-navi.com
SUMMARY:第3回 ブランキングアート展 出展者募集 6月30日まで
DESCRIPTION:ブランキングアートとは\n製造工程などで排出される事業排出物(ブランク材)を使い、新しい作品に生まれ変わらせることで「モノづくりの心と技」を表現しようとする取り組みです。　　　　　　　　　　　　　　　　　　　　　　　　　　　　　　　　　　　　　　　　　　　　　　　　　　　　　　　　　これまでの作品数は「30作品」。年々迫力を増し、それらのインパクトは多くの来場者へ記憶として残っています。今年度、ご出品をお考えの方は、出品者募集説明会を開催しますので、ぜひご応募ください。 \n6月1日(水)　出展者募集開始\n6月3日(金)　出展者募集説明会参加締切\n6月10日(金) 出展者募集説明会(詳しくは下記URLまで)\n県央なび内サイト：https://www.kenoh-navi.com/event/dai3kaiburankingua-totensetumeikai/\n6月30日(木)　出展者募集締め切り\n9月1日(木) 第3回 ブランキングアート展スタート!\n県央なび内サイト：https://www.kenoh-navi.com/event/dai3kaiburankingua-toten/\n11月30(水) 第3回 ブランキングアート展終了。その後、別箇所にて巡回展を予定。
URL:https://www.kenoh-navi.com/event/dai3kaiburankingua-tosyuttensyabosyu/
ATTACH;FMTTYPE=image/jpeg:https://www.kenoh-navi.com/wp/wp-content/uploads/2016/05/burankingua-to4.jpg
END:VEVENT
BEGIN:VEVENT
DTSTART;VALUE=DATE:20160601
DTEND;VALUE=DATE:20160619
DTSTAMP:20260421T203559
CREATED:20160601T213848Z
LAST-MODIFIED:20160603T093252Z
UID:15438-1464739200-1466294399@www.kenoh-navi.com
SUMMARY:「みんなで食べよう！」参加者募集中です♪(6月1日～18日)
DESCRIPTION:白山町児童館では、6月23日(木)に地域の方々で食卓を囲む「みんなで食べよう！」を開催します。\n一人暮らしのお年寄りや子どもの個食化など様々な状況の中、顔の見える地域作りの一環として行います。\n子どもからお年寄りまでどなたでも、お気軽にお越しください。 \n参加費：大人(中学生以上) 300円、小学生 100円、幼児 50円\n参加募集期間：6月1日(水)～6月18日(土)\nお問い合わせ・お申込先：白山町児童館(TEL: 0256-64-5053)\n(開館時間： 月～金　PM 1:00 ～ PM 5:15、土　AM 8:30 ～ 12:00 / PM 1:00 ～ PM 5:15) \n※ お電話でのお問い合わせ・お申し込みは、開館時間内にお願いいたします。\n※ 当日のお帰りは保護者様よりお願いいたします。
URL:https://www.kenoh-navi.com/event/minnadetabeyou/
LOCATION:白山町児童館\, 白山町二丁目3番13号\, 燕市\, 959-1251
ATTACH;FMTTYPE=image/jpeg:https://www.kenoh-navi.com/wp/wp-content/uploads/2016/05/minnadetabeyou.jpg
END:VEVENT
BEGIN:VEVENT
DTSTART;TZID=Asia/Tokyo:20160529T100000
DTEND;TZID=Asia/Tokyo:20160529T160000
DTSTAMP:20260421T203559
CREATED:20160506T024444Z
LAST-MODIFIED:20160530T025049Z
UID:14235-1464516000-1464537600@www.kenoh-navi.com
SUMMARY:鎚起銅器 銅鍋づくり体験 5月29日開催♪
DESCRIPTION:新潟県燕市の伝統工芸鎚起銅器。\nその技術で１枚の銅板を叩き続けて銅鍋にする時間。\n叩いて叩いて形になってゆく器作りです。 \nその日のうちに完成し、その夜からご自分の銅鍋で料理をができます♪ \n自分の中から生まれる器の素晴らしさ。\nその鍋で作られる料理の美味しさ。\n世界にひとつのご自分の鍋を作ってみませんか？ \n　\n持ち物：昼食・耳栓・滑り止め軍手・クッション\n定　員：8名(最小催行人数3名)\n講　師：鎚起銅器職人 大橋保隆\nお問合せ/お申込み：090-8610-7017(大橋まで)
URL:https://www.kenoh-navi.com/event/tuikidoukidounabedukuritaiken/
LOCATION:三条ものづくり学校\, 三条市桜木町 12-38\, 〒955-0844
ATTACH;FMTTYPE=image/jpeg:https://www.kenoh-navi.com/wp/wp-content/uploads/2016/05/honbun0111-e1462501572713.jpg
ORGANIZER;CN="%E9%8E%9A%E8%B5%B7%E9%8A%85%E5%99%A8%E8%81%B7%E4%BA%BA%20%E5%A4%A7%E6%A9%8B%E4%BF%9D%E9%9A%86":MAILTO:info@higesyokunin.lovepop.jp
END:VEVENT
BEGIN:VEVENT
DTSTART;TZID=Asia/Tokyo:20160529T100000
DTEND;TZID=Asia/Tokyo:20160529T150000
DTSTAMP:20260421T203559
CREATED:20160526T030126Z
LAST-MODIFIED:20160530T024939Z
UID:14930-1464516000-1464534000@www.kenoh-navi.com
SUMMARY:スワローズスプリングフェス2016 5月29日開催♪
DESCRIPTION:PDF版はこちら⇒http://www.kenoh-navi.com/wp/wp-content/uploads/2016/05/supuringufesu.pdf \n神宮球場でヒーロー賞として提供されている商品の展示、パネル、燕餃子・つば九郎焼酎・エコカップなどの物販、しょうゆたい焼き、ピザ・たこ焼きなどの飲食ブース。スタンプラリーなど楽しいイベントが盛りだくさん! \n★入場料：無料\n★イベント・ステージスケジュール\n10:00　開場　飲食ブース、物販、展示コーナーオープン\n10:30　オープニング(鈴木燕市長・つば九郎筆談トーク)\n11:00　新PR大使任命式\n11:30　デーブ大久保氏トークイベント\n13:30　燕市ダーツの旅公開収録・つば九郎じゃんけん大会\n14:50　閉会式\n15:00　イベント終了
URL:https://www.kenoh-navi.com/event/suwaro-zusupuringufesu2016/
LOCATION:燕市役所 つばめホール\, 燕市吉田西太田1934\, 〒959-0221
ATTACH;FMTTYPE=image/jpeg:https://www.kenoh-navi.com/wp/wp-content/uploads/2016/05/supuomo.jpg
END:VEVENT
BEGIN:VEVENT
DTSTART;VALUE=DATE:20160529
DTEND;VALUE=DATE:20160530
DTSTAMP:20260421T203559
CREATED:20160509T043456Z
LAST-MODIFIED:20160509T053245Z
UID:14376-1464480000-1464566399@www.kenoh-navi.com
SUMMARY:陸上自衛隊東部方面音楽隊がやってきます♪(5月29日)
DESCRIPTION:※整理券の販売は終了致しました。 \n日時：5月29日(日)　開場 PM2:30　開演 PM3:30\n開場：弥彦総合文化会館\n料金：無料・全席自由\n対象：燕市在住の方\nお問い合わせ先：社会教育課文化振興係(総合文化センター内) \n※車いす席あり、事前に会場へご予約ください\n※入場には整理券が必要です
URL:https://www.kenoh-navi.com/event/rikujoujieitai-ongakutai-2016/
LOCATION:弥彦総合文化会館\, 〒959-0323 \, 新潟県西蒲原郡弥彦村弥彦２４８７−１ 
ATTACH;FMTTYPE=image/jpeg:https://www.kenoh-navi.com/wp/wp-content/uploads/2016/05/rikujoujieitai-ongakutai-2016.jpg
END:VEVENT
BEGIN:VEVENT
DTSTART;TZID=Asia/Tokyo:20160528T090000
DTEND;TZID=Asia/Tokyo:20160529T160000
DTSTAMP:20260421T203559
CREATED:20160923T100044Z
LAST-MODIFIED:20160924T003930Z
UID:14647-1464426000-1464537600@www.kenoh-navi.com
SUMMARY:2016 春の保内公園まつり 5月28日~29日開催♪
DESCRIPTION:★保内公園の年間を通じて一番大きなイベントです!★\n大人気の 花鉢プレゼント(抽選)、アロマ・テラピー体験、押し花体験、木工体験、露店販売、フリーマーケットなどなど美味しい物、楽しいイベントが盛りだくさん! 是非 遊びにきてください♪
URL:https://www.kenoh-navi.com/event/2016_harunohonaikouenmaturi/
LOCATION:熱帯植物園　保内公園\, 条市下保内3714番地\, 〒955-0021
ATTACH;FMTTYPE=image/jpeg:https://www.kenoh-navi.com/wp/wp-content/uploads/2016/05/honaiharu2016g-e1463041253437.jpg
END:VEVENT
BEGIN:VEVENT
DTSTART;VALUE=DATE:20160528
DTEND;VALUE=DATE:20160530
DTSTAMP:20260421T203559
CREATED:20160321T220019Z
LAST-MODIFIED:20160322T010733Z
UID:12056-1464393600-1464566399@www.kenoh-navi.com
SUMMARY:若葉の頃のオープン・ガーデン巡り(5月28日～5月29日)
DESCRIPTION:若葉の美しい頃に、保内地区の植木屋さんのお庭の姿を鑑賞しながら10数ヶ所を廻るツアーです。\n内容と所要時間の異なる2種類のコースを設定しました。\n「春の保内公園まつり」を開催しておりますので、他のイベントを楽しむこともできます。熱帯植物園温室などもご覧になれます。 \n\n　\n\n日時：\n① 5月28日(土) AM 9:00 ～ PM 0:00\n② 5月28日(土) PM 1:00 ～ PM 4:00\n③ 5月29日(日) AM 9:00 ～ PM 0:00\n④ 5月29日(日) PM 1:00 ～ PM 4:00\n参加費：各回300円\n定員：各コース20人(最少催行人数:各コース1人) \n集合場所：保内公園 第一駐車場脇総合案内前\n駐車場：20台(無料)\n詳細情報：http://www.tsubasan-aruki.jp/event.php?tcd=581
URL:https://www.kenoh-navi.com/event/machiaruki-niwa/
LOCATION:保内公園 第一駐車場脇総合案内前\, 三条市下保内3714
ATTACH;FMTTYPE=image/jpeg:https://www.kenoh-navi.com/wp/wp-content/uploads/2016/03/machiaruki-niwa01.jpg
END:VEVENT
BEGIN:VEVENT
DTSTART;VALUE=DATE:20160528
DTEND;VALUE=DATE:20160529
DTSTAMP:20260421T203559
CREATED:20160514T025110Z
LAST-MODIFIED:20160514T030539Z
UID:14761-1464393600-1464479999@www.kenoh-navi.com
SUMMARY:【参加費無料】健康セミナーを開催します(5月28日)
DESCRIPTION:医療・介護の専門員の方をお招きして、健康セミナーを開催致します。介護保険サービスの解説や測定器による健康チェック、介護保険に関する個別相談などを実施します。\n参加費無料＆参加特典アリです。お気軽にお問い合わせください。\n\n開催日：5月28日(土)\n開催時間：第１部　13:30～14:30 / 第２部　14:30～15:30\n会場：燕市中央公民館(燕市総合文化センター)　3階\n定員：80名\n参加費：無料\n主催者：藤崎新聞店・日報燕南専売所・新潟日報販売店会\nお問い合わせ先：株式会社藤崎新聞店(TEL: 0256-62-2943) \n※定員に達し次第、締め切らせていただきます。
URL:https://www.kenoh-navi.com/event/kenkou-seminar-2016/
LOCATION:燕市総合文化センター\, 新潟県燕市水道町1丁目3-28\, 〒959-1262
ATTACH;FMTTYPE=image/jpeg:https://www.kenoh-navi.com/wp/wp-content/uploads/2016/05/437242.jpg
END:VEVENT
BEGIN:VEVENT
DTSTART;VALUE=DATE:20160528
DTEND;VALUE=DATE:20160529
DTSTAMP:20260421T203559
CREATED:20160421T063658Z
LAST-MODIFIED:20160421T063658Z
UID:13371-1464393600-1464479999@www.kenoh-navi.com
SUMMARY:木の葉をモチーフにした作品を作ってみませんか♪(5月28日)
DESCRIPTION:～「木の葉」手彫り彫金体験～\n燕の職人さん指導のもとで、銅板を使って「木の葉」をモチーフにした作品を作ってみませんか。キーホルダー・箸置・ブックマークから1つ選んで作ります。会場の燕市産業史料館内も見学できます。 \n開催日：5月28日(土)\n時間：PM 1:30 ～ PM 3:30\n会場：燕市産業史料館 1F多目的ホール\n所要時間：約2時間\n定員：5名\n申込締切：5月25日(水)\n体験料：1\,000円（史料館入館料含む）\n申込・お問い合わせ：一般社団法人 燕市観光協会(TEL : 0256-64-7630) \n※同日午前の小皿制作と合わせてお申込みいただくと、体験料が合計2\,000円のところ1\,500円になります。\n↓↓ 「燕」の伝統工芸 鎚起銅器で小皿制作 ↓↓\nhttp://www.kenoh-navi.com/event/kozaraseisaku0528/
URL:https://www.kenoh-navi.com/event/chokintaiken0528/
LOCATION:燕市産業史料館\, 燕市大曲4330-1\, 〒959-1263
ATTACH;FMTTYPE=image/jpeg:https://www.kenoh-navi.com/wp/wp-content/uploads/2016/04/chokintaiken02.jpg
END:VEVENT
BEGIN:VEVENT
DTSTART;VALUE=DATE:20160528
DTEND;VALUE=DATE:20160529
DTSTAMP:20260421T203559
CREATED:20160421T061653Z
LAST-MODIFIED:20160707T065947Z
UID:13352-1464393600-1464479999@www.kenoh-navi.com
SUMMARY:自分だけの小皿を作ってみませんか♪(5月28日)
DESCRIPTION:～「燕」の伝統工芸 鎚起銅器で小皿制作～\n燕市が誇る伝統工芸品、鎚起銅器。1枚の丸い銅板が素敵な小皿に！ 職人さん指導のもとで、オリジナルの小皿を作ってみませんか。会場の燕市産業史料館内も見学できます。 \n開催日：5月28日(土)\n時間：AM 10:00 ～ 正午\n会場：燕市産業史料館 1F多目的ホール\n所要時間：約2時間\n定員：5名\n申込締切：5月25日(水)\n体験料：1\,000円（史料館入館料含む）\n申込・お問い合わせ：一般社団法人 燕市観光協会(TEL : 0256-64-7630) \n※同日午後の彫金体験と合わせてお申込みいただくと、体験料が合計2\,000円のところ1\,500円になります。\n↓↓ 「木の葉」手彫り彫金体験 ↓↓\nhttp://www.kenoh-navi.com/event/chokintaiken0528/
URL:https://www.kenoh-navi.com/event/kozaraseisaku0528/
LOCATION:燕市産業史料館\, 燕市大曲4330-1\, 〒959-1263
ATTACH;FMTTYPE=image/jpeg:https://www.kenoh-navi.com/wp/wp-content/uploads/2016/04/kozaraseisaku02.jpg
END:VEVENT
BEGIN:VEVENT
DTSTART;VALUE=DATE:20160524
DTEND;VALUE=DATE:20160526
DTSTAMP:20260421T203559
CREATED:20160514T021629Z
LAST-MODIFIED:20160516T012759Z
UID:14758-1464048000-1464220799@www.kenoh-navi.com
SUMMARY:吉田名物 天満宮祭礼を執り行います(5月24日～25日)
DESCRIPTION:天満宮の由来\n燕市吉田地区の天神様は、古来、出世天神と称せられて、祈願すると必ず立身出世ができるといわれ、祈願の記念として御祭に出ている植木を買い求め植えておくと、その木が成木する頃、自分の願望も成就するという信仰があった為に御祭に植木を買い求める人が多く、従って植木屋も軒を並べて店を張り「吉田の植木祭」の別名さえある。 \n宵宮祭：5月24日(火) PM 6:30執行\n大祭：5月25日(水) AM 10:30執行 \n主催・お問い合わせ先：吉田天満宮奉讃会(吉田商工会) TEL: 0256-93-2609
URL:https://www.kenoh-navi.com/event/tenmangu2016/
LOCATION:吉田天満宮\, 吉田天満宮\, 〒959-0253　新潟県燕市吉田下町１０
ATTACH;FMTTYPE=image/png:https://www.kenoh-navi.com/wp/wp-content/uploads/2016/05/yoshida-tenmangu.png
END:VEVENT
BEGIN:VEVENT
DTSTART;TZID=Asia/Tokyo:20160522T100000
DTEND;TZID=Asia/Tokyo:20160522T160000
DTSTAMP:20260421T203559
CREATED:20160506T024323Z
LAST-MODIFIED:20160519T075337Z
UID:14220-1463911200-1463932800@www.kenoh-navi.com
SUMMARY:三条ものづくり学校 【1周年記念 感謝祭】 5月22日開催!
DESCRIPTION:燕三条地域の工場やクリエイターの方々が出店者となるマーケットブース「工場(こうば)蚤の市」が登場! \n\n体験型のワークショップはもちろんのこと、クリエイターの展示、大人気の「燕三条ミニ四駆大学」\n　　 \nオープンしたばかりの106号室カフェ「THE COFFEE TABLE Laboratory & Cafe」を中心としたフードブース等\n　　\n\nまだまだ 子供から大人、家族で全館丸ごと楽しめるコンテンツが盛りだくさん!\n是非 遊びに来てね♪ \nイベントチラシは>>コチラ!
URL:https://www.kenoh-navi.com/event/monodukurigakkkouissyuunen/
LOCATION:三条ものづくり学校\, 三条市桜木町 12-38\, 〒955-0844
ATTACH;FMTTYPE=image/jpeg:https://www.kenoh-navi.com/wp/wp-content/uploads/2016/05/sanzyou1st.jpg
END:VEVENT
BEGIN:VEVENT
DTSTART;TZID=Asia/Tokyo:20160522T083000
DTEND;TZID=Asia/Tokyo:20160817T170000
DTSTAMP:20260421T203559
CREATED:20160609T023000Z
LAST-MODIFIED:20160616T091940Z
UID:16056-1463905800-1471453200@www.kenoh-navi.com
SUMMARY:【企画展】Power of 燕三条 vol.2　8月31日まで開催♪
DESCRIPTION:ものづくりの歴史と技術が集積する燕三条地域。\n三条ものづくり学校では、この地域から生まれた商品を軸に、商品を支える関連企業各社の技術力・開発力・ノウハウ・アイデア・デザインなどさまざまな力にスポットを当て、『Power of 燕三条』として紹介・発信しております! \n　\n　\nvol.2の今回も、三条市を代表する世界的アウトドアメーカー・スノーピークの地元・燕三条地域の工場で作られている製品をご紹介。\nスノーピークの製品［ソリッドステーク］［ペグハンマー］をピックアップ!\n普段はなかなか見ることのできない製造過程の現物や、ものづくりに込めた熱い思いをパネルにして展示しております。\n製品の開発におけるこの土地で磨かれてきた確かな技術と、ひとつひとつの工程に対するメーカーの深い愛情に触れていただけたらと思います。 \n入場料：無料\n会　場：1F 105号室 ギャラリー
URL:https://www.kenoh-navi.com/event/power-of-tsubamesanjou-vol2/
LOCATION:三条ものづくり学校\, 三条市桜木町 12-38\, 〒955-0844
ATTACH;FMTTYPE=image/png:https://www.kenoh-navi.com/wp/wp-content/uploads/2015/10/powerof_thum1.png
END:VEVENT
BEGIN:VEVENT
DTSTART;VALUE=DATE:20160522
DTEND;VALUE=DATE:20160523
DTSTAMP:20260421T203559
CREATED:20160507T044236Z
LAST-MODIFIED:20160509T034732Z
UID:14316-1463875200-1463961599@www.kenoh-navi.com
SUMMARY:第11回フリーマーケットinかんきょう庵 開催します！(5月22日)
DESCRIPTION:手づくり品や、日用雑貨、衣類など１４店舗が出店します。\n室内での開催ですので、お天気の心配もなくゆっくりと見る事が出来ます。ぜひ足をお運びください。\n素敵なものや、掘り出し物もたくさん！ \n　　\n※画像は前回開催時のものです\n開催日：5月22日(日)\n時間： AM 10:00 ～ PM 3:00
URL:https://www.kenoh-navi.com/event/kankyouan-freemarket-201605/
LOCATION:環境啓発施設「かんきょう庵」\, 環境啓発施設・かんきょう庵\, 〒959-1102
ATTACH;FMTTYPE=image/jpeg:https://www.kenoh-navi.com/wp/wp-content/uploads/2016/05/free-market-20160522-0.jpg
END:VEVENT
BEGIN:VEVENT
DTSTART;VALUE=DATE:20160522
DTEND;VALUE=DATE:20160523
DTSTAMP:20260421T203559
CREATED:20160320T220055Z
LAST-MODIFIED:20160320T170321Z
UID:11998-1463875200-1463961599@www.kenoh-navi.com
SUMMARY:下田地域の史跡文化財めぐり（5月22日午前9時30分～午後2時）
DESCRIPTION:大名橋を渡ると立派な屋敷跡が現れます。明治13年の三条大火災の復興に尽力した、本下田村初代村長宅跡地、旧家、長谷川邸です。分家筋の方から説明を受け、関連史跡を巡ります。\n\n　\n \n日時：5月22日(日) AM 9:30 ～ PM 2:00\n参加費：1\,700円(食事代込)\n受付開始：4月21日（木）\n定員：10人(最少催行人数:4人) \n主催者：下田郷土史研究会 \n駐車場：10台（無料）\n詳細情報：http://www.tsubasan-aruki.jp/event.php?tcd=569 \nお問い合わせ・電話予約：TEL 0256-34-7310 （燕三条物産センター「燕三条Wing」）
URL:https://www.kenoh-navi.com/event/machiaruki-shitada/
LOCATION:八木ヶ鼻公園
ATTACH;FMTTYPE=image/jpeg:https://www.kenoh-navi.com/wp/wp-content/uploads/2016/03/machiaruki2016-0502.jpg
END:VEVENT
BEGIN:VEVENT
DTSTART;VALUE=DATE:20160521
DTEND;VALUE=DATE:20160526
DTSTAMP:20260421T203559
CREATED:20160507T052011Z
LAST-MODIFIED:20160509T034952Z
UID:14344-1463788800-1464220799@www.kenoh-navi.com
SUMMARY:第14回リサイクル品無料配布会、開催します♪(5月21日～25日)
DESCRIPTION:開催日：5月21日～5月25日\n時間： AM 9:00 ～ PM 5:00\n対象：三条市内在住で小学生以上の方\n展示・申込期間：5月21日(土)～25日(水)\n展示会場：環境啓発施設「かんきょう庵」
URL:https://www.kenoh-navi.com/event/kankyouan-muryouhanbaikai-14/
LOCATION:環境啓発施設「かんきょう庵」\, 環境啓発施設・かんきょう庵\, 〒959-1102
ATTACH;FMTTYPE=image/jpeg:https://www.kenoh-navi.com/wp/wp-content/uploads/2016/05/kankyouan-muryouhaihukai-14ichach.jpg
END:VEVENT
BEGIN:VEVENT
DTSTART;VALUE=DATE:20160520
DTEND;VALUE=DATE:20160701
DTSTAMP:20260421T203559
CREATED:20160526T015115Z
LAST-MODIFIED:20160527T015743Z
UID:15040-1463702400-1467331199@www.kenoh-navi.com
SUMMARY:燕大花火大会の「お祝い花火（メッセージ花火）」を募集しています！(6月30日まで)
DESCRIPTION:燕市の夏まつりのフィナーレを飾る大花火大会で打ち上げる「お祝い花火(メッセージ花火)」を募集します。\n還暦やお子さんの誕生日、スポーツ大会の優勝などステキな出来事をお祝いする、特別な花火です。\n\n料金：5号玉（半径85m） 12\,000円、7号玉（半径120m） 25\,000円\nメッセージ文字数：20文字以内\n申込期限：6月30日(木)\nお問い合わせ先：燕市産業振興部商工振興課 観光振興室 市役所3階25番窓口(TEL:0256-77-8233) \n募集要項・申込用紙は、燕市のウェブサイトよりダウンロードください。\nhttp://www.city.tsubame.niigata.jp/industrial/016001046.html \n【注意事項等】\n・ 個人での申し込みに限ります。\n・ 氏名とメッセージは、打ち上げ時に放送します。応募数が多い場合は、ある程度の数をまとめて、放送・打上する予定です。ご了承ください。\n・ メッセージや応募者名などは夏まつりプログラムには掲載いたしません。
URL:https://www.kenoh-navi.com/event/tsubameshi-hanabitaikai-2016/
ATTACH;FMTTYPE=image/jpeg:https://www.kenoh-navi.com/wp/wp-content/uploads/2016/05/tsubamehanabi2010-1.jpg
END:VEVENT
BEGIN:VEVENT
DTSTART;VALUE=DATE:20160520
DTEND;VALUE=DATE:20160523
DTSTAMP:20260421T203559
CREATED:20160510T072116Z
LAST-MODIFIED:20160516T011223Z
UID:14401-1463702400-1463961599@www.kenoh-navi.com
SUMMARY:青海神社 春季祭礼（加茂まつり） 5月20日~22日開催♪
DESCRIPTION:「加茂まつり」の名で親しまれている青海神社春季祭礼は、加茂市の伝統あるまつりの中で最も盛大であり、御神幸行列では、母親が生後1年位の　乳児に色あざやかな産衣を着せて参加し、わが子の健やかな成長を祈願することから「乳母まつり」とも呼ばれています。\n20日宵宮、21日本宮と行われ、22日には神楽殿にて、神楽の奉納が行われる。 \n\n\n　\n※21日の御神幸行列は、14:00に青海神社を出立し市内を巡ります。
URL:https://www.kenoh-navi.com/event/kamomaturi/
LOCATION:青海神社 他、加茂市内　\, 加茂市加茂229\, 〒959-1300
ATTACH;FMTTYPE=image/jpeg:https://www.kenoh-navi.com/wp/wp-content/uploads/2016/05/kamomaturimi.jpg
END:VEVENT
BEGIN:VEVENT
DTSTART;VALUE=DATE:20160517
DTEND;VALUE=DATE:20160518
DTSTAMP:20260421T203559
CREATED:20160319T220002Z
LAST-MODIFIED:20160319T170004Z
UID:12050-1463443200-1463529599@www.kenoh-navi.com
SUMMARY:店主こだわりの「ラーメン探訪」嵐南地区(5月17日午後7時～9時)
DESCRIPTION:店主こだわりのラーメンをこのチャンスに是非参加してご賞味ください。 \n\n　\n\n★コース内容★\nやじろう駐車場（集合）→ 焼肉天開 → 大観楼 → やじろう駐車場（解散） \n日時：5月17日(火) PM 7:00 ～ PM 9:00\n受付開始：4月21日(木)\n参加費：1\,200円(食事代込)\n定員：15人(最少催行人数:7人)\n駐車場：15台(無料)\n詳細情報：http://www.tsubasan-aruki.jp/event.php?tcd=577 \nお問い合わせ・電話予約：TEL 0256-34-7310 （燕三条駅観光物産センター「燕三条Wing」）
URL:https://www.kenoh-navi.com/event/machiaruki-ramen/
LOCATION:お食事処やじろう駐車場\, 三条市南四日町4-7-50
ATTACH;FMTTYPE=image/jpeg:https://www.kenoh-navi.com/wp/wp-content/uploads/2016/03/machiaruki2016-1201.jpg
END:VEVENT
BEGIN:VEVENT
DTSTART;VALUE=DATE:20160515
DTEND;VALUE=DATE:20160601
DTSTAMP:20260421T203559
CREATED:20160427T061638Z
LAST-MODIFIED:20160511T083723Z
UID:13959-1463270400-1464739199@www.kenoh-navi.com
SUMMARY:越後三条・高城ヒメサユリ祭り
DESCRIPTION:維持管理協力金：200円 \n清々しい空気と小鳥の声･･･。\nヒメサユリを楽しみながらハイキングしてみませんか？ \n森町の高城城址はヒメサユリの群生地として知られ、特に花が咲き乱れる「ヒメサユリの小径」は約1時間の高城へのハイキングコースとなっており花の咲く時期には毎年多くの方が訪れます。\n　 \n★主なイベント★\n☆おにぎりサービス(9:00~)\n　5月15日(日)先着150名/18日(水)先着100名/21日(土) 先着150名\n☆呈茶(9:30~)\n　5月22日(日) 長禅寺境内で呈茶のサービスがあります。(1服100円/先着50名)　 \n☆登山者お楽しみ抽選会\n　5月22日(日) 抽選で素敵なプレゼントが当たります♪\n☆ヒメサユリの苗・地元の採れたて野菜・山菜販売!(期間中毎日)
URL:https://www.kenoh-navi.com/event/himesayurimaturi/
LOCATION:三条市森町 ヒメサユリの小径\, 三条市森町840\, 〒955-0116
ATTACH;FMTTYPE=image/jpeg:https://www.kenoh-navi.com/wp/wp-content/uploads/2016/04/himesayuri-e1461735535121-718x1024-1.jpg
END:VEVENT
BEGIN:VEVENT
DTSTART;VALUE=DATE:20160514
DTEND;VALUE=DATE:20160516
DTSTAMP:20260421T203559
CREATED:20160430T012342Z
LAST-MODIFIED:20160509T050334Z
UID:13386-1463184000-1463356799@www.kenoh-navi.com
SUMMARY:戸隠神社春季祭礼
DESCRIPTION:戸隠神社では5月14日の宵宮祭、5月15日の例大祭を中心として平成28年の春季例大祭を斎行いたします。両日とも市内目抜き通りには多くの露店が出店し、多くの参拝者や見物客で賑わいます。\n\n　　\n★ 街頭踊り披露 ★　\n\n\n★ 横町萬燈運行と街頭おどり ★　\n \n期日：\n5月14日(土)　19：00～（予定）\n5月15日(日)　　8：00～（予定）
URL:https://www.kenoh-navi.com/event/togakushishunkisairei2016/
LOCATION:戸隠神社\, 燕市宮町3-1\, 〒959-1257
ATTACH;FMTTYPE=image/jpeg:https://www.kenoh-navi.com/wp/wp-content/uploads/2016/04/tokagushi-spring-2016-02.jpg
END:VEVENT
BEGIN:VEVENT
DTSTART;VALUE=DATE:20160514
DTEND;VALUE=DATE:20160516
DTSTAMP:20260421T203559
CREATED:20160419T043501Z
LAST-MODIFIED:20160509T021936Z
UID:13436-1463184000-1463356799@www.kenoh-navi.com
SUMMARY:三条祭り
DESCRIPTION:三条八幡宮の春季大祭として催される「三条祭り」は、10万石の格式をもつ大名行列で知られる伝統行事です。\n大名行列の後、親が子供を肩車し、社殿を3周する「舞込」は、毎年多くの人で賑わいます。 \n \n【日程】\n5月14日(土) 宵宮\n5月15日(日)：12:45～ 大名行列/17:00～ 舞込
URL:https://www.kenoh-navi.com/event/sanzyoumaturi/
LOCATION:三条市 八幡宮\, 三条市八幡町12番地18\, 〒955-0073
ATTACH;FMTTYPE=image/jpeg:https://www.kenoh-navi.com/wp/wp-content/uploads/2016/04/tengu.jpg
END:VEVENT
BEGIN:VEVENT
DTSTART;TZID=Asia/Tokyo:20160508T103000
DTEND;TZID=Asia/Tokyo:20160508T153000
DTSTAMP:20260421T203559
CREATED:20160506T030524Z
LAST-MODIFIED:20160531T090151Z
UID:14238-1462703400-1462721400@www.kenoh-navi.com
SUMMARY:山菜まつり＆フリーマーケット
DESCRIPTION:野菜市では旬の山菜を取りそろえた≪山菜まつり≫と、お店をまわるだけでも楽しい≪フリーマーケット≫を開催します! \n↓↓県央なび内：いい湯らてい↓↓\nhttp://www.kenoh-navi.com/maparea/map_sanjo/yagigahanaonsen/
URL:https://www.kenoh-navi.com/event/sansaimaturihuri-ma-ketto/
LOCATION:いい湯らてい\, 三条市南五百川16番地1\, 〒955-0128
ATTACH;FMTTYPE=image/jpeg:https://www.kenoh-navi.com/wp/wp-content/uploads/2016/05/iiyuhuri.jpg
END:VEVENT
BEGIN:VEVENT
DTSTART;VALUE=DATE:20160508
DTEND;VALUE=DATE:20160509
DTSTAMP:20260421T203559
CREATED:20160506T011349Z
LAST-MODIFIED:20160530T024627Z
UID:12119-1462665600-1462751999@www.kenoh-navi.com
SUMMARY:~三条マルシェ~ごった市＠ホコテン 5月8日開催♪
DESCRIPTION:　\n※画像クリック、タップで拡大できます。 \n　\nツイッターもあります♪⇒https://twitter.com/SanjoMarche
URL:https://www.kenoh-navi.com/event/sanzyoumarusye_5_8/
LOCATION:中央商店街~三条別院~本寺小路\, 三条市本町1-57\, 〒955-0071
ATTACH;FMTTYPE=image/jpeg:https://www.kenoh-navi.com/wp/wp-content/uploads/2016/05/sanzyoumarusye-1.jpg
END:VEVENT
BEGIN:VEVENT
DTSTART;VALUE=DATE:20160508
DTEND;VALUE=DATE:20160509
DTSTAMP:20260421T203559
CREATED:20160418T054931Z
LAST-MODIFIED:20160421T023658Z
UID:13383-1462665600-1462751999@www.kenoh-navi.com
SUMMARY:第40回白藤茶会を開催します(5月8日 午前１０時～午後４時)
DESCRIPTION:美しく咲き誇る白藤を眺めながら、ゆったりとした時間を過ごしてみませんか。 \n日時：5月8日(日)　AM 10:00 ～ PM 4:00\n会場：安了寺\n主催者：燕市教育委員会／燕茶道友の会\nお問い合わせ：中央公民館(総合文化センター内) TEL: 0256-63-7001 \n※事前に茶席券をご購入ください。なお、茶席券には限りがありますので、お早めにお求めください。\n茶席券料金：700円\n取扱い場所：中央公民館(5月7日(土)まで)、吉田公民館(5月5日(木)まで)、分水公民館(5月5日(木)まで) \n　\n↓↓ 県央なび内：八王寺の白藤 ↓↓\nhttp://www.kenoh-navi.com/maparea/map_tsubame/anryoujiooshirohuji/
URL:https://www.kenoh-navi.com/event/shirohujichakai2016/
LOCATION:安了寺\, 〒959-1264\, 新潟県燕市八王寺962
ATTACH;FMTTYPE=image/jpeg:https://www.kenoh-navi.com/wp/wp-content/uploads/2016/04/shirohujichakai2016.jpg
END:VEVENT
BEGIN:VEVENT
DTSTART;VALUE=DATE:20160507
DTEND;VALUE=DATE:20160508
DTSTAMP:20260421T203559
CREATED:20160318T220006Z
LAST-MODIFIED:20160319T010958Z
UID:12046-1462579200-1462665599@www.kenoh-navi.com
SUMMARY:三条城跡巡り(5月7日午前9時30分～11時30分)
DESCRIPTION:400年前の1616年、市橋長勝が41\,300石で三条藩主になった時に築城され、7年後に廃藩となった城跡です。\n本丸跡や廃藩後に村上藩領となった陣屋跡、明治20年代まで存在していた八幡堀跡などを巡ります。 \n \n日時：5月7日(土) AM 9:30 ～ AM 11:30\n受付開始：4月21日\n参加費：200円\n定員：10人(最少催行人数:1人)\n駐車場：10台(無料)\n詳細情報：http://www.tsubasan-aruki.jp/event.php?tcd=576 \nお問い合わせ・電話予約：TEL 0256-34-7310 （燕三条駅観光物産センター「燕三条Wing」）
URL:https://www.kenoh-navi.com/event/machiaruki-shiroato/
LOCATION:三条市歴史民俗産業資料館\, 新潟県三条市本町３丁目１−４ 
ATTACH;FMTTYPE=image/jpeg:https://www.kenoh-navi.com/wp/wp-content/uploads/2016/03/machiaruki2016-1101.jpg
END:VEVENT
BEGIN:VEVENT
DTSTART;TZID=Asia/Tokyo:20160505T103000
DTEND;TZID=Asia/Tokyo:20160505T150000
DTSTAMP:20260421T203559
CREATED:20160419T051602Z
LAST-MODIFIED:20160502T094157Z
UID:13458-1462444200-1462460400@www.kenoh-navi.com
SUMMARY:第2回 五十嵐川芝桜まつり
DESCRIPTION:五十嵐川と芝桜が咲き誇る中、五十嵐川の美しい景観と芝桜を愛でて楽しむ\n第2回 五十嵐川芝桜まつりを開催!\n　\n豚汁コーナー：11:20~/14:00~(なくなり次第終了)\n神明宮天照会「神輿」：14:00宮出し(4月29日のみ)\n子供向けゲームコーナー：1回100円\n凧揚げ用凧販売：300円(小学生対象)\n飲食店屋台出店があります。(お酒類の販売有)\n※雨天の場合5月5日になります。 \n★開催地はこちら♪★
URL:https://www.kenoh-navi.com/event/ikarasigawasibazakuramaturi/
LOCATION:一新橋~昭栄大橋 右岸堤防
ATTACH;FMTTYPE=image/jpeg:https://www.kenoh-navi.com/wp/wp-content/uploads/2016/04/siba.jpg
END:VEVENT
BEGIN:VEVENT
DTSTART;VALUE=DATE:20160505
DTEND;VALUE=DATE:20160506
DTSTAMP:20260421T203559
CREATED:20160422T005358Z
LAST-MODIFIED:20160502T030516Z
UID:13597-1462406400-1462492799@www.kenoh-navi.com
SUMMARY:木の葉の箸置きづくり
DESCRIPTION:銅板をたたいて加工し、木の葉をモチーフにした箸置きを作ります。 \n■日　時：5月5日(木･祝) 1回目 13:00~14:00／2回目 14:30~15:30\n■参加費：500円\n■定　員：各回 6名 お電話にてお申込みください。※小学3年生以下は保護者同伴\n■お申込み･お問合せ：燕三条駅観光物産センター ☎0256-34-7310
URL:https://www.kenoh-navi.com/event/kinohanohasiokidukuri/
LOCATION:燕三条駅観光物産センター 燕三条Wing(JR燕三条駅構内2F)\, 三条市下須頃497\, 〒955-0093
ATTACH;FMTTYPE=image/jpeg:https://www.kenoh-navi.com/wp/wp-content/uploads/2016/04/fc9dedcf8ae5cfcfae9087e878cadf0a1-300x287-1.jpg
END:VEVENT
BEGIN:VEVENT
DTSTART;VALUE=DATE:20160504
DTEND;VALUE=DATE:20160506
DTSTAMP:20260421T203559
CREATED:20160402T042657Z
LAST-MODIFIED:20160411T030040Z
UID:12894-1462320000-1462492799@www.kenoh-navi.com
SUMMARY:第51回日本鶏品評会を開催します(5月4日～5月5日)
DESCRIPTION:国の天然記念物に指定されている純粋な日本鶏の保護と育成を目的に、当日は会員から持ち寄られた愛鶏が出品され、その姿の美しさや鳴き声を競い合います。\nこの品評会に併せて長鳴鶏の鳴き合わせ会も、４日の午後と５日の午前に催されます。 \n日本鶏品評会 日程\n日時：5月4日(水) ～ 5月5日(木)\n会場：弥彦神社境内　鹿苑特設会場 \n長鳴鶏の鳴き合わせ会 日程\n日時：5月4日(水) 午後  ～ 5月5日(木) 午前\n会場：弥彦神社境内　鹿苑特設会場
URL:https://www.kenoh-navi.com/event/niwatori2016/
LOCATION:弥彦神社\, 西蒲原郡弥彦村弥彦2887-2\, 〒959-0323
ATTACH;FMTTYPE=image/jpeg:https://www.kenoh-navi.com/wp/wp-content/uploads/2016/04/niwatori2016.jpg
END:VEVENT
END:VCALENDAR