BEGIN:VCALENDAR
VERSION:2.0
PRODID:-//新潟県央なび - 燕市・三条市・加茂市・弥彦村の店舗・施設案内 - ECPv6.0.6.2//NONSGML v1.0//EN
CALSCALE:GREGORIAN
METHOD:PUBLISH
X-WR-CALNAME:新潟県央なび - 燕市・三条市・加茂市・弥彦村の店舗・施設案内
X-ORIGINAL-URL:https://www.kenoh-navi.com
X-WR-CALDESC:新潟県央なび - 燕市・三条市・加茂市・弥彦村の店舗・施設案内 のイベント
REFRESH-INTERVAL;VALUE=DURATION:PT1H
X-Robots-Tag:noindex
X-PUBLISHED-TTL:PT1H
BEGIN:VTIMEZONE
TZID:Asia/Tokyo
BEGIN:STANDARD
TZOFFSETFROM:+0900
TZOFFSETTO:+0900
TZNAME:JST
DTSTART:20160101T000000
END:STANDARD
TZID:Asia/Chita
BEGIN:STANDARD
TZOFFSETFROM:+0800
TZOFFSETTO:+0900
TZNAME:+09
DTSTART:20160326T180000
END:STANDARD
END:VTIMEZONE
BEGIN:VEVENT
DTSTART;TZID=Asia/Tokyo:20160430T073000
DTEND;TZID=Asia/Tokyo:20160430T153000
DTSTAMP:20260423T065924
CREATED:20160427T050801Z
LAST-MODIFIED:20160428T031014Z
UID:13953-1462001400-1462030200@www.kenoh-navi.com
SUMMARY:燕市大曲河川公園「花絵プロジェクト」
DESCRIPTION:チューリップの花絵作りに参加してみませんか？\n\nバスに乗って、午前中にチューリップの花を摘みます。\n午後は、燕へ戻って昼食後、各会場で花を使ったアート作りをいたします。 \n集合場所：燕市交通公園管理棟(少雨決行)\n会　場：燕市大曲河川公園・交通公園　他・・・\n参加費：500円 ※当日徴収します。(昼食代及び保険料) \nぜひご家族で当日、交通公園にお集まりください!
URL:https://www.kenoh-navi.com/event/tubamesioomagarikasenkouenhanaepurozyekuto/
LOCATION:燕市大曲河川公園・交通公園　他・・・\, 燕市大曲3375\, 〒959-1263
ATTACH;FMTTYPE=image/jpeg:https://www.kenoh-navi.com/wp/wp-content/uploads/2016/04/109_Picture1.jpg
END:VEVENT
BEGIN:VEVENT
DTSTART;VALUE=DATE:20160429
DTEND;VALUE=DATE:20160509
DTSTAMP:20260423T065924
CREATED:20160506T032513Z
LAST-MODIFIED:20160531T090023Z
UID:14242-1461888000-1462751999@www.kenoh-navi.com
SUMMARY:いい湯らてい「ゴールデンウィークはイベントいっぱい!」
DESCRIPTION:★カラフル金魚風呂(4/29~5/8)\n露天替り湯にカラフルな金魚がいっぱい! \n★こども縁日(4/29~5/5 11:00~18:00)\n1回100円で縁日が遊べ、得点により景品がもらえます! \n★菖蒲湯(5/5)\n露天替り湯に菖蒲を浮かべます♪ \n★母の日カーネーション風呂(5/8)\n露天替り湯にカーネーションを浮かべます♪ \n★野菜市山菜まつり＆フリーマーケット(5/8 10:30~15:30)\n野菜市では旬の山菜を多く取り揃え、芝生広場ではフリーマーケットを開催！ \n↓↓県央なび内：いい湯らてい↓↓\nhttp://www.kenoh-navi.com/maparea/map_sanjo/yagigahanaonsen/
URL:https://www.kenoh-navi.com/event/iiyurateigo-rudenuxi-ku/
LOCATION:いい湯らてい\, 三条市南五百川16番地1\, 〒955-0128
ATTACH;FMTTYPE=image/jpeg:https://www.kenoh-navi.com/wp/wp-content/uploads/2016/05/iiyugw.jpg
END:VEVENT
BEGIN:VEVENT
DTSTART;VALUE=DATE:20160429
DTEND;VALUE=DATE:20160506
DTSTAMP:20260423T065924
CREATED:20160426T025059Z
LAST-MODIFIED:20160428T073344Z
UID:13385-1461888000-1462492799@www.kenoh-navi.com
SUMMARY:今年も「燕三条じばさんGWフェア」開催します♪(4月29日～5月5日)
DESCRIPTION:恒例の「じばさんＧＷフェア」を開催します！ \n　\n↑↑ 昨年の様子です。↑↑\n実演販売／お楽しみ抽選会／屋台コーナー／ちびっこコーナーなど楽しいイベント盛りだくさん★また、子供から大人まで楽しめる体験講座もあります。母の日・父の日は手作りプレゼントを贈ってはいかがでしょうか。\n↓↓　詳細はこちら　↓↓\n　 \n開催期日：4月29日(金)～5月5日(木)\n開催時間：AM 9:30 ～ PM 5:30\n会場：燕三条地場産センター メッセピア 1F交流サロン
URL:https://www.kenoh-navi.com/event/jibasan-gw-fair2016/
LOCATION:燕三条地場産業振興センター\, 三条市須頃1丁目17\, 〒955-0092
ATTACH;FMTTYPE=image/jpeg:https://www.kenoh-navi.com/wp/wp-content/uploads/2016/04/gw_fair_2016.jpg
END:VEVENT
BEGIN:VEVENT
DTSTART;VALUE=DATE:20160429
DTEND;VALUE=DATE:20160506
DTSTAMP:20260423T065924
CREATED:20160418T053609Z
LAST-MODIFIED:20160422T001835Z
UID:13541-1461888000-1462492799@www.kenoh-navi.com
SUMMARY:道の駅スタンプラリーを開催します♪(4月29日～5月5日)
DESCRIPTION:６つの道の駅を巡るスタンプラリーを開催します。\n４ヶ所以上の道の駅を巡って、当センターにゴールすると景品が貰えます！ \n期間：４月29日(金)～５月５日(木)\n景品引き換え時間：１０時～１６時\n主催・お問い合わせ：道の駅 燕三条地場産センター　物産観光課課(0256-32-2311)
URL:https://www.kenoh-navi.com/event/michinoeki-stamprally/
ATTACH;FMTTYPE=image/jpeg:https://www.kenoh-navi.com/wp/wp-content/uploads/2016/04/stamprally-1.jpg
END:VEVENT
BEGIN:VEVENT
DTSTART;VALUE=DATE:20160429
DTEND;VALUE=DATE:20160506
DTSTAMP:20260423T065924
CREATED:20160411T005642Z
LAST-MODIFIED:20160411T005725Z
UID:12897-1461888000-1462492799@www.kenoh-navi.com
SUMMARY:第31回 彌彦神社奉納 盆栽展を開催します
DESCRIPTION:日本盆栽協会弥彦支部会員の日頃丹精こめて育てられた銘品が厳選され展示されます。\n神社社殿と自然景観とに相まった盆栽芸術の素晴らしさをご堪能ください。 \n期間：4月29日(金) ～ 5月5日(木)\n会場：彌彦神社境内
URL:https://www.kenoh-navi.com/event/bonsaiten2016/
LOCATION:弥彦神社\, 西蒲原郡弥彦村弥彦2887-2\, 〒959-0323
ATTACH;FMTTYPE=image/jpeg:https://www.kenoh-navi.com/wp/wp-content/uploads/2016/04/bonsai.jpg
END:VEVENT
BEGIN:VEVENT
DTSTART;VALUE=DATE:20160429
DTEND;VALUE=DATE:20160506
DTSTAMP:20260423T065924
CREATED:20160401T054814Z
LAST-MODIFIED:20160502T071526Z
UID:12659-1461888000-1462492799@www.kenoh-navi.com
SUMMARY:牛乳パックでステキなこいのぼりを作りましょう♪ 5月5日まで 午前10時~午後4時
DESCRIPTION:児童館こいのぼりがいっぱいプロジェクト～牛乳パックでこいのぼりを作ろう～\n\n期間中、全国の児童館でこいのぼりの掲揚や共通ロゴを掲示する「児童館こいのぼりがいっぱいプロジェクト」の一環として、画像のような牛乳パックのこいのぼり作りを行います。どなたでも自由に作ることができます！ぜひご参加ください！ \n※材料がなくなり次第終了です。\n \n日時：4月29日(金) ～ 5月5日(木)　AM 10:00 ～ PM 4:00\n会場：こどもの森　遊の広場\n参加費：無料\n対象：どなたでも
URL:https://www.kenoh-navi.com/event/koinobori/
LOCATION:児童研修館「こどもの森」\, 〒959‐1263\, 新潟県燕市大曲3355
ATTACH;FMTTYPE=image/jpeg:https://www.kenoh-navi.com/wp/wp-content/uploads/2016/03/koinobori.jpg
END:VEVENT
BEGIN:VEVENT
DTSTART;VALUE=DATE:20160429
DTEND;VALUE=DATE:20160430
DTSTAMP:20260423T065924
CREATED:20160408T030103Z
LAST-MODIFIED:20160411T052250Z
UID:13042-1461888000-1461974399@www.kenoh-navi.com
SUMMARY:第27回燕マラソン大会が開催されます(４月２９日午前8時30分～)
DESCRIPTION:『市民の健康づくりの一環としてマラソン大会を開催し、体力の保持増進を図るとともに、燕市の陸上競技の普及とレベルアップを図る』を趣旨として開催される燕マラソン大会が、今年も開催されます。 \n日時：4月29日(金)　AM 8:30　開会式\n会場：スポーツランド燕体育館\n主催者：燕市／一般財団法人燕市体育協会\nお問い合わせ：燕マラソン大会事務局(TEL:0256-64-3091) \n部門とスタート時間 \n燕マラソン大会コース図
URL:https://www.kenoh-navi.com/event/tusbame-marathon2016/
LOCATION:スポーツランド燕体育館\, 燕市小牧837番地1号
ATTACH;FMTTYPE=image/jpeg:https://www.kenoh-navi.com/wp/wp-content/uploads/2016/04/tsubame-marathon-2016-ichach.jpg
END:VEVENT
BEGIN:VEVENT
DTSTART;TZID=Asia/Chita:20160424T094500
DTEND;TZID=Asia/Chita:20160424T094500
DTSTAMP:20260423T065924
CREATED:20160408T005323Z
LAST-MODIFIED:20160531T090223Z
UID:13119-1461491100-1461491100@www.kenoh-navi.com
SUMMARY:道の駅 漢学の里 しただ 「3周年祭」開催!
DESCRIPTION:リニューアルオープンして3年。\nお客様へ感謝の気持ちを込めて「3周年祭」開催!\n\n9:00~　 しただマルシェ&フリーマーケット\n9:00~　 やぎとふれあいコーナー\n9:30~　 レンタサイクルツアー(しただ郷自然くらぶ主催)\n10:00~　石月誠人氏によるピアノの演奏(農家レストランで開催)10:35終了予定\n10:00~　出張包丁研ぎ（包丁1本400円　出刃包丁、刺身包丁は700円）\nその他 盛りだくさんのイベントを用意してお待ちしております! 是非お越しください♪  \n★農家レストラン庭月庵悟空にて食事利用者、農産物直売所　彩遊記で1\,000円以上買われた方にいい湯らてい割引券配布いたします♪ \n↓↓県央なび内：道の駅 漢学の里 しただ↓↓\nhttp://www.kenoh-navi.com/maparea/map_sanjo/mitinoekikanngakunosatositada/
URL:https://www.kenoh-navi.com/event/mitinoekikangakunosatositada3syuunensai/
LOCATION:リサーチコア 7F\, 三条市須頃1丁目7F　マルチメディアホール
ATTACH;FMTTYPE=image/jpeg:https://www.kenoh-navi.com/wp/wp-content/uploads/2015/07/image37-e1470277741203.jpg
END:VEVENT
BEGIN:VEVENT
DTSTART;VALUE=DATE:20160424
DTEND;VALUE=DATE:20160425
DTSTAMP:20260423T065924
CREATED:20160329T023129Z
LAST-MODIFIED:20160406T023800Z
UID:12721-1461456000-1461542399@www.kenoh-navi.com
SUMMARY:お子さんと「いわむろや誕生祭」に出かけませんか♪(4月24日 午前10時～午後4時)
DESCRIPTION:お楽しみイベントいっぱいの「いわむろや誕生祭」へ、ぜひお越しください。 \n日程：４月２４日(日)　AM 10:00 ～ PM 4:00\n参加費：無料
URL:https://www.kenoh-navi.com/event/iwamuroya_birthday/
LOCATION:いわむろや\, 新潟市西蒲区岩室温泉96番地1\, 〒953-0104 
ORGANIZER;CN="%E3%81%84%E3%82%8F%E3%82%80%E3%82%8D%E3%82%84":MAILTO:mail@iwamuro.info
END:VEVENT
BEGIN:VEVENT
DTSTART;VALUE=DATE:20160421
DTEND;VALUE=DATE:20160422
DTSTAMP:20260423T065924
CREATED:20160404T040755Z
LAST-MODIFIED:20160404T040755Z
UID:12662-1461196800-1461283199@www.kenoh-navi.com
SUMMARY:ふんわりカステラを作りませんか♪(４月2１日午前10時30分～1１時45分)
DESCRIPTION:森の手しごと「こつこつ」～ぐりとぐらのカステラ作り～\n\nフライパンを使って「ぐりとぐら」の絵本に出てくるようなふんわりカステラを作ります。出来たてホカホカの素朴で美味しいカステラが食べられます。\n焼き上がりを待つ時間に、ぐりとぐらのフェルトバッチも作ります。（画像はバッチのサンプルです） \n日程：4月21日(木)　AM 10:30 ～ AM 11:45\n会場：こどもの森　研修室\n参加費：500円\n対象：子育て中の方どなたでもＯＫ\n定員：10名\n申込開始：4月7日(木)\n※ 初日は来館者のみ受付。定員に達しない場合翌日より電話受付可。
URL:https://www.kenoh-navi.com/event/castella/
LOCATION:児童研修館「こどもの森」\, 〒959‐1263\, 新潟県燕市大曲3355
ATTACH;FMTTYPE=image/jpeg:https://www.kenoh-navi.com/wp/wp-content/uploads/2016/04/guritogura.jpg
END:VEVENT
BEGIN:VEVENT
DTSTART;VALUE=DATE:20160418
DTEND;VALUE=DATE:20160419
DTSTAMP:20260423T065924
CREATED:20160402T052917Z
LAST-MODIFIED:20160411T005556Z
UID:12892-1460937600-1461023999@www.kenoh-navi.com
SUMMARY:国重要無形民族文化財、大々神楽全13曲が奉奏されます(4月18日)
DESCRIPTION:「大々神楽」は昭和53年5月22日に国の重要無形民俗文化財に指定されました。\n全13曲からなり、春の期間中(3月18日～6月)と秋の期間中(9月～10月)、毎週土曜日の午後2時から1～2曲ずつ奉奏されます。\n姫神様のご例祭日に当たる4月18日は、一年で唯一全13曲が奉奏される日で、当日は大祭に引き続き舞殿で奉奏されます。 \n日時：4月18日 AM 10:00 ～ PM 2:30\n場所：弥彦神社 舞殿
URL:https://www.kenoh-navi.com/event/daidaikagura2016/
LOCATION:弥彦神社\, 西蒲原郡弥彦村弥彦2887-2\, 〒959-0323
ATTACH;FMTTYPE=image/jpeg:https://www.kenoh-navi.com/wp/wp-content/uploads/2016/04/daidaikagura.jpg
END:VEVENT
BEGIN:VEVENT
DTSTART;TZID=Asia/Tokyo:20160417T100000
DTEND;TZID=Asia/Tokyo:20160417T160000
DTSTAMP:20260423T065924
CREATED:20160416T084812Z
LAST-MODIFIED:20160416T084906Z
UID:13503-1460887200-1460908800@www.kenoh-navi.com
SUMMARY:第74回 分水おいらん道中(4月17日)
DESCRIPTION:
URL:https://www.kenoh-navi.com/event/%e7%ac%ac74%e5%9b%9e-%e5%88%86%e6%b0%b4%e3%81%8a%e3%81%84%e3%82%89%e3%82%93%e9%81%93%e4%b8%ad/
LOCATION:地蔵堂本町通り  大河津分水桜並木
ATTACH;FMTTYPE=image/jpeg:https://www.kenoh-navi.com/wp/wp-content/uploads/2016/04/a47aa4725bfbddcae24d363f645169db.jpg
END:VEVENT
BEGIN:VEVENT
DTSTART;VALUE=DATE:20160417
DTEND;VALUE=DATE:20160418
DTSTAMP:20260423T065924
CREATED:20160408T084504Z
LAST-MODIFIED:20160411T005229Z
UID:12786-1460851200-1460937599@www.kenoh-navi.com
SUMMARY:弥彦湯かけまつり、今年は4月17日(日)開催です♪
DESCRIPTION:　 \n湯神社から御神湯をいただき奉納する春の神事「湯かけまつり」。\n幾千年の昔から湧く霊泉の御神湯を湯曳き車に乗せ、青笹に含ませた御神湯で人々を払いながら弥彦駅から神社までを練り歩きます。\n勇壮な木遣りの掛け声、咲き誇る満開の桜に温泉街が包まれる中、無病息災、開運厄除、商売繁盛、学業成就などを祈念します。\n湯曳き車はどなたでも気軽に引くことができます。 \nまた、同日AM 11:00よりヤホールで「桜まつり」が開催されます。アイドルあり、よさこいあり、飲食コーナーありです♪\n春やひこの思い出に参加してみませんか。 \n行事日程\nAM 11:30　 祭典（湯神社）\nPM 0:30　  参加者集合（弥彦駅前）\nPM 0:45 　 出発式・芸妓連手踊り（弥彦駅前）\nPM 1:00　  湯曳き車・行列出発（町内巡行）\nPM 3:30　  参拝（彌彦神社拝殿）
URL:https://www.kenoh-navi.com/event/yukakematsuri/
LOCATION:弥彦駅\, 弥彦駅
ATTACH;FMTTYPE=image/jpeg:https://www.kenoh-navi.com/wp/wp-content/uploads/2016/03/yukake01.jpg
END:VEVENT
BEGIN:VEVENT
DTSTART;VALUE=DATE:20160417
DTEND;VALUE=DATE:20160418
DTSTAMP:20260423T065924
CREATED:20160402T020605Z
LAST-MODIFIED:20160411T025923Z
UID:12890-1460851200-1460937599@www.kenoh-navi.com
SUMMARY:弥彦山、山開きです♪(4月17日午前8時受付開始)
DESCRIPTION:湯かけまつり当日は、弥彦山も山開きとなります。隣の山岳会並びに一般参加も大歓迎です！ \n行事日程\nAM 8:00　 受付開始\nAM 8:30　 御祓い(神社拝殿前)\nAM 8:45　 テープカット・登山開始(登山道入口)\nAM 10:30　御祓い（山頂・御神廟） \n参加費：無料\n集合場所：弥彦神社拝殿前
URL:https://www.kenoh-navi.com/event/yahikoyamabiraki2016/
LOCATION:弥彦山\, 弥彦山
ATTACH;FMTTYPE=image/jpeg:https://www.kenoh-navi.com/wp/wp-content/uploads/2016/04/yahikoyama.jpg
END:VEVENT
BEGIN:VEVENT
DTSTART;VALUE=DATE:20160416
DTEND;VALUE=DATE:20160417
DTSTAMP:20260423T065924
CREATED:20160318T220057Z
LAST-MODIFIED:20160319T010926Z
UID:11985-1460764800-1460851199@www.kenoh-navi.com
SUMMARY:かわいい赤ちゃんと触れ合ってみませんか♪(4月16日 AM 10:00 ～ 11:30)
DESCRIPTION:・赤ちゃんと触れ合うことで、命の重みや子育ての大切さ、子を思う親の気持ちなど、たくさんのことを感じてほしい\n・子育て世代の方々が、日々の子育てについて考えたり、わが子の可愛らしさを再確認してほしい \nそんな想いを込めて「赤ちゃんと遊ぼう」を開催致します。\n当日は職員をはじめ、専門のスタッフがおりますので、安心してご参加ください。 \n★ 当日の予定 ★\n１：自己紹介（赤ちゃんと親御さん、中高生の方、学生さん、ボランティアの方々）\n２：交流会（赤ちゃんと遊びます）\n３：中高生、学生さんから手遊び、絵本などの読みきかせなど\n４：おやつタイム\n終了 \n参加ご希望の方は、白山町児童館までご連絡ください。 \n日時：４月１６日（日）AM 10:00 ～ 11:30\n場所：白山町児童館\n参加費：無料\n電話：0256-64-5053(月～金曜日：PM 1:00 ～ PM 5:15、土曜日：AM 8:30 ～ 正午 / PM 1:00 ～ PM 5:15)
URL:https://www.kenoh-navi.com/event/akachan-to-asobo/
LOCATION:白山町児童館\, 白山町二丁目3番13号\, 燕市\, 959-1251
ATTACH;FMTTYPE=image/jpeg:https://www.kenoh-navi.com/wp/wp-content/uploads/2016/03/akachan-to-asobo.jpg
END:VEVENT
BEGIN:VEVENT
DTSTART;VALUE=DATE:20160416
DTEND;VALUE=DATE:20160417
DTSTAMP:20260423T065924
CREATED:20160316T013507Z
LAST-MODIFIED:20160316T013507Z
UID:12110-1460764800-1460851199@www.kenoh-navi.com
SUMMARY:シルクフラワートピアリー
DESCRIPTION:生花のような質感と春らしい華やかな色合いを持つシルクフラワーを使って、自分だけのトピアリーを作りませんか？\n直射日光に強く水洗いできますよ♪ \n時間：\n1回目/10:30~12:00\n2回目/13:30～15:00\n定員：各回8名(先着順)
URL:https://www.kenoh-navi.com/event/sirukuhurawa-topiari/
LOCATION:燕三条駅観光物産センター 燕三条Wing(JR燕三条駅構内2F)\, 三条市下須頃497\, 〒955-0093
ATTACH;FMTTYPE=image/jpeg:https://www.kenoh-navi.com/wp/wp-content/uploads/2016/03/sirukuhurawa-e1458090859311.jpg
END:VEVENT
BEGIN:VEVENT
DTSTART;VALUE=DATE:20160410
DTEND;VALUE=DATE:20160411
DTSTAMP:20260423T065924
CREATED:20160329T051551Z
LAST-MODIFIED:20160616T011945Z
UID:12113-1460246400-1460332799@www.kenoh-navi.com
SUMMARY:~三条マルシェ~ごった市＠ホコテン 4月 10日開催♪
DESCRIPTION:三条マルシェでは、4月のお誕生月の来場者の方に「リストバンド」を本部で配布します♪\nそのリストバンドをしてお店を回ると素敵な事がありますよ☆\nぜひぜひ、三条マルシェに遊びに来てね～＼(^o^)／ \n　\n※2015年4月の開催時の写真です。\nツイッターもあります♪⇒https://twitter.com/SanjoMarche
URL:https://www.kenoh-navi.com/event/sanzyoumarusye_4_10/
LOCATION:三条別院~本寺小路~昭栄通り商店街\, 三条市本町1-57\, 〒955-0071
ATTACH;FMTTYPE=image/jpeg:https://www.kenoh-navi.com/wp/wp-content/uploads/2016/03/marusye410omo-724x1024-1.jpg
END:VEVENT
BEGIN:VEVENT
DTSTART;VALUE=DATE:20160410
DTEND;VALUE=DATE:20160411
DTSTAMP:20260423T065924
CREATED:20160325T061726Z
LAST-MODIFIED:20160328T064454Z
UID:12450-1460246400-1460332799@www.kenoh-navi.com
SUMMARY:燕市交通公園＆こどもの森 さくらフェス~みんなで作る春爛漫＠こどもの森（4月10日(日) 午前10時30分～午後3時）
DESCRIPTION:昨年の「さくらフェス」の様子 \n今年も交通公園・こどもの森で「さくらフェス」を開催します！\n美しい桜、お店、お楽しみイベント満載のさくらフェスに、ぜひお越しください♪\n\n🌸ステージイベント🌸\n１０：３０～オープニング　★ダンス・よさこい（ＣＬＥＡＲ　ＳＫＹ/Ａ．Ｃ．Ｄ．Ｐ/桜爛）\n１４：３０～エンディング　★中越ひかりママ楽団による吹奏楽 \n🌸みんなで作ろう！さくらの木🌸\nみんなで、さくらの花を咲かせましょう！ \n🌸ワークショップ(AM 10：30 ～ PM 2:30) 🌸\n※ブースにより開催時間が違います。詳しくはお問い合わせください。 \n\n\nさくらバッグを作ろう！\n２００円　限定８０名\n\n\nつくってあそぼう！～はっしゃだいでじゃんぷ～\n１００円\n\n\n親子deハンカチをかわいくしちゃおっ☆\n５００円\n\n\nオリジナルロゼットりぼんを作ろう！\n３００円\n\n\nチクチク！あずま袋を作ろう！\n１００円\n\n\nフットセラピー\n３００円\n\n\nおもちゃの病院\n材料費実費\n\n\n日程：４月１０日(日)　AM 10:30 ～ PM 3:00
URL:https://www.kenoh-navi.com/event/sakura-fes/
LOCATION:児童研修館「こどもの森」\, 〒959‐1263\, 新潟県燕市大曲3355
ATTACH;FMTTYPE=image/jpeg:https://www.kenoh-navi.com/wp/wp-content/uploads/2016/03/sakurafes2015.jpg
END:VEVENT
BEGIN:VEVENT
DTSTART;VALUE=DATE:20160409
DTEND;VALUE=DATE:20160512
DTSTAMP:20260423T065924
CREATED:20160408T035428Z
LAST-MODIFIED:20160408T041923Z
UID:13128-1460160000-1463011199@www.kenoh-navi.com
SUMMARY:加茂川を泳ぐ鯉のぼり
DESCRIPTION:　\n \n★加茂川に約5000匹の鯉のぼりが舞う春の風物詩★\n青空を泳ぐ色とりどりの鯉のぼりの姿が美しく、周辺にはチューリップも植えられ、休日にはレジャーシートを広げた家族連れで賑わいます。 \n期間：4月9日(土)~5月11日(水) \n【鯉のぼりを集めています】\nご自宅に眠っている鯉のぼりがありましたら、ぜひお譲りください。\nお譲りいただける場合は、市役所1階 商工観光課にお持ちいただくか、宅配便にてお送りください。\n(大変恐縮ですが、送料はご負担くださいますようお願いいたします。)
URL:https://www.kenoh-navi.com/event/kamogawawooyogukoinobori/
LOCATION:加茂川(葵橋～西宮橋の間)\, 新潟県加茂市本町６
ATTACH;FMTTYPE=image/jpeg:https://www.kenoh-navi.com/wp/wp-content/uploads/2016/04/kamokoi.jpg
ORGANIZER;CN="%E5%8A%A0%E8%8C%82%E5%B8%82%E5%95%86%E5%B7%A5%E8%A6%B3%E5%85%89%E8%AA%B2":MAILTO:syoko@city.kamo.niigata.jp
END:VEVENT
BEGIN:VEVENT
DTSTART;VALUE=DATE:20160409
DTEND;VALUE=DATE:20160410
DTSTAMP:20260423T065924
CREATED:20160317T220034Z
LAST-MODIFIED:20160317T062420Z
UID:12006-1460160000-1460246399@www.kenoh-navi.com
SUMMARY:先覚者たちの足跡を訪ねて(4月9日午前9時30分～11時30分)
DESCRIPTION:三条・上町で生まれた堤清六は、北洋漁業の開拓者としてカニ・鮭・ホタテの缶詰で有名な「ニチロ漁業」を興し、また、国政に身を投じ衆議院議員を2期つとめ水産行政の基礎を固めました。\nその後、昭和6年に永眠、寺町通り・極楽寺に眠っています。このような三条が生んだ先覚者の菩提寺を訪ね歩きます。\n\n日時：4月9日(土) AM 9:30 ～ AM 11:30\n受付開始：3月17日(木) 2016年03月17日\n参加費：500円(おやつ代込)\n定員：15人(最少催行人数:5人) \n駐車場：15台(無料)\n詳細情報http://www.tsubasan-aruki.jp/event.php?tcd=575\n \nお問い合わせ・電話予約：TEL 0256-34-7310 （燕三条駅観光物産センター「燕三条Wing」）
URL:https://www.kenoh-navi.com/event/machiaruki-senkusha/
LOCATION:三条市歴史民俗産業資料館\, 新潟県三条市本町３丁目１−４ 
ATTACH;FMTTYPE=image/jpeg:https://www.kenoh-navi.com/wp/wp-content/uploads/2016/03/machiaruki2016-1002.jpg
END:VEVENT
BEGIN:VEVENT
DTSTART;VALUE=DATE:20160408
DTEND;VALUE=DATE:20160507
DTSTAMP:20260423T065924
CREATED:20160411T013858Z
LAST-MODIFIED:20160507T004547Z
UID:13092-1460073600-1462579199@www.kenoh-navi.com
SUMMARY:フリーマーケットで出店してみませんか♪出店者募集中です（5月6日まで）
DESCRIPTION:※申込は終了しました。 \n毎回大好評のフリーマーケット♪\n遊休品や手づくり品、野菜等の農産物等あなたも出店してみませんか。 \n申込期限：5月6日(金)\n申込・お問い合わせ先：かんきょう庵 (TEL：0256-45-7040)
URL:https://www.kenoh-navi.com/event/furima-kankyouan-201605bosyu/
ATTACH;FMTTYPE=image/jpeg:https://www.kenoh-navi.com/wp/wp-content/uploads/2016/04/3acac837310a5530b55f9ec2a65aa394.jpg
END:VEVENT
BEGIN:VEVENT
DTSTART;VALUE=DATE:20160408
DTEND;VALUE=DATE:20160425
DTSTAMP:20260423T065924
CREATED:20160408T003433Z
LAST-MODIFIED:20160408T003433Z
UID:13032-1460073600-1461542399@www.kenoh-navi.com
SUMMARY:美しい夜桜と幻想的な水道の塔をお楽しみください🌸(4月8日～4月24日)
DESCRIPTION:燕の水道の塔を愛する会と燕市教育委員会では、中ノ口川堤防の桜のライトアップとあわせて、水道の塔をライトアップします。\n美しい夜桜とともに、幻想的な水道の塔をお楽しみください。 \n期間：4月8日(金)～4月24日(日)\n時間：PM 6:00 ～ PM 10:00\n場所：燕市文化総合文化センター駐車場\n主催者：燕の水道の塔を愛する会／燕市教育委員会\nお問い合わせ先：燕市教育委員会(TEL：0256-63-7002)
URL:https://www.kenoh-navi.com/event/suidounotou2016/
LOCATION:燕市総合文化センター\, 新潟県燕市水道町1丁目3-28\, 〒959-1262
ATTACH;FMTTYPE=image/jpeg:https://www.kenoh-navi.com/wp/wp-content/uploads/2016/04/suidounotou2016.jpg
END:VEVENT
BEGIN:VEVENT
DTSTART;VALUE=DATE:20160403
DTEND;VALUE=DATE:20160430
DTSTAMP:20260423T065924
CREATED:20160331T073308Z
LAST-MODIFIED:20160331T073308Z
UID:12793-1459641600-1461974399@www.kenoh-navi.com
SUMMARY:第50回 雪椿まつり
DESCRIPTION:　\n　　\n★毎年恒例! 加茂山公園の夜桜ライトアップ!\n★加茂山公園を舞台に多彩なイベントを開催いたします!\n17日(日)ではメインイベントである、加茂市の観光大使「ミス雪椿」を決定する「ミス雪椿コンテスト」や歌謡ショーなどが行われます。\n他にも、加茂山公園にはリス園や大型スライダーなどがありご家族で楽しめます!\n加茂山公園で、春のひとときをお楽しみください♪
URL:https://www.kenoh-navi.com/event/dai50kaiyukitubakimaturi/
LOCATION:加茂山公園\, 加茂山公園\, 〒959-1300
ATTACH;FMTTYPE=image/jpeg:https://www.kenoh-navi.com/wp/wp-content/uploads/2016/03/misuyukitubaki.jpg
END:VEVENT
BEGIN:VEVENT
DTSTART;VALUE=DATE:20160403
DTEND;VALUE=DATE:20160404
DTSTAMP:20260423T065924
CREATED:20160324T023302Z
LAST-MODIFIED:20160324T063820Z
UID:12452-1459641600-1459727999@www.kenoh-navi.com
SUMMARY:佐藤ひらりのスペシャルライブも行います♪（4月3日午後0時30分～）
DESCRIPTION:全盲のシンガーソングライター佐藤ひらりさん、ひらりさんのお母様、新潟県立月ケ丘特別支援学校の塩原校長先生をパネリストにお迎えして「愛と優しさ、思いやりの心」と題したパネルディスカッション＆スペシャルライブを行います。\n社会の中で悩む子供たちへ、このイベントを通じ、ハンディがある人々が精一杯がんばる姿を知ってもらい「愛と優しさ、思いやりの心」の大切さを考えてもらう一助となれば幸いです。\n\n　\n \n開催日：4月3日(日)\n開場：PM 0:30\n開園：PM 1:00\n会場：リサーチコア7F　マルチメディアホール\n入場料：無料\n主催：三条北ロータリークラブ
URL:https://www.kenoh-navi.com/event/hirari2016/
LOCATION:リサーチコア 7F\, 三条市須頃1丁目7F　マルチメディアホール
ATTACH;FMTTYPE=image/jpeg:https://www.kenoh-navi.com/wp/wp-content/uploads/2016/03/hirari2016.jpg
END:VEVENT
BEGIN:VEVENT
DTSTART;TZID=Asia/Tokyo:20160327T100000
DTEND;TZID=Asia/Tokyo:20160327T150000
DTSTAMP:20260423T065924
CREATED:20160216T063922Z
LAST-MODIFIED:20160216T063922Z
UID:10596-1459072800-1459090800@www.kenoh-navi.com
SUMMARY:「第10回フリーマーケットinかんきょう庵」 出店者募集！
DESCRIPTION:第10回フリーマーケットinかんきょう庵\n出店者募集中！\n\n\n申込〆切：3月3日(木)\n\n環酒の陣2016の詳細はこちら↓\nhttp://www.kenoh-navi.com/event/kanzakenozin2016/
URL:https://www.kenoh-navi.com/event/kankyouannfurima/
LOCATION:環境啓発施設「かんきょう庵」\, 環境啓発施設・かんきょう庵\, 〒959-1102
ATTACH;FMTTYPE=image/jpeg:https://www.kenoh-navi.com/wp/wp-content/uploads/2016/02/furima.jpg
END:VEVENT
BEGIN:VEVENT
DTSTART;TZID=Asia/Tokyo:20160327T100000
DTEND;TZID=Asia/Tokyo:20160327T140000
DTSTAMP:20260423T065924
CREATED:20160319T190603Z
LAST-MODIFIED:20160322T005831Z
UID:12313-1459072800-1459087200@www.kenoh-navi.com
SUMMARY:寺泊　食の陣
DESCRIPTION:☆アンコウの吊るし切り（午後１２時～）や、寺泊名物番屋汁（１００円）、海鮮丼や浜焼きラーメンなど、盛りだくさん！！一度ご来場ください！ ＼(^o^)／
URL:https://www.kenoh-navi.com/event/shokunojin/
LOCATION:寺泊体育館
ATTACH;FMTTYPE=image/jpeg:https://www.kenoh-navi.com/wp/wp-content/uploads/2016/03/5253b77cfd7112397be7c99eb63735b0.jpg
END:VEVENT
BEGIN:VEVENT
DTSTART;VALUE=DATE:20160326
DTEND;VALUE=DATE:20160328
DTSTAMP:20260423T065924
CREATED:20160318T072856Z
LAST-MODIFIED:20160323T010432Z
UID:12199-1458950400-1459123199@www.kenoh-navi.com
SUMMARY:県内10か所の道の駅が集合します♪(3月26日～27日)
DESCRIPTION:オープン翌日からの2日間「道の駅フェスタ」を開催します。\n期間中は県内10か所の道の駅が集合し、ご当地ならではの産品の販売と観光PRを行います。 \n \n★ 期間中イベント ★ \n\n道の駅オリジナルチタンタンブラーの販売\n3月26日(土) AM 11:00 PM 3:00　包丁研ぎ実演(吉田恒雄)\n3月27日（日）AM 11:00 PM 3:00　彫金実演販売(大岩信夫)\n\n\n日時：3月26日(土) AM 10:00 ～ PM 17:00、27日(日) AM 10:00 ～ PM 4:00\n会場：燕三条地場産センター1階交流サロン
URL:https://www.kenoh-navi.com/event/jibasan-michinoeki-festa/
LOCATION:燕三条地場産業振興センター\, 三条市須頃1丁目17\, 〒955-0092
ATTACH;FMTTYPE=image/jpeg:https://www.kenoh-navi.com/wp/wp-content/uploads/2016/03/michinoeki2.jpg
END:VEVENT
BEGIN:VEVENT
DTSTART;VALUE=DATE:20160325
DTEND;VALUE=DATE:20160326
DTSTAMP:20260423T065924
CREATED:20160318T071911Z
LAST-MODIFIED:20160318T071911Z
UID:12196-1458864000-1458950399@www.kenoh-navi.com
SUMMARY:燕三条地場産センターが「道の駅」として、新たなスタートを切ります！（3月25日午前10時～)
DESCRIPTION:３月２５日、「道の駅 燕三条地場産センター」として新たにスタートする燕三条地場振興センターのオープニングセレモニーを行います！ \nＥＶ充電ステーション、観光情報コーナー、24時間利用できる屋外トイレ等を備えました。\n\n \n \n皆様のご来場をお待ちしております！\n \n↓↓ 翌日から２日間開催！「道の駅フェスタ」詳細はこちらです ★↓↓\nhttp://www.kenoh-navi.com/event/jibasan-michinoeki-festa/ \n↓↓県央なび内：燕三条地場産業振興センター↓↓ \nhttp://www.kenoh-navi.com/news/tsubamesannjyoujibasanngyousinnkousennta/
URL:https://www.kenoh-navi.com/event/jibasan-michinoeki-open/
LOCATION:燕三条地場産業振興センター\, 三条市須頃1丁目17\, 〒955-0092
ATTACH;FMTTYPE=image/jpeg:https://www.kenoh-navi.com/wp/wp-content/uploads/2016/03/michinoeki-ichach.jpg
END:VEVENT
BEGIN:VEVENT
DTSTART;VALUE=DATE:20160322
DTEND;VALUE=DATE:20160323
DTSTAMP:20260423T065924
CREATED:20160309T011545Z
LAST-MODIFIED:20160315T071030Z
UID:11648-1458604800-1458691199@www.kenoh-navi.com
SUMMARY:参加費無料・コーヒーとスイーツ付★男と女のライフスタイルセミナー(3月22日午後1時30分～3時30分)
DESCRIPTION:参加費無料 ★ コーヒーとスイーツ付 ★ 保育ルームアリ \n「男」や「女」にとらわれないライフスタイルについて、様々な角度から触れてみませんか。\n第１回（２／２７）、第２回（３／６）に引き続き第３回目を開催致します。今回のみのご参加も大歓迎です。 \n日時：３月２２日(火) PM 1：30～ PM 3：30\n場所：男女共同参画センター（三条ものづくり学校内）\n講師：土田陽子さん（はっぴーず コミュ代表）、高井美弥子さん（ハッピーライフカフェ店主）\n定員：２０人\n参加費：無料\n申込期限：３月１４日（月）\nお申込・お問い合わせ先：三条市役所　市民窓口課　市民係
URL:https://www.kenoh-navi.com/event/lifestyle/
LOCATION:三条市男女共同参画センター\, 三条市桜木町12番38号（三条ものづくり学校内）\, 955-0844
ATTACH;FMTTYPE=image/jpeg:https://www.kenoh-navi.com/wp/wp-content/uploads/2016/03/sanjo_20160304-01.jpg
END:VEVENT
BEGIN:VEVENT
DTSTART;VALUE=DATE:20160320
DTEND;VALUE=DATE:20160321
DTSTAMP:20260423T065924
CREATED:20160317T020205Z
LAST-MODIFIED:20160317T020205Z
UID:12138-1458432000-1458518399@www.kenoh-navi.com
SUMMARY:平成28年度燕市成人式が開催されます（3月20日午後2時～）
DESCRIPTION:燕市では、新成人の門出を祝し、平成28年燕市成人式を下記のとおり挙行いたします。 \n日時：平成28年3月20日（日・祝）\n受付：PM 13:00 ～ PM 13:45\n開式：PM 14:00（式典、アトラクション）\n会場：燕三条地場産業振興センター・メッセピア\n対象：平成7年4月2日から平成8年4月1日までに生まれた方で、燕市に住んでいる方または以前燕市に住んでいたことのある方\nお問い合わせ先：教育委員会社会教育課（燕市総合文化センター内）\n\n　\n\n↑　昨年度の式の様子　↑
URL:https://www.kenoh-navi.com/event/tsubame-seijinshiki-2016/
LOCATION:燕三条地場産業振興センター\, 三条市須頃1丁目17\, 〒955-0092
ATTACH;FMTTYPE=image/jpeg:https://www.kenoh-navi.com/wp/wp-content/uploads/2016/03/ts210602-300x200-1.jpg
END:VEVENT
END:VCALENDAR