BEGIN:VCALENDAR
VERSION:2.0
PRODID:-//新潟県央なび - 燕市・三条市・加茂市・弥彦村の店舗・施設案内 - ECPv6.0.6.2//NONSGML v1.0//EN
CALSCALE:GREGORIAN
METHOD:PUBLISH
X-WR-CALNAME:新潟県央なび - 燕市・三条市・加茂市・弥彦村の店舗・施設案内
X-ORIGINAL-URL:https://www.kenoh-navi.com
X-WR-CALDESC:新潟県央なび - 燕市・三条市・加茂市・弥彦村の店舗・施設案内 のイベント
REFRESH-INTERVAL;VALUE=DURATION:PT1H
X-Robots-Tag:noindex
X-PUBLISHED-TTL:PT1H
BEGIN:VTIMEZONE
TZID:Asia/Tokyo
BEGIN:STANDARD
TZOFFSETFROM:+0900
TZOFFSETTO:+0900
TZNAME:JST
DTSTART:20150101T000000
END:STANDARD
END:VTIMEZONE
BEGIN:VEVENT
DTSTART;VALUE=DATE:20160319
DTEND;VALUE=DATE:20160322
DTSTAMP:20260422T052126
CREATED:20160222T035902Z
LAST-MODIFIED:20160222T045205Z
UID:10992-1458345600-1458604799@www.kenoh-navi.com
SUMMARY:第三回 -書創-綺羅書展
DESCRIPTION:　\n※2回目の展示会の様子です。\n　\n出品者各々のペースで学んでおり、作品というには未熟なものばかりですが、\nご高覧賜り、ご指導いただければ幸いに存じます。 \n入場無料\n※10:00~17:00(最終日16:00まで)
URL:https://www.kenoh-navi.com/event/kirasyoten/
LOCATION:三条東公民館\, 三条市興野1丁目13-70\, 〒955-0046
ATTACH;FMTTYPE=image/jpeg:https://www.kenoh-navi.com/wp/wp-content/uploads/2016/02/kirasyodou.jpg
END:VEVENT
BEGIN:VEVENT
DTSTART;VALUE=DATE:20160319
DTEND;VALUE=DATE:20160320
DTSTAMP:20260422T052126
CREATED:20160317T004908Z
LAST-MODIFIED:20160318T074318Z
UID:12142-1458345600-1458431999@www.kenoh-navi.com
SUMMARY:燕市合併10周年記念式典が開催されます(３月19日午前10時30分～)
DESCRIPTION:平成18年3月20日に、燕市、吉田町、分水町の1市2町が合併し、新「燕市」が誕生してから10周年を迎えます。これを記念して19日に燕市文化会館大ホールにて、合併10年記念式典が開催されます。 \n第２部では、演歌歌手であり燕市ＰＲ大使でもある上杉 香緒里さんによる記念コンサートが行われます。\n※ 第二部記念コンサートの入場には入場整理券が必要です。 \n\n　\n燕市文化会館、演歌歌手・燕PR大使の上杉 香緒里さん
URL:https://www.kenoh-navi.com/event/tsubame10th/
LOCATION:燕市文化会館\, 新潟県燕市水道町1丁目3-28\, 〒959-1262
ATTACH;FMTTYPE=image/jpeg:https://www.kenoh-navi.com/wp/wp-content/uploads/2016/03/tsubame10th01.jpg
END:VEVENT
BEGIN:VEVENT
DTSTART;VALUE=DATE:20160319
DTEND;VALUE=DATE:20160320
DTSTAMP:20260422T052126
CREATED:20160308T025354Z
LAST-MODIFIED:20160309T014955Z
UID:11385-1458345600-1458431999@www.kenoh-navi.com
SUMMARY:お昼を一緒に食べながら交流を深めませんか（3月19日午前11時～午後0時30分）
DESCRIPTION:地元の皆様へ日ごろの感謝を込めて・・・\n今年も「ありがとう感謝祭」を開催します！ \n子どもや地域の方々とお昼を一緒に食べながら交流を深めませんか。\n参加ご希望の方は白山町児童館まで、お気軽にお問合せください。 \n昨年のイベントの様子です。\n　 \n日時：３月１９日（土）　AM 11:00 ～ PM 0:30\n対象：児童館利用者\n定員：３０人\n参加費：３００円\n申込期間：３月１日（火）～１２日（土）
URL:https://www.kenoh-navi.com/event/thanks/
LOCATION:白山町児童館\, 白山町二丁目3番13号\, 燕市\, 959-1251
ATTACH;FMTTYPE=image/jpeg:https://www.kenoh-navi.com/wp/wp-content/uploads/2016/03/hakusan_kansya03-1024x768-1.jpg
END:VEVENT
BEGIN:VEVENT
DTSTART;VALUE=DATE:20160318
DTEND;VALUE=DATE:20160414
DTSTAMP:20260422T052126
CREATED:20160318T051055Z
LAST-MODIFIED:20160406T024002Z
UID:11975-1458259200-1460591999@www.kenoh-navi.com
SUMMARY:４月１３日まで！赤ちゃんモデルを募集します♪
DESCRIPTION:４月１６日に白山町児童館で行われるイベント、「あかちゃんとあそぼう！」に参加してくださる赤ちゃんモデルを募集します！ \n詳しくは、白山町児童館までお問い合わせください。 \n申込期限：４月１３日（水）\nお問い合わせ：白山町児童館（月～金曜日：PM 1:00 ～ PM 5:15、土曜日：AM 8:30 ～ 正午 / PM 1:00 ～ PM 5:15）\n電話：0256-64-5053
URL:https://www.kenoh-navi.com/event/akachan-model/
LOCATION:白山町児童館\, 白山町二丁目3番13号\, 燕市\, 959-1251
ATTACH;FMTTYPE=image/jpeg:https://www.kenoh-navi.com/wp/wp-content/uploads/2016/03/20160416-1.jpg
END:VEVENT
BEGIN:VEVENT
DTSTART;VALUE=DATE:20160313
DTEND;VALUE=DATE:20160314
DTSTAMP:20260422T052126
CREATED:20160223T043013Z
LAST-MODIFIED:20160330T025825Z
UID:11101-1457827200-1457913599@www.kenoh-navi.com
SUMMARY:ハンドメイドアクセサリー「イヤーカフ」作りませんか？
DESCRIPTION:　 \nイヤーカフの制作体験です。イヤーカフは、ピアスでもイヤリングでもない片耳だけのアクセサリーで、デザインの幅が広く、昨年からセレブの間でも注目を浴びています。ビーズを組み合わせて、自分だけのアクセサリーを作ってみませんか？
URL:https://www.kenoh-navi.com/event/handomeidoiyakafu/
LOCATION:燕三条駅観光物産センター 燕三条Wing(JR燕三条駅構内2F)\, 三条市下須頃497\, 〒955-0093
ATTACH;FMTTYPE=image/jpeg:https://www.kenoh-navi.com/wp/wp-content/uploads/2016/02/wingevent_imgs-0001.jpg
END:VEVENT
BEGIN:VEVENT
DTSTART;VALUE=DATE:20160313
DTEND;VALUE=DATE:20160314
DTSTAMP:20260422T052126
CREATED:20160216T063943Z
LAST-MODIFIED:20160307T201325Z
UID:10608-1457827200-1457913599@www.kenoh-navi.com
SUMMARY:使用済み油でキャンドルを作ってみませんか！（3月13日午前10時～11時30分）
DESCRIPTION:使用済み油を実際に精製してキャンドルを作ってみよう！\n\n対象：市内在住の小学生以上\n定員：10人(申込多数の場合は抽選)\n申込期限：3月3日(木)
URL:https://www.kenoh-navi.com/event/siyouzumiaburawokyandoruni/
LOCATION:環境啓発施設「かんきょう庵」\, 環境啓発施設・かんきょう庵\, 〒959-1102
ATTACH;FMTTYPE=image/jpeg:https://www.kenoh-navi.com/wp/wp-content/uploads/2016/02/000098219_imgs-0001-e1455598570358.jpg
END:VEVENT
BEGIN:VEVENT
DTSTART;VALUE=DATE:20160312
DTEND;VALUE=DATE:20160313
DTSTAMP:20260422T052126
CREATED:20160308T025321Z
LAST-MODIFIED:20160309T013804Z
UID:11639-1457740800-1457827199@www.kenoh-navi.com
SUMMARY:参加者６００人超！元気まつり、今年も開催します♪（３月１２日午前10時30分～午後３時）
DESCRIPTION:昨年は600人超の方にご参加いただいた、「元気まつり」を今年も開催致します！\n親子でお楽しみいただけるイベントもご用意しております。\n皆様のご来場、お待ちしております！ \n\n日時：３月１２日(土) AM 10：30 ～ PM 3：00\n場所：吉田産業会館２階\n参加費：無料\nお問い合わせ：燕市吉田保健センター（0256-93-5461）
URL:https://www.kenoh-navi.com/event/genkimatsuri2016/
LOCATION:燕市吉田産業会館\,  新潟県燕市吉田東栄町14-12\, 〒959-0232 
ATTACH;FMTTYPE=image/jpeg:https://www.kenoh-navi.com/wp/wp-content/uploads/2016/03/genkimatsuri01.jpg
END:VEVENT
BEGIN:VEVENT
DTSTART;VALUE=DATE:20160306
DTEND;VALUE=DATE:20160307
DTSTAMP:20260422T052126
CREATED:20160229T010105Z
LAST-MODIFIED:20160301T020047Z
UID:11128-1457222400-1457308799@www.kenoh-navi.com
SUMMARY:ブレーメン・キッズ・コンサート
DESCRIPTION:子どもたちとママたちが名曲や手遊び歌などお贈りする楽しいコンサート、ぜひ皆さん聴きにきてくださいね！ \n日時：３月６日(日)午前１１時より演奏終了まで\n場所：児童研修館「こどもの森」\n対象：どなたでも(小さなお子さん連れ大歓迎)\n定員：なし\n参加費：無料\n出演：新潟県央ジュニア合唱団ブレーメン、ゲスト：中越ひかりママ楽団\nお問い合わせ：児童研修館「こどもの森」 \n★ 出演者のご紹介 ★\n新潟県央ジュニア合唱団ブレーメン：\n三条市音楽祭やＢＳＮラジオ出演など幅広く活躍する、小学生から高校生までの子供たちだけの合唱団。\n中越ひかりママ楽団：\n保育園や福祉施設を中心に活動する、吹奏楽団。昨年は「つばめ桜まつり」にも出演。
URL:https://www.kenoh-navi.com/event/kidsconcert/
LOCATION:児童研修館「こどもの森」\, 〒959‐1263\, 新潟県燕市大曲3355
ATTACH;FMTTYPE=image/jpeg:https://www.kenoh-navi.com/wp/wp-content/uploads/2016/02/kodomonomori-hole.jpg
END:VEVENT
BEGIN:VEVENT
DTSTART;VALUE=DATE:20160306
DTEND;VALUE=DATE:20160307
DTSTAMP:20260422T052126
CREATED:20160229T010028Z
LAST-MODIFIED:20160229T052214Z
UID:10761-1457222400-1457308799@www.kenoh-navi.com
SUMMARY:第１１回ひとひとフォーラム
DESCRIPTION:「支えあう社会のために～漫画でわかりやすく楽しく学ぶ男女共同参画と人権～」\n漫画を使って、無意識のうちにとっている日常的な言動について考えます。\n時間：13:30～15：10\n定員：150人\n※事前申し込みが必要です。(2月24日まで)\n入場無料 \n男と女のライフスタイルセミナー同時開催\n1.女と男のコミュニケーション講座 ～夫婦・親子・家庭内の誤解・我慢・犠牲を乗り越えて～\n時間：10:30～12：00\n定員：50人\n※事前申し込みが必要です。(2月24日まで) \n2.ボードゲームコーナー\n今回から「女と男のコミュニケーション講座」のほかにカロムやジェンガなど子供から大人まで楽しめるボードゲームコーナーも開催します。\n時間：10:30～13：00 \n3.地産地消カレーの提供\n地元の下田ポークを使ったおいしい「地産地消カレー」を無料で提供いたします。\n時間：12:00～13:00\n※事前申し込みが必要です。(2月24日まで）\n\n保育ルームも設置いたします（定員10人）\n※事前申し込みが必要です。(2月24日まで)\n利用料：200円/子供1人 \n詳しくはこちら↓\nhttp://www.city.sanjo.niigata.jp/madoguchi/page00137.html
URL:https://www.kenoh-navi.com/event/hitohitoforamu/
LOCATION:三条市綜合福祉センター多目的ホール\, 三条市東本成寺２番１号
ATTACH;FMTTYPE=image/jpeg:https://www.kenoh-navi.com/wp/wp-content/uploads/2016/02/hitohitoforamu.jpg
END:VEVENT
BEGIN:VEVENT
DTSTART;VALUE=DATE:20160228
DTEND;VALUE=DATE:20160229
DTSTAMP:20260422T052126
CREATED:20160209T070039Z
LAST-MODIFIED:20160210T051646Z
UID:10402-1456617600-1456703999@www.kenoh-navi.com
SUMMARY:コーロ・スプラウト　ディナーコンサート
DESCRIPTION:2004年11月に結成された燕市の合唱団　コーロ・スプラウト。\nさまざまな音楽祭に参加しているコーラスグループのディナーコンサートが開催されます。 \n開場：16:30\n開演：17:00～18:00\n料金：500円（コンサートのみ）\n※ディナーチケットは完売いたしました\nお問合せ：レストランメッセピア
URL:https://www.kenoh-navi.com/event/koro-supuraut/
LOCATION:燕三条地場産業振興センター　５階研修室ホール\, 新潟県三条市須頃１丁目17番地\, 955-0092
ATTACH;FMTTYPE=image/jpeg:https://www.kenoh-navi.com/wp/wp-content/uploads/2016/02/koro-supuraut.jpg
END:VEVENT
BEGIN:VEVENT
DTSTART;VALUE=DATE:20160226
DTEND;VALUE=DATE:20160229
DTSTAMP:20260422T052126
CREATED:20160209T064545Z
LAST-MODIFIED:20160226T012426Z
UID:10383-1456444800-1456703999@www.kenoh-navi.com
SUMMARY:大好評! 北海道冬の味覚と全国うまいもの市
DESCRIPTION:大好評!\n★北海道冬の味覚と全国うまいもの市★\n\n総出店数は48店！全国の逸品を堪能ください!\n生珍味★海鮮串焼き★塩干★ざんぎ★たい焼き★いか飯★海鮮弁当★鯖寿司★肉巻おむすび★コロッケ★ラーメン★広島焼き★富士宮焼きそば★あぐー豚串★横手焼きそば★ふりかけ★昆布★かに★梅干し★わらび餅★ゼリー★フランク★餃子★海藻★こんにゃく★珍味★黒豆★じゃが豚★海鮮焼売★静岡茶★キムチ★飛騨牛串焼★函館餃子★かごめ昆布★味噌★まめてん★ドライフルーツ★ロールケーキ★唐揚げ★甘納豆　(写真は2009年に開催時のものです)\n日時：2月26日(金)・27日(土)・28日(日)\n時間：10:00～17:00\n \n同時開催\n★フリーマーケットinじばさん★\n骨董・洋服・日用品・手作り品・雑貨・おもちゃ などなど掘り出し物を探してみてはいかがですか!?\n　\n日時：2月27日(土)・28日(日)\n時間：10:00～17:00
URL:https://www.kenoh-navi.com/event/hokkaidouhuyunomikakutozenkokuumaimonoiti/
LOCATION:燕三条地場産センター　1F　多目的大ホール\, 新潟県三条市須頃１丁目１７番地\, 9550092
ATTACH;FMTTYPE=image/jpeg:https://www.kenoh-navi.com/wp/wp-content/uploads/2016/02/zibasan.jpg
END:VEVENT
BEGIN:VEVENT
DTSTART;TZID=Asia/Tokyo:20160221T100000
DTEND;TZID=Asia/Tokyo:20160221T150000
DTSTAMP:20260422T052126
CREATED:20151224T050418Z
LAST-MODIFIED:20160201T061403Z
UID:8519-1456048800-1456066800@www.kenoh-navi.com
SUMMARY:三条マルシェ　ごった鍋グランプリ2016
DESCRIPTION:　\n昨年も大好評だった鍋グランプリを本年度も開催します。\n三条産の食材を一品以上使い、心も身体も”ホッ”とあたたまるような鍋をご賞味ください! \n　\n\n↓↓フェイスブック↓↓\nhttps://www.facebook.com/SanjyoMarche.GottaichiHokoten/
URL:https://www.kenoh-navi.com/event/sanjomarusyegottanabeguranpuri2016/
LOCATION:三条市役所低層棟駐車場\, 三条市旭町2丁目3-1\, 〒955-0065
ATTACH;FMTTYPE=image/jpeg:https://www.kenoh-navi.com/wp/wp-content/uploads/2016/05/sanzyoumarusye-1.jpg
END:VEVENT
BEGIN:VEVENT
DTSTART;VALUE=DATE:20160221
DTEND;VALUE=DATE:20160222
DTSTAMP:20260422T052126
CREATED:20160201T025826Z
LAST-MODIFIED:20160208T060212Z
UID:9868-1456012800-1456099199@www.kenoh-navi.com
SUMMARY:天神講菓子絵付け体験
DESCRIPTION:学問の神様として知られる菅原道真公を祀る【天神講】に併せてお供えするお菓子「金花糖」の絵付け体験です♪\n自分だけの天神講菓子を作り、ご家族の健やかな成長を願ってはいかがでしょうか☆ \n　\n2/6(土)~2/25(木)の期間中、燕三条Wing店内において、燕市内の菓子店で製造された天神講菓子を販売いたします!\nぜひお立ち寄りください☆ \n\n時間：1回目/10:30~　2回目13:30~\n　※所要時間1時間程度\n定員：各回10回\n　※電話でお申込みください。
URL:https://www.kenoh-navi.com/event/tenzinkoukasieduketaiken/
LOCATION:燕三条駅観光物産センター 燕三条Wing(JR燕三条駅構内2F)\, 三条市下須頃497\, 〒955-0093
ATTACH;FMTTYPE=image/jpeg:https://www.kenoh-navi.com/wp/wp-content/uploads/2016/02/wingtenzinkou.jpg
END:VEVENT
BEGIN:VEVENT
DTSTART;VALUE=DATE:20160220
DTEND;VALUE=DATE:20160221
DTSTAMP:20260422T052126
CREATED:20160121T004822Z
LAST-MODIFIED:20160209T011745Z
UID:9444-1455926400-1456012799@www.kenoh-navi.com
SUMMARY:環酒の陣2016
DESCRIPTION:　 \n　　\n\n前回、好評をいただいた環酒の陣を開催します!\n雪景色を眺めながら、マイちょこ持参でいろりを囲み、日本酒のよもやま話を聞きませんか!?\n力強く迫力のある津軽三味線や尺八の演奏もあります。\nおうちの暖房を消してかんきょう庵でウォームシェアしませんか!? \n時間:18:00~20:30\n定員：30人(成人限定)\nチケット：2000円(利き酒コンテストは別途500円)\n※チケットは２／1から三条庁舎環境課窓口(３４－５５１１内線４８６)で取り扱いします\n予約：2月1日(月)から電話予約できます。\n2月12日(金)までに現金持参のうえ、チケットをお受取りください。
URL:https://www.kenoh-navi.com/event/kanzakenozin2016/
LOCATION:環境啓発施設「かんきょう庵」\, 環境啓発施設・かんきょう庵\, 〒959-1102
ATTACH;FMTTYPE=image/jpeg:https://www.kenoh-navi.com/wp/wp-content/uploads/2016/01/kanzakekiki.jpg
END:VEVENT
BEGIN:VEVENT
DTSTART;VALUE=DATE:20160215
DTEND;VALUE=DATE:20160601
DTSTAMP:20260422T052126
CREATED:20160427T064559Z
LAST-MODIFIED:20160428T073354Z
UID:13968-1455494400-1464739199@www.kenoh-navi.com
SUMMARY:やひこのいちご「越後姫」つみとり体験に出かけませんか♪(5月31日まで)
DESCRIPTION:開催期間：5月31日(火)まで\nお問い合わせ先：各農園の連絡先電話番号へご連絡ください。\n事務局：弥彦村役場産業振興課(TEL: 0256-94-1025)\n※完全予約制となります。前日までにお電話にてご予約をお願いいたします。
URL:https://www.kenoh-navi.com/event/yahiko-ichigo2016/
ATTACH;FMTTYPE=image/jpeg:https://www.kenoh-navi.com/wp/wp-content/uploads/2016/04/yahiko-ichigo2016.jpg
END:VEVENT
BEGIN:VEVENT
DTSTART;TZID=Asia/Tokyo:20160214T150000
DTEND;TZID=Asia/Tokyo:20160214T193000
DTSTAMP:20260422T052126
CREATED:20160121T025621Z
LAST-MODIFIED:20160121T030022Z
UID:9469-1455462000-1455478200@www.kenoh-navi.com
SUMMARY:チョコっと農トーク
DESCRIPTION:　\n\n \n\n新潟県青年農業士燕三条ブロック様と 4HC どろんこ塾様のバレンタイン合同企画★\n\n「つくる人と食べる人の幸せ」をテーマに、パネルディスカッションと交流会を開催致します。\n子育て世代のご参加も大歓迎です！保育ルームがございますので、ご予約ください。 \n【時間】\n　　第１部　パネルディスカッション　15：00～17：00（受付 14:30～）\n　　第２部　交流会　17：30～19：30\n【参加費】　第１部：入場無料 / 第２部：お一人様 5\,000円\n【定員】　100人\n【予約】　第１部・２部共に１月３１日までにFAXまたはメールにてお申込みください。
URL:https://www.kenoh-navi.com/event/20160214/
LOCATION:餞心亭おゝ乃ザ・ガーデンテラス\, 三条市横町2-11-8
ORGANIZER;CN="%E6%96%B0%E6%BD%9F%E7%9C%8C%E9%9D%92%E5%B9%B4%E8%BE%B2%E6%A5%AD%E5%A3%AB%E7%87%95%E4%B8%89%E6%9D%A1%E3%83%96%E3%83%AD%E3%83%83%E3%82%AF":MAILTO:maruyama.sigeru@pref.niigata.lg.jp
END:VEVENT
BEGIN:VEVENT
DTSTART;VALUE=DATE:20160211
DTEND;VALUE=DATE:20160212
DTSTAMP:20260422T052126
CREATED:20160114T053950Z
LAST-MODIFIED:20160114T053950Z
UID:9216-1455148800-1455235199@www.kenoh-navi.com
SUMMARY:第4回 三条市ジャンボカルタ大会
DESCRIPTION:今年も、大好評のふるさと三条カルタを使った「ジャンボカルタ大会」を開催いたします!\n冬はジャンボカルタで体を動かして温まろう!\n参加は無料、ぜひお友達を誘ってご参加ください! \n\n　\n\n受付：8:30~9:00\n対象：小学生\n服装・持ち物：運動のできる服装、内履き、防寒具、あたたかい飲み物など\n参加料：無料  \n◆申込締切：平成28年2月4日(木) 17:00まで\n※締切以降については、健康づくり課スポーツ振興室にお問合せください。 \n◆申込先：下記のいずれかへ電話でお申込みください。\n・三条市役所健康づくり課スポーツ振興室(Tel.34-5511(内線288))\n・三条市栄サービスセンター(Tel.45-1110)\n・三条市下田サービスセンター(Tel.46-5906)\n※8:30~17:30まで(土・日・祝日を除く) \n・総合体育館(Tel.32-5210)\n・栄体育館(Tel.45-1150)\n・下田体育館(Tel.46-4702)\n ※8:30~21:30まで
URL:https://www.kenoh-navi.com/event/dai4kaisanzyousizyanbokaruta/
LOCATION:三条市総合体育館\, 三条市荒町2丁目1-3\, 〒955-0083
ATTACH;FMTTYPE=image/jpeg:https://www.kenoh-navi.com/wp/wp-content/uploads/2016/01/dai4kaizyanbokarutataikai.jpg
END:VEVENT
BEGIN:VEVENT
DTSTART;VALUE=DATE:20160205
DTEND;VALUE=DATE:20160222
DTSTAMP:20260422T052126
CREATED:20160210T075515Z
LAST-MODIFIED:20160210T075515Z
UID:10438-1454630400-1456099199@www.kenoh-navi.com
SUMMARY:美しきスプーンの世界
DESCRIPTION:当館の伊藤豊成世界のスプーンコレクション館の中から美しいスプーンをセレクトして紹介いたします。 \n会期中休館日：8日(月)・12日(金)・15日(月)\n開館時間：9:00～16:30\n入場料：大人300円　小人100円\n※土曜、日曜、祝日は燕市内の小中学生及び、付添保護者1名無料\n\n県央なび内サイト「燕市産業史料館」↓\nhttp://www.kenoh-navi.com/maparea/map_tsubame/tubamesangyousiryoukan/
URL:https://www.kenoh-navi.com/event/utukusikisupun/
LOCATION:燕市産業史料館\, 燕市大曲4330-1\, 〒959-1263
ATTACH;FMTTYPE=image/jpeg:https://www.kenoh-navi.com/wp/wp-content/uploads/2016/02/supun.jpg
END:VEVENT
BEGIN:VEVENT
DTSTART;VALUE=DATE:20160203
DTEND;VALUE=DATE:20160204
DTSTAMP:20260422T052126
CREATED:20160122T013803Z
LAST-MODIFIED:20160122T032440Z
UID:9416-1454457600-1454543999@www.kenoh-navi.com
SUMMARY:本成寺 節分大祈願 鬼踊り
DESCRIPTION:法華宗総本山本成寺の一大行事として行われる本成寺鬼踊です。\n本成寺本堂に鬼たちの叫び声と鋸・斧などの金物を持ち大暴れするその姿は迫力満点!\n最後は鬼に豆を投げつけて退散! 平和と安全を祈ります。 \n \n○赤鬼・人間のすべての悪い心をあらわしています。(金棒を持っています)\n○青鬼・貧相で欲深い心をあらわしています。(さすまたを持っています)\n○黄鬼・愚痴や甘えの心をあらわしています。(かけやを持っています)\n○緑鬼・おごりたかぶりの心をあらわしています。(なぎなたを持っています)\n○黒鬼・疑いの心をあらわしています。(斧を持っています)\n○三途川婆(そうずかば)・強欲なねたみの心をあらわしています。 \n★鬼っぱらい豆(くじ無)★1カップ100円~\n \n★福豆(くじ付)★1袋100円~\n空くじなしで、豪華賞品をゲットのチャンス!\n \n時間：1回目 13:00～/2回目 15:00～ \n駐車場：鬼踊り当日は本成寺の駐車場は利用出来ません。\n「三条防災ステーション」駐車場をご利用ください。\n＜地図はこちら＞\nここから無料の会場行き臨時シャトルバスが運行されます。\n始発：9:30\n最終：16:00頃\n三条防災ステーション～本成寺を順次回っています。
URL:https://www.kenoh-navi.com/event/honzyouzioniodori/
LOCATION:法華宗総本山本成寺\, 三条市西本成寺1丁目1-20(本成寺)\, 〒955-0845
ATTACH;FMTTYPE=image/jpeg:https://www.kenoh-navi.com/wp/wp-content/uploads/2016/01/oniodori1.jpg
END:VEVENT
BEGIN:VEVENT
DTSTART;VALUE=DATE:20160201
DTEND;VALUE=DATE:20160323
DTSTAMP:20260422T052126
CREATED:20160219T065058Z
LAST-MODIFIED:20160330T025856Z
UID:10862-1454284800-1458691199@www.kenoh-navi.com
SUMMARY:おひな様でおもてなし　岩室温泉ひな巡り
DESCRIPTION:岩室温泉街の旅館やお店に飾られたさまざまなおひな様が楽しめます。\n一足早い岩室の桃の節句で地域の温かいおもてなしに出会ってみませんか！\n \n★岩室温泉ひな巡り参加店一覧★
URL:https://www.kenoh-navi.com/event/iwamuroonsenhinameguri/
LOCATION:岩室温泉街\,  新潟県新潟市西蒲区岩室温泉９６−１\, 953-0104
ATTACH;FMTTYPE=image/jpeg:https://www.kenoh-navi.com/wp/wp-content/uploads/2016/02/hina-e14558569842151.jpg
END:VEVENT
BEGIN:VEVENT
DTSTART;VALUE=DATE:20160124
DTEND;VALUE=DATE:20160125
DTSTAMP:20260422T052126
CREATED:20160105T022301Z
LAST-MODIFIED:20160105T023126Z
UID:8806-1453593600-1453679999@www.kenoh-navi.com
SUMMARY:オーブン粘土で作るペアマグネット
DESCRIPTION:時間：10:30～12:00／13:30～15:00 \n１月の燕三条Wingイベントは、オーブン粘土を使ったオリジナルのマグネット作りです♪\n大小２つのマグネットは、重ねても可愛く単品使いも可能♪\n子どもから大人まで楽しめる工作体験です☆
URL:https://www.kenoh-navi.com/event/o-bunnendodetukurupeamagunetto/
LOCATION:燕三条駅観光物産センター 燕三条Wing(JR燕三条駅構内2F)\, 三条市下須頃497\, 〒955-0093
ATTACH;FMTTYPE=image/jpeg:https://www.kenoh-navi.com/wp/wp-content/uploads/2016/01/wingmagunetto.jpg
END:VEVENT
BEGIN:VEVENT
DTSTART;TZID=Asia/Tokyo:20160116T130000
DTEND;TZID=Asia/Tokyo:20160116T150000
DTSTAMP:20260422T052126
CREATED:20151219T064024Z
LAST-MODIFIED:20151221T063556Z
UID:8421-1452949200-1452956400@www.kenoh-navi.com
SUMMARY:お正月あそび&工作を楽しもう!
DESCRIPTION:お楽しみ会の工作では「けん玉」と「凧」を作ります。\n参加者：20名\n持ち物：かばん(作品を持ち帰るため)\n※開催中は、児童館には参加者以外立ち入りができません。ご注意ください。
URL:https://www.kenoh-navi.com/event/osyougatuasobikousakuwotanosimou/
LOCATION:小中川児童館\, 燕市小古津新19-1\, 〒959-1213
ATTACH;FMTTYPE=image/jpeg:https://www.kenoh-navi.com/wp/wp-content/uploads/2015/12/konakaota-e1450506438556.jpg
END:VEVENT
BEGIN:VEVENT
DTSTART;VALUE=DATE:20160114
DTEND;VALUE=DATE:20160116
DTSTAMP:20260422T052126
CREATED:20160113T070047Z
LAST-MODIFIED:20160114T072730Z
UID:8563-1452729600-1452902399@www.kenoh-navi.com
SUMMARY:献灯祭
DESCRIPTION:　 \n\n1月14日夜から1月15日明け方にかけて行われる八幡宮恒例の献灯祭。\n江戸時代から行われてきた三条の冬の風物詩です。\n氏子から献納される巨大な御神灯（直径50ｃｍ・高さ1ｍ・重さ30ｋｇ～50ｋｇ）の数々は、市民の繁栄と幸福な前途を照らす灯明として広く信仰を集めています。 \n八幡宮　祭典：19:00\n　　　　点灯：祭典終了次第 \n金山神社　祭典：19:30\n　　　　　点灯：祭典終了次第 \n御祈祷：14日20:00~/15日9:00~\n焚き上げ：14日19:00~
URL:https://www.kenoh-navi.com/event/kentousai/
LOCATION:三条市 八幡宮\, 三条市八幡町12番地18\, 〒955-0073
ATTACH;FMTTYPE=image/jpeg:https://www.kenoh-navi.com/wp/wp-content/uploads/2015/12/kentousainai.jpg
END:VEVENT
BEGIN:VEVENT
DTSTART;TZID=Asia/Tokyo:20160109T100000
DTEND;TZID=Asia/Tokyo:20160111T170000
DTSTAMP:20260422T052126
CREATED:20160109T053130Z
LAST-MODIFIED:20160109T053130Z
UID:9026-1452333600-1452531600@www.kenoh-navi.com
SUMMARY:新作ひな人形展
DESCRIPTION:県下最大級の品揃えで 華やか にお迎えします!!\n　
URL:https://www.kenoh-navi.com/event/sinsakuhinaningyouten/
LOCATION:燕三条地場産業振興センター\, 三条市須頃1丁目17\, 〒955-0092
END:VEVENT
BEGIN:VEVENT
DTSTART;VALUE=DATE:20160105
DTEND;VALUE=DATE:20160112
DTSTAMP:20260422T052126
CREATED:20151226T000027Z
LAST-MODIFIED:20151228T003833Z
UID:8526-1451952000-1452556799@www.kenoh-navi.com
SUMMARY:紅白☆図書館福袋
DESCRIPTION:♪紅白☆図書館福袋♪\n普段手に取ったことのない本に出会えるかもしれません! テーマを参考にして選んでみてください。\n今年も、みなさんに素敵な本との出会いがありますように・・・ \n★内容★\n福袋は貸出用で、中に図書館の本が入っています。\n期間中50袋限定。3冊入り(大人用・子ども用あり) 1人1袋まで。 \n★開催場所★\n燕市立図書館・燕市立吉田図書館・燕市立分水図書館 \n★お問い合わせ先★\n燕市立図書館　　　0256-62-2726\n燕市立吉田図書館　0256-92-7650\n燕市立分水図書館　0256-91-3255
URL:https://www.kenoh-navi.com/event/kouhaku_tosyokanbukuro/
ATTACH;FMTTYPE=image/jpeg:https://www.kenoh-navi.com/wp/wp-content/uploads/2015/12/tosyokanhuku1-e1451034217834.jpg
END:VEVENT
BEGIN:VEVENT
DTSTART;VALUE=DATE:20160103
DTEND;VALUE=DATE:20160301
DTSTAMP:20260422T052126
CREATED:20160105T013044Z
LAST-MODIFIED:20160105T020152Z
UID:8743-1451779200-1456790399@www.kenoh-navi.com
SUMMARY:白鳥ガラポン
DESCRIPTION:　\n白鳥の郷公苑でチケットをもらって道の駅に行くとガラポンができます!\nレストランでの食事無料券や、温泉割引券、駄菓子プレゼントなど嬉しい景品が当たります。\nこの機会に是非、しただの白鳥を見に行きましょう!! \n↓↓白鳥の郷公苑の県央なび内サイト↓↓\nhttp://www.kenoh-navi.com/maparea/map_sanjo/hakutyounosatokouen/
URL:https://www.kenoh-navi.com/event/hakutyougarapon/
LOCATION:道の駅 漢学の里 しただ\, 三条市庭月451-1\, 〒955-0131
ATTACH;FMTTYPE=image/jpeg:https://www.kenoh-navi.com/wp/wp-content/uploads/2016/01/hakutyougara.jpg
END:VEVENT
BEGIN:VEVENT
DTSTART;VALUE=DATE:20160102
DTEND;VALUE=DATE:20160119
DTSTAMP:20260422T052126
CREATED:20151210T055529Z
LAST-MODIFIED:20151210T083409Z
UID:8258-1451692800-1453161599@www.kenoh-navi.com
SUMMARY:新春展2016～サクラ、桜、さくら展～
DESCRIPTION:「新春展2016」を新潟市内の二つのデパートを会場に開催します。新年は、ご家族皆様で美術鑑賞をお楽しみください。 \n新潟伊勢丹会場 \n 「 サクラ、桜、さくら展　～近・現代巨匠たちの競演～」 \n 横山大観、上村松園、川合玉堂、鏑木清方、東山魁夷、山本丘人、奥村土牛、加山又造といった \n日本画の巨匠たちから実力派の現代作家まで、桜を描いた作品約５０点を一堂に紹介します。 \n 一足早いお花見をお楽しみください。
URL:https://www.kenoh-navi.com/event/shinshunten2016sakurasakurasakuraten/
LOCATION:新潟伊勢丹\, 新潟県新潟市中央区八千代1丁目6-1\, 950-0909\, Japan
ATTACH;FMTTYPE=image/jpeg:https://www.kenoh-navi.com/wp/wp-content/uploads/2015/12/image8-e1449736858631.jpg
END:VEVENT
BEGIN:VEVENT
DTSTART;VALUE=DATE:20160102
DTEND;VALUE=DATE:20160118
DTSTAMP:20260422T052126
CREATED:20151210T063827Z
LAST-MODIFIED:20151210T083511Z
UID:8296-1451692800-1453075199@www.kenoh-navi.com
SUMMARY:新春展2016～神の手・ニッポン展～
DESCRIPTION:「神の手・ニッポン展　～人間技とは思えない　神の手を持つ日本人作家、６人の合同展～」 \nペーパーアーティスト太田隆司\nビーズアーティスト金谷美帆\nミニチュアハウスアーティスト島木英文\n立体切り絵アーティストＳｏｕＭａ\nレザーアーティスト本池秀夫\nジオラマアーティスト山田卓司 \n 匠を感じる。繊細さが見える。 \n\nそうした日本のものづくりスピリッツを受け継ぎながら、現代のセンス＆フィールドで意欲的に創作活動を行ってきたアーティストの作品を一堂に集めた合同展です
URL:https://www.kenoh-navi.com/event/shinshunten2016kaminotenipponten/
ATTACH;FMTTYPE=image/jpeg:https://www.kenoh-navi.com/wp/wp-content/uploads/2015/12/image4-e1449736818175.jpg
END:VEVENT
BEGIN:VEVENT
DTSTART;VALUE=DATE:20151231
DTEND;VALUE=DATE:20160104
DTSTAMP:20260422T052126
CREATED:20151222T043803Z
LAST-MODIFIED:20151224T150605Z
UID:8461-1451520000-1451865599@www.kenoh-navi.com
SUMMARY:戸隠神社へ二年参りにいこう!
DESCRIPTION:◆三が日は24時間体制で新年のお祓いを受け付ける。(授与所も終夜営業中)\n◆宮町内のお菓子店「飴屋本舗」ほか数店が境内に模擬店を出店し、新年を賑わいます。 \n★新年のお祓いを受けた人★\n◆お札、破魔矢、福銭守、さるの盃、肌守、お神酒を授与します。\n※焚き上げは行いませんが、古くなった同神社が授与したお札やお守りを受け付けます。\n（後日、神職の手により丁寧にお焚き上げを致します。) \n2015年12月31日(木)\n午後11時：今年一年のツミ、ケガレをはらい、清々しい気持ちで新年を迎えるための「大祓式」 \n2016年1月1日(金)\n午前0時：燕御神楽神伶会による除夜太鼓・神職が社頭祓します。\n午前1時：神様への新年のごあいさつ「歳旦祭」 \n2016年1月3日(日)\n午後2時から「元始祭」が斎行され、その中で渡邉志保さんの琴の奉納演奏があります。\n※神事ですので、参列の方は初穂料5000円を御奉納いただきます。
URL:https://www.kenoh-navi.com/event/tokakusizinzya_ninenmairi/
LOCATION:戸隠神社\, 燕市宮町3-1\, 〒959-1257
ATTACH;FMTTYPE=image/jpeg:https://www.kenoh-navi.com/wp/wp-content/uploads/2015/12/image5-1024x7651.jpg
END:VEVENT
BEGIN:VEVENT
DTSTART;VALUE=DATE:20151229
DTEND;VALUE=DATE:20160104
DTSTAMP:20260422T052126
CREATED:20151228T040935Z
LAST-MODIFIED:20151228T041507Z
UID:8632-1451347200-1451865599@www.kenoh-navi.com
SUMMARY:年末アメ横鍋まつり
DESCRIPTION:寺泊名物！番屋汁無料サービス！！\n日時：２９日(火)・３０日(水)　午前１０時～\n会場：寺泊 魚の市場通り前駐車場\n☆各日共 先着１０００食限定☆
URL:https://www.kenoh-navi.com/event/teradomari_ameyoko_nennmatu/
LOCATION:寺泊 魚の市場通り前駐車場\, 長岡市寺泊下荒町9772−6
ATTACH;FMTTYPE=image/jpeg:https://www.kenoh-navi.com/wp/wp-content/uploads/2015/12/teradomari.jpg
END:VEVENT
END:VCALENDAR