BEGIN:VCALENDAR
VERSION:2.0
PRODID:-//新潟県央なび - 燕市・三条市・加茂市・弥彦村の店舗・施設案内 - ECPv6.0.6.2//NONSGML v1.0//EN
CALSCALE:GREGORIAN
METHOD:PUBLISH
X-WR-CALNAME:新潟県央なび - 燕市・三条市・加茂市・弥彦村の店舗・施設案内
X-ORIGINAL-URL:https://www.kenoh-navi.com
X-WR-CALDESC:新潟県央なび - 燕市・三条市・加茂市・弥彦村の店舗・施設案内 のイベント
REFRESH-INTERVAL;VALUE=DURATION:PT1H
X-Robots-Tag:noindex
X-PUBLISHED-TTL:PT1H
BEGIN:VTIMEZONE
TZID:Asia/Tokyo
BEGIN:STANDARD
TZOFFSETFROM:+0900
TZOFFSETTO:+0900
TZNAME:JST
DTSTART:20150101T000000
END:STANDARD
END:VTIMEZONE
BEGIN:VEVENT
DTSTART;TZID=Asia/Tokyo:20151226T150000
DTEND;TZID=Asia/Tokyo:20151226T160000
DTSTAMP:20260423T065804
CREATED:20151126T064058Z
LAST-MODIFIED:20151127T003223Z
UID:7985-1451142000-1451145600@www.kenoh-navi.com
SUMMARY:薔薇のコンサートinジェラート田沢農園
DESCRIPTION:♪特製 薔薇のジェラート&スイーツ&薔薇の紅茶つきです★\nご予約・お問合せ：田沢農園/☎0256-34-3750 \n↓↓県央なび内サイト↓↓\nhttp://www.kenoh-navi.com/maparea/map_sanjo/tazawanouen/
URL:https://www.kenoh-navi.com/event/baranokonsa-toinzyera-totazawanouen/
LOCATION:田沢農園\, 三条市代官島1252\, 〒955-0095
ATTACH;FMTTYPE=image/jpeg:https://www.kenoh-navi.com/wp/wp-content/uploads/2015/11/baranokonsa-to.jpg
END:VEVENT
BEGIN:VEVENT
DTSTART;TZID=Asia/Tokyo:20151223T170000
DTEND;TZID=Asia/Tokyo:20151223T210000
DTSTAMP:20260423T065804
CREATED:20151209T024440Z
LAST-MODIFIED:20151209T040526Z
UID:8222-1450890000-1450904400@www.kenoh-navi.com
SUMMARY:まちなか雪と灯りのコンチェルト
DESCRIPTION:
URL:https://www.kenoh-navi.com/event/matinakayukitoakarinokontyeruto/
LOCATION:三条市中央公民館\, 三条市\, 元町13-1\, 955-0072
ATTACH;FMTTYPE=image/jpeg:https://www.kenoh-navi.com/wp/wp-content/uploads/2015/12/kontyeruto2.jpg
END:VEVENT
BEGIN:VEVENT
DTSTART;VALUE=DATE:20151219
DTEND;VALUE=DATE:20151221
DTSTAMP:20260423T065804
CREATED:20151210T051353Z
LAST-MODIFIED:20151212T010939Z
UID:8215-1450483200-1450655999@www.kenoh-navi.com
SUMMARY:燕三条Wing5周年祭
DESCRIPTION:事前申込が必要なイベントについては、定員になり次第締め切りますので、ご希望の方はお早めにお申し込みください！
URL:https://www.kenoh-navi.com/event/wing5syunensai/
LOCATION:燕三条駅観光物産センター 燕三条Wing(JR燕三条駅構内2F)\, 三条市下須頃497\, 〒955-0093
ATTACH;FMTTYPE=image/jpeg:https://www.kenoh-navi.com/wp/wp-content/uploads/2015/12/wing5av-724x10241.jpg
END:VEVENT
BEGIN:VEVENT
DTSTART;TZID=Asia/Tokyo:20151212T130000
DTEND;TZID=Asia/Tokyo:20151212T153000
DTSTAMP:20260423T065804
CREATED:20151121T020321Z
LAST-MODIFIED:20151121T020321Z
UID:7927-1449925200-1449934200@www.kenoh-navi.com
SUMMARY:クリスマスリース作り
DESCRIPTION:こくわのツルで手作りリース♪\nコーヒー・ケーキ付です♪ \n定　員　：5人\n持ち物　：花バサミ、ニッパー\n申込期限：11月29日(日)
URL:https://www.kenoh-navi.com/event/kurisumasuri-sudukuri_2/
LOCATION:道の駅 漢学の里 しただ\, 三条市庭月451-1\, 〒955-0131
ATTACH;FMTTYPE=image/jpeg:https://www.kenoh-navi.com/wp/wp-content/uploads/2015/11/kurisumasuri-su.jpg
END:VEVENT
BEGIN:VEVENT
DTSTART;VALUE=DATE:20151212
DTEND;VALUE=DATE:20151214
DTSTAMP:20260423T065804
CREATED:20151209T004132Z
LAST-MODIFIED:20151209T083436Z
UID:8209-1449878400-1450051199@www.kenoh-navi.com
SUMMARY:じばさんセンター　体験工房
DESCRIPTION:ものづくりを通して道具の使い方や楽しさを体験してみませんか。\n今回は切出しや錐を使い、竹細工の製作を体験します。\n竹を材料にオカリナや笛をつくってみよう！ \n会場：メッセピア1F 多目的大ホール
URL:https://www.kenoh-navi.com/event/zibasansenta-taikenkoubou/
LOCATION:燕三条地場産業振興センター\, 三条市須頃1丁目17\, 〒955-0092
ATTACH;FMTTYPE=image/jpeg:https://www.kenoh-navi.com/wp/wp-content/uploads/2015/12/taikenkoubou2.jpg
END:VEVENT
BEGIN:VEVENT
DTSTART;VALUE=DATE:20151211
DTEND;VALUE=DATE:20151214
DTSTAMP:20260423T065804
CREATED:20151209T001951Z
LAST-MODIFIED:20151209T001951Z
UID:8205-1449792000-1450051199@www.kenoh-navi.com
SUMMARY:燕三条じばさん年末刃物フェア
DESCRIPTION:毎年恒例の『燕三条じばさん年末刃物フェア』が開催されます！\n燕三条の職人の匠の技、恒例の金物市、地元の新鮮野菜即売会や各地の特産品など、盛りだくさんのフェアです！\nまた、北海道味覚市も同時開催。ぜひ、お出掛けください。 \n◆時間：9:30~17:00(最終日は16:00)\n◆内容\n・燕三条金物市コーナー　製造メーカーによる説明販売、実演など\n・県央マイスター10周年　ものづくり体験工房\n・実演コーナー　包丁研ぎ、まな板削り、ラシャ切鋏研ぎ\n・燕三条地域、県内特産品コーナー\n・地元農家の農作物販売\n・3日間限定で、つきたて餅やふるまい鍋の無料配布(各日100食)もあります
URL:https://www.kenoh-navi.com/event/tubamesanzyouzibasannennmatuhamonofea/
LOCATION:燕三条地場産業振興センター\, 三条市須頃1丁目17\, 〒955-0092
ATTACH;FMTTYPE=image/jpeg:https://www.kenoh-navi.com/wp/wp-content/uploads/2015/12/2015hamonofea.jpg
END:VEVENT
BEGIN:VEVENT
DTSTART;TZID=Asia/Tokyo:20151205T130000
DTEND;TZID=Asia/Tokyo:20151205T153000
DTSTAMP:20260423T065804
CREATED:20151121T015634Z
LAST-MODIFIED:20151121T015634Z
UID:7925-1449320400-1449329400@www.kenoh-navi.com
SUMMARY:クリスマスリース作り
DESCRIPTION:こくわのツルで手作りリース♪\nコーヒー・ケーキ付です♪ \n定　員　：5人\n持ち物　：花バサミ、ニッパー\n申込期限：11月29日(日)
URL:https://www.kenoh-navi.com/event/kurisumasuri-sudukuri/
LOCATION:道の駅 漢学の里 しただ\, 三条市庭月451-1\, 〒955-0131
ATTACH;FMTTYPE=image/jpeg:https://www.kenoh-navi.com/wp/wp-content/uploads/2015/11/kurisumasuri-su.jpg
END:VEVENT
BEGIN:VEVENT
DTSTART;TZID=Asia/Tokyo:20151205T093000
DTEND;TZID=Asia/Tokyo:20151207T170000
DTSTAMP:20260423T065804
CREATED:20151117T073013Z
LAST-MODIFIED:20151207T044052Z
UID:7860-1449307800-1449507600@www.kenoh-navi.com
SUMMARY:第7回 写真展~創写~
DESCRIPTION:現代の写真表現・いろ色\n出展者：荒木喜市/関川光栄/樋山康作/山崎智正\n※最終日は16:00まで
URL:https://www.kenoh-navi.com/event/syasinten-sousya/
LOCATION:燕市文化会館\, 新潟県燕市水道町1丁目3-28\, 〒959-1262
ATTACH;FMTTYPE=image/jpeg:https://www.kenoh-navi.com/wp/wp-content/uploads/2015/11/syasinten-e1448350541109.jpg
END:VEVENT
BEGIN:VEVENT
DTSTART;VALUE=DATE:20151204
DTEND;VALUE=DATE:20151205
DTSTAMP:20260423T065804
CREATED:20151121T041311Z
LAST-MODIFIED:20151124T004302Z
UID:7931-1449187200-1449273599@www.kenoh-navi.com
SUMMARY:ブルワリー クリスマスパーティー
DESCRIPTION:お待たせしました。\n今年もクリスマスパーティーを開催します!!\n料理・ビュッフェスタイル・飲み放題付、毎回好評のお楽しみ抽選会もやります!!\nご予約お待ちしています。 \n※宿泊ご希望の方、アネックス飛鳥一泊朝食付き。\n　会費別　3500円 \n受付時間：18:30\nOPEN：19:00 \n↓↓県央なび内サイト↓↓\nhttp://www.kenoh-navi.com/maparea/map_teradomari/buruwari/
URL:https://www.kenoh-navi.com/event/kurisumasupa-thi/
LOCATION:日本海夕陽BREWERY~ブルワリー~\, 寺泊野積107-225\, 940-2501
ATTACH;FMTTYPE=image/jpeg:https://www.kenoh-navi.com/wp/wp-content/uploads/2015/11/buruwarikuri.jpg
END:VEVENT
BEGIN:VEVENT
DTSTART;VALUE=DATE:20151201
DTEND;VALUE=DATE:20151231
DTSTAMP:20260423T065804
CREATED:20151119T075012Z
LAST-MODIFIED:20151119T075320Z
UID:7879-1448928000-1451519999@www.kenoh-navi.com
SUMMARY:しただ郷　雪と光のページェント2015
DESCRIPTION:三条市出身のシンガーソングライター佐藤ひらりによるロビーコンサートを開催いたします。\n開催日：12月20日(日)\n開催時間16:00より\n入館者限定/観覧無料
URL:https://www.kenoh-navi.com/event/sitadagouyukitohikarinope-zyento2015/
LOCATION:いい湯らてい\, 三条市南五百川16番地1\, 〒955-0128
ATTACH;FMTTYPE=image/jpeg:https://www.kenoh-navi.com/wp/wp-content/uploads/2015/11/pe-zyento2.jpg
END:VEVENT
BEGIN:VEVENT
DTSTART;VALUE=DATE:20151129
DTEND;VALUE=DATE:20151130
DTSTAMP:20260423T065804
CREATED:20151031T062722Z
LAST-MODIFIED:20151119T022543Z
UID:7497-1448755200-1448841599@www.kenoh-navi.com
SUMMARY:飛燕太鼓保存会 35周年記念コンサート
DESCRIPTION:メンバー一同ご来場くださる皆さまに喜んでいただけるよう感謝の気持ちを込めてバチをふり上げます!\n\n\n★超目玉!★\n当日は、ステンレス製の太鼓を実際に打ち鳴らします!\nどんな音がでるのかな!?
URL:https://www.kenoh-navi.com/event/hiendaikohozonkai/
LOCATION:燕市文化会館\, 新潟県燕市水道町1丁目3-28\, 〒959-1262
ATTACH;FMTTYPE=image/jpeg:https://www.kenoh-navi.com/wp/wp-content/uploads/2015/10/hiendaiko1.jpg
END:VEVENT
BEGIN:VEVENT
DTSTART;VALUE=DATE:20151122
DTEND;VALUE=DATE:20151123
DTSTAMP:20260423T065804
CREATED:20151019T084821Z
LAST-MODIFIED:20151019T085400Z
UID:7270-1448150400-1448236799@www.kenoh-navi.com
SUMMARY:第11回 三条市音楽祭/フリーの部
DESCRIPTION:時間\n開場：12:30~\n開演：13:00~
URL:https://www.kenoh-navi.com/event/sanzyousiongakusaihuri/
LOCATION:三条市中央公民館\, 三条市\, 元町13-1\, 955-0072
ATTACH;FMTTYPE=image/jpeg:https://www.kenoh-navi.com/wp/wp-content/uploads/2015/10/huri-.jpg
END:VEVENT
BEGIN:VEVENT
DTSTART;VALUE=DATE:20151119
DTEND;VALUE=DATE:20151120
DTSTAMP:20260423T065804
CREATED:20151107T070648Z
LAST-MODIFIED:20151107T070732Z
UID:7697-1447891200-1447977599@www.kenoh-navi.com
SUMMARY:障がい者福祉サービス講演会
DESCRIPTION:↓↓県央なび内サイト↓↓\nhttp://www.kenoh-navi.com/maparea/map_tsubame/kafesanpomiti/
URL:https://www.kenoh-navi.com/event/syougaisyahukusisa-bisukouennkai/
LOCATION:NPO法人 リカバリー燕・カフェさんぽ道\, 燕市宮町2-20-1\, 〒929-1257
ATTACH;FMTTYPE=image/jpeg:https://www.kenoh-navi.com/wp/wp-content/uploads/2015/11/sanpoibe.jpg
END:VEVENT
BEGIN:VEVENT
DTSTART;TZID=Asia/Tokyo:20151115T100000
DTEND;TZID=Asia/Tokyo:20151115T140000
DTSTAMP:20260423T065804
CREATED:20150831T060033Z
LAST-MODIFIED:20151016T025928Z
UID:6400-1447581600-1447596000@www.kenoh-navi.com
SUMMARY:うどん作りとアタンザキのチーズケーキ作り
DESCRIPTION:美味しいうどんを食べよう♪\n手作りうどん・手作りアタンザキのチーズケーキを和気藹々と楽しく作ります。\n当日作ったうどんはお土産にできます。\nお昼はうどんと、おやつにアタンザキのチーズケーキが食べられます。 \n所要時間10：00～14：00\n開催場所：道の駅漢学の里しただ　農家レストラン悟空　体験コーナー\n定　員：5人\n参加費：1人2\,000円\n持ち物：エプロン　三角巾\nお申込：11月8日(日) \nお問合せ先\n道の駅漢学の里しただ　担当：中野\n☎0256-47-2230
URL:https://www.kenoh-navi.com/event/udondukuritoatanzakinoti-zuke-kidukuri/
LOCATION:道の駅 漢学の里 しただ\, 三条市庭月451-1\, 〒955-0131
ATTACH;FMTTYPE=image/jpeg:https://www.kenoh-navi.com/wp/wp-content/uploads/2015/11/udon.jpg
END:VEVENT
BEGIN:VEVENT
DTSTART;VALUE=DATE:20151115
DTEND;VALUE=DATE:20151116
DTSTAMP:20260423T065804
CREATED:20151027T022916Z
LAST-MODIFIED:20151117T052324Z
UID:7341-1447545600-1447631999@www.kenoh-navi.com
SUMMARY:牛野尾谷ひこぜん祭り
DESCRIPTION:恒例!ご好評いただいている「ひこぜん」作りを楽しみましょう。\n下田の伝統食「ひこぜん」を集落をあげて作り、味わう行事です。\nステージでは、伝統芸能の「葏谷(もぐらたに)太鼓」や「遅場神楽」などの披露があります。 \n時間：11:00\n開催場所：農業体験施設よってげ邸\n※ひこぜん作り体験をご希望の方はエプロン、三角巾をご準備ください。\n※ひこぜん2本・お汁のサービスがあります。
URL:https://www.kenoh-navi.com/event/hikozenmaturi/
LOCATION:農業体験施設よってげ邸\, 三条市早水588-2\, 〒955-0135 
ATTACH;FMTTYPE=image/jpeg:https://www.kenoh-navi.com/wp/wp-content/uploads/2015/10/hikozen-e1444894627797.jpg
END:VEVENT
BEGIN:VEVENT
DTSTART;VALUE=DATE:20151115
DTEND;VALUE=DATE:20151116
DTSTAMP:20260423T065804
CREATED:20151019T084354Z
LAST-MODIFIED:20151019T085345Z
UID:7267-1447545600-1447631999@www.kenoh-navi.com
SUMMARY:第11回 三条市音楽祭/器楽の部
DESCRIPTION:時間\n開場：12:30~\n開演：13:00~
URL:https://www.kenoh-navi.com/event/sanzyousiongakusaikigaku/
LOCATION:三条市中央公民館\, 三条市\, 元町13-1\, 955-0072
ATTACH;FMTTYPE=image/jpeg:https://www.kenoh-navi.com/wp/wp-content/uploads/2015/10/kigaku.jpg
END:VEVENT
BEGIN:VEVENT
DTSTART;TZID=Asia/Tokyo:20151114T090000
DTEND;TZID=Asia/Tokyo:20151114T113000
DTSTAMP:20260423T065804
CREATED:20150716T085852Z
LAST-MODIFIED:20150716T090000Z
UID:4653-1447491600-1447500600@www.kenoh-navi.com
SUMMARY:【最終】笠堀ダム特別見学と大谷ダム探訪ツアー11月②
DESCRIPTION:今しか見られない!\n●笠堀ダム特別見学と大谷ダム探訪ツアー●\n下田地区の9施設で受けられる特典・ダムカード3種類をプレゼントがあります! \n \n三条市の治水・利水の利便性を高め、貯水量を増やし私たちが安心して安全に暮らせるよう『笠堀ダムかさ上げ工事』をしています。工事期間は平成２６年度から２９年度の予定で、その間一般車両は通行できません。自然豊かなしただ郷の魅力を体感しながら、今しか見れない！笠堀ダムのかさ上げ工事現場や大谷ダム内部の見学を通して、ダムのしくみやはたらきを学んでもらうため、「笠堀ダム特別見学と大谷ダム探訪ツアー」の運行を始めます。 \n●スケジュール●\n道の駅「漢学の里しただ」9:00出発(8:45集合) → 笠堀ダムかさ上げ工事(見学、現場職員による土木工事説明) → 大谷ダム ふれあい資料館(見学、現場職員によるダムの役割説明・休憩) → 大谷ダム(見学、現場職員による説明) → 道の駅「漢学の里しただ」11:30頃着(着後解散) \n \n期間:11月14日(土曜)\n運行時間:午前9時00分~11時30分\n対象:大人(中学生以上)\n定員:42名\n旅行代金:2\,000円/お一人様\n申込・問い合わせ先:株式会社JTB関東\n申込方法:TEL:0256-68-2601(申込専用電話)\n　　　　　　　FAX:0256-35-3915\n　　　　　　　web:JTB関東 法人営業三条支店\n申込開始:平成27年9月13日～ \n≫お申し込みはこちらから≪
URL:https://www.kenoh-navi.com/event/kasabori_ootani_2015_11_14/
ATTACH;FMTTYPE=image/jpeg:https://www.kenoh-navi.com/wp/wp-content/uploads/2015/07/1280px-Kasabori-753-r1.jpg
END:VEVENT
BEGIN:VEVENT
DTSTART;TZID=Asia/Tokyo:20151108T090000
DTEND;TZID=Asia/Tokyo:20151108T163000
DTSTAMP:20260423T065804
CREATED:20150716T093958Z
LAST-MODIFIED:20150716T093958Z
UID:4679-1446973200-1447000200@www.kenoh-navi.com
SUMMARY:【最終】秘境八十里越体感バス 11月②
DESCRIPTION:秘境八十里越体感バス\n~感じよう、あふれる自然・歴史ロマン・未来へつなぐ土木技術~\n下田地区の9施設で受けられる特典をご用意しております。 \n一度途絶えた会津と越後の道が時を超えて再び結ばれる「国道２８９号八十里越」の工事見学を通じ、事業の効果・必要性を感じてもらうとともに秘境八十里越の最大の魅力である「あふれる自然」や「河井継之助にまつわる歴史ロマン」を実際に体感してもらい、心満たされる豊かなひと時を過ごしてもらうため、「秘境八十里越体感バス」を運行します。 \n \n●スケジュール● \n道の駅「漢学の里しただ」9:00出発(8:45集合)/13:15出発(13:00集合) → 6号トンネル付近(説明) → 5号橋梁付近(説明) → 8号トンネル新潟坑口(説明・休憩) → 7号橋梁(見学) → 道の駅「漢学の里しただ」12:15頃着/16:30頃着(到着後解散) \n \n期間:平成27年11月8日(日)\n　　 【２回運行】　午前便：9時00分~午後0時15分　午後便:13時15分～16時30分\n対象:大人(中学生以上)\n定員:午前、午後便ともに84名\n旅行代金:2\,600円/お一人様\n申込・問い合わせ先:株式会社 JTB関東\n申込方法:TEL.0256-68-2601(申込専用電話)　\n　　　　　　　FAX.0256-35-3915\n　　　　　　　WEB.JTB関東 法人営業三条支店\n申込開始平成27年9月6日～ \n≫お申込みはこちら≪
URL:https://www.kenoh-navi.com/event/80rigoe_2015_11_8/
ATTACH;FMTTYPE=image/jpeg:https://www.kenoh-navi.com/wp/wp-content/uploads/2015/07/c79613dec86126f1b6ebff4e933af16f-e1437037658260.jpg
END:VEVENT
BEGIN:VEVENT
DTSTART;VALUE=DATE:20151108
DTEND;VALUE=DATE:20151109
DTSTAMP:20260423T065804
CREATED:20151019T083830Z
LAST-MODIFIED:20151019T085322Z
UID:7264-1446940800-1447027199@www.kenoh-navi.com
SUMMARY:第11回 三条市音楽祭/ロック・ポピュラーの部
DESCRIPTION:時間\n開場：12:30~\n開演：13:00~ \n演奏順はこちら\nhttp://www.city.sanjo.niigata.jp/common/000095613.pdf
URL:https://www.kenoh-navi.com/event/sanzyousiongakusairokkupopyura/
LOCATION:三条市中央公民館\, 三条市\, 元町13-1\, 955-0072
ATTACH;FMTTYPE=image/jpeg:https://www.kenoh-navi.com/wp/wp-content/uploads/2015/10/rokkupopyu1.jpg
END:VEVENT
BEGIN:VEVENT
DTSTART;TZID=Asia/Tokyo:20151107T090000
DTEND;TZID=Asia/Tokyo:20151107T113000
DTSTAMP:20260423T065804
CREATED:20150716T085443Z
LAST-MODIFIED:20150716T085503Z
UID:4652-1446886800-1446895800@www.kenoh-navi.com
SUMMARY:笠堀ダム特別見学と大谷ダム探訪ツアー11月①
DESCRIPTION:今しか見られない!\n●笠堀ダム特別見学と大谷ダム探訪ツアー●\n下田地区の9施設で受けられる特典・ダムカード3種類をプレゼントがあります! \n \n三条市の治水・利水の利便性を高め、貯水量を増やし私たちが安心して安全に暮らせるよう『笠堀ダムかさ上げ工事』をしています。工事期間は平成２６年度から２９年度の予定で、その間一般車両は通行できません。自然豊かなしただ郷の魅力を体感しながら、今しか見れない！笠堀ダムのかさ上げ工事現場や大谷ダム内部の見学を通して、ダムのしくみやはたらきを学んでもらうため、「笠堀ダム特別見学と大谷ダム探訪ツアー」の運行を始めます。 \n●スケジュール●\n道の駅「漢学の里しただ」9:00出発(8:45集合) → 笠堀ダムかさ上げ工事(見学、現場職員による土木工事説明) → 大谷ダム ふれあい資料館(見学、現場職員によるダムの役割説明・休憩) → 大谷ダム(見学、現場職員による説明) → 道の駅「漢学の里しただ」11:30頃着(着後解散) \n \n期間:11月7日(土曜)\n運行時間:午前9時00分~11時30分\n対象:大人(中学生以上)\n定員:42名\n旅行代金:2\,000円/お一人様\n申込・問い合わせ先:株式会社JTB関東\n申込方法:TEL:0256-68-2601(申込専用電話)\n　　　　　　　FAX:0256-35-3915\n　　　　　　　web:JTB関東 法人営業三条支店\n申込開始:平成27年9月13日～ \n≫お申し込みはこちらから≪
URL:https://www.kenoh-navi.com/event/kasabori_ootani_2015_11_7/
ATTACH;FMTTYPE=image/jpeg:https://www.kenoh-navi.com/wp/wp-content/uploads/2015/07/1280px-Kasabori-753-r1.jpg
END:VEVENT
BEGIN:VEVENT
DTSTART;VALUE=DATE:20151107
DTEND;VALUE=DATE:20151108
DTSTAMP:20260423T065804
CREATED:20151023T083135Z
LAST-MODIFIED:20151024T010535Z
UID:7371-1446854400-1446940799@www.kenoh-navi.com
SUMMARY:Conguero Tres Hoofers LIVE at 三条ものづくり学校
DESCRIPTION:ギター＋タップ＋パーカッションの迫力のLIVE開催!!\n映画「座頭市」出演、UNIQLO CMに楽曲提供で話題のタップミュージシャンSARO\nEDWIN CM や NHK WORLD等への楽曲提供やプロデュース等で活躍する最先端ギタリスト渥美幸裕\n由紀さおり、JUJU、和田アキ子、真心ブラザーズまでをサポートするパーカッション西岡ヒデローによるアコースティックプロジェクトConguero Tres Hoofers(コンゲイロ・トレス・フーファーズ ＝【CTH】)が、三条市初上陸!!\nゲストに三条市在住のジャズシンガー吉川ナオミさんも交えた、感動と白熱のライブをお楽しみください \n開催時間：OPEN 18:00/START 19:00~ \nチケット販売があります。\n詳しくは下記よりご予約ください。\nhttp://sanjo-school.net/?p=2254\n★中学生以下入場無料（保護者同伴）
URL:https://www.kenoh-navi.com/event/conguero-tres-hoofers-live-at-sanjoumonodukurigakkou/
LOCATION:三条ものづくり学校\, 三条市桜木町 12-38\, 〒955-0844
ATTACH;FMTTYPE=image/jpeg:https://www.kenoh-navi.com/wp/wp-content/uploads/2015/10/cth1.jpg
END:VEVENT
BEGIN:VEVENT
DTSTART;VALUE=DATE:20151105
DTEND;VALUE=DATE:20151109
DTSTAMP:20260423T065804
CREATED:20151031T063005Z
LAST-MODIFIED:20151104T003530Z
UID:7486-1446681600-1447027199@www.kenoh-navi.com
SUMMARY:お取り越し
DESCRIPTION:　  \n\n「お取り越し報恩講」は三条別院にとって最も大切な法要ですが、同時に三条の町の歴史と共にあった法要です。5日~7日は別院境内にたくさんの露店が出展し、お子様からお年寄りまで楽しみながらご参詣いただけます\n春の三条まつりとならんで三条の二大行事でもあります。 \n開催日：報恩講/11月5日~8日　露天/11月5日~7日\n開催地：三条別院/本寺小路
URL:https://www.kenoh-navi.com/event/otorikosi/
LOCATION:真宗大谷派三条別院\, 三条市本町2丁目1-57\, 〒955-0071
ATTACH;FMTTYPE=image/jpeg:https://www.kenoh-navi.com/wp/wp-content/uploads/2015/10/otorikosigai.jpg
END:VEVENT
BEGIN:VEVENT
DTSTART;VALUE=DATE:20151103
DTEND;VALUE=DATE:20151201
DTSTAMP:20260423T065804
CREATED:20151023T060503Z
LAST-MODIFIED:20151024T010347Z
UID:7365-1446508800-1448927999@www.kenoh-navi.com
SUMMARY:【企画展示】エムズグラフィック のしごと
DESCRIPTION:代表の樋口氏が家の片隅で育児休暇中に始めたデザインの仕事が23年経た今、どんな花を咲かせているのでしょう。いろいろなものづくりに関わって来た足跡を一緒にたどってみませんか。\n \n会館時間\n8:30~22:00(最終日は17:00)
URL:https://www.kenoh-navi.com/event/emuzugurafikkunosigoto/
LOCATION:三条ものづくり学校\, 三条市桜木町 12-38\, 〒955-0844
ATTACH;FMTTYPE=image/jpeg:https://www.kenoh-navi.com/wp/wp-content/uploads/2015/10/ms111.jpg
END:VEVENT
BEGIN:VEVENT
DTSTART;VALUE=DATE:20151103
DTEND;VALUE=DATE:20151104
DTSTAMP:20260423T065804
CREATED:20151019T075558Z
LAST-MODIFIED:20151019T085236Z
UID:7251-1446508800-1446595199@www.kenoh-navi.com
SUMMARY:第11回 三条市音楽祭/合唱の部
DESCRIPTION:時間\n開場：13:30~\n開演：14:00~ \n演奏順はこちら\nhttp://www.city.sanjo.niigata.jp/common/000095612.pdf
URL:https://www.kenoh-navi.com/event/sannzyousiongakusaigassyou/
LOCATION:三条市中央公民館\, 三条市\, 元町13-1\, 955-0072
ATTACH;FMTTYPE=image/jpeg:https://www.kenoh-navi.com/wp/wp-content/uploads/2015/10/gassyou.jpg
END:VEVENT
BEGIN:VEVENT
DTSTART;VALUE=DATE:20151102
DTEND;VALUE=DATE:20151107
DTSTAMP:20260423T065804
CREATED:20151016T081257Z
LAST-MODIFIED:20151027T030043Z
UID:7244-1446422400-1446854399@www.kenoh-navi.com
SUMMARY:しただの紅葉スポットを巡るバスツアー
DESCRIPTION:しただの紅葉を巡り、温泉でゆったりしましょう!\n毎年人気を博している、しただの紅葉を巡るバスを運行します。\nいい湯らていに入館されているお客様ならどなたでも無料で参加できます。 \n所要時間：13:30~14:30\n集合場所：いい湯らてい\n参 加 費：無料(入場料別途)\n※但し、いい湯らてい入館者に限る。\nお申込み：当日フロントへお申し付けください。\nお問合せ先：いい湯らてい　☎ 0256-41-3011\n※3日祝日は除きます。
URL:https://www.kenoh-navi.com/event/sitadanokouyousupottowomegurubasutua/
ATTACH;FMTTYPE=image/jpeg:https://www.kenoh-navi.com/wp/wp-content/uploads/2015/10/kouyou1.jpg
END:VEVENT
BEGIN:VEVENT
DTSTART;TZID=Asia/Tokyo:20151101T090000
DTEND;TZID=Asia/Tokyo:20151101T163000
DTSTAMP:20260423T065804
CREATED:20150716T093821Z
LAST-MODIFIED:20150716T093821Z
UID:4678-1446368400-1446395400@www.kenoh-navi.com
SUMMARY:秘境八十里越体感バス 11月①
DESCRIPTION:秘境八十里越体感バス\n~感じよう、あふれる自然・歴史ロマン・未来へつなぐ土木技術~\n下田地区の9施設で受けられる特典をご用意しております。 \n一度途絶えた会津と越後の道が時を超えて再び結ばれる「国道２８９号八十里越」の工事見学を通じ、事業の効果・必要性を感じてもらうとともに秘境八十里越の最大の魅力である「あふれる自然」や「河井継之助にまつわる歴史ロマン」を実際に体感してもらい、心満たされる豊かなひと時を過ごしてもらうため、「秘境八十里越体感バス」を運行します。 \n \n●スケジュール● \n道の駅「漢学の里しただ」9:00出発(8:45集合)/13:15出発(13:00集合) → 6号トンネル付近(説明) → 5号橋梁付近(説明) → 8号トンネル新潟坑口(説明・休憩) → 7号橋梁(見学) → 道の駅「漢学の里しただ」12:15頃着/16:30頃着(到着後解散) \n \n期間:平成27年11月1日(日)\n　　 【２回運行】　午前便：9時00分~午後0時15分　午後便:13時15分～16時30分\n対象:大人(中学生以上)\n定員:午前、午後便ともに84名\n旅行代金:2\,600円/お一人様\n申込・問い合わせ先:株式会社 JTB関東\n申込方法:TEL.0256-68-2601(申込専用電話)　\n　　　　　　　FAX.0256-35-3915\n　　　　　　　WEB.JTB関東 法人営業三条支店\n申込開始平成27年9月6日～ \n≫お申込みはこちら≪
URL:https://www.kenoh-navi.com/event/80rigoe_2015_11_1/
ATTACH;FMTTYPE=image/jpeg:https://www.kenoh-navi.com/wp/wp-content/uploads/2015/07/c79613dec86126f1b6ebff4e933af16f-e1437037658260.jpg
END:VEVENT
BEGIN:VEVENT
DTSTART;VALUE=DATE:20151101
DTEND;VALUE=DATE:20151125
DTSTAMP:20260423T065804
CREATED:20150928T084319Z
LAST-MODIFIED:20151114T010147Z
UID:6860-1446336000-1448409599@www.kenoh-navi.com
SUMMARY:弥彦菊まつり
DESCRIPTION:三万本の挿芽小菊で毎年テーマを変え作られる大風景花壇は圧巻で、観菊者の目を惹きつけ名物だ。 \n2014年の大風景花壇のテーマ『富士山』\n例年 愛好者から続々と出品され、弥彦神社境内を会場に規模、施設、出品数(4千鉢にのぼる)、品目の多様なことで、県下随一の大展覧会だ。\nまた、「弥彦の菊まつり」と呼ばれてすっかり秋の風物詩として全国に知られ、越後の大勢の観菊者で賑いをみせている。\n1本の菊から数百の花をつける大菊の数咲き、中菊の古典菊、子菊懸崖、盆栽など錦秋の弥彦を彩っている。 \n↓↓県央なび内サイト「越後一宮　彌彦神社」↓↓\nhttp://www.kenoh-navi.com/maparea/map_yahiko/yahikojinnjya/ \nこの時期、他に見所になっているのが「もみじ谷」である。\n弥彦神社の外苑に位置する弥彦公園のもみじ谷では、真っ赤に彩られた紅葉と朱色の観月橋とのコントラストが美しく、１年で最も美しく季節を迎え、人気のスポットとなっています。\n↓↓県央なび内サイト「もみじ谷」↓↓\nhttp://www.kenoh-navi.com/maparea/map_yahiko/yahikomomizidani-2/
URL:https://www.kenoh-navi.com/event/yahikokikumaturi/
LOCATION:弥彦神社\, 西蒲原郡弥彦村弥彦2887-2\, 〒959-0323
ATTACH;FMTTYPE=image/jpeg:https://www.kenoh-navi.com/wp/wp-content/uploads/2015/09/kikumaturi2.jpg
END:VEVENT
BEGIN:VEVENT
DTSTART;TZID=Asia/Tokyo:20151031T093000
DTEND;TZID=Asia/Tokyo:20151031T160000
DTSTAMP:20260423T065804
CREATED:20150928T014817Z
LAST-MODIFIED:20151006T062901Z
UID:6903-1446283800-1446307200@www.kenoh-navi.com
SUMMARY:ハロウィンパーティーinかんきょう庵2015
DESCRIPTION:◆秋のリース作りはお申込みが必要です。\n　10月16日(金)までに「かんきょう庵」へご連絡ください。
URL:https://www.kenoh-navi.com/event/harowinpa-thi-inkankyouan2015/
LOCATION:環境啓発施設「かんきょう庵」\, 環境啓発施設・かんきょう庵\, 〒959-1102
ATTACH;FMTTYPE=image/jpeg:https://www.kenoh-navi.com/wp/wp-content/uploads/2015/09/harouxin.jpg
END:VEVENT
BEGIN:VEVENT
DTSTART;TZID=Asia/Tokyo:20151025T090000
DTEND;TZID=Asia/Tokyo:20151025T163000
DTSTAMP:20260423T065804
CREATED:20150716T093620Z
LAST-MODIFIED:20150716T093620Z
UID:4677-1445763600-1445790600@www.kenoh-navi.com
SUMMARY:秘境八十里越体感バス 10月③
DESCRIPTION:秘境八十里越体感バス\n~感じよう、あふれる自然・歴史ロマン・未来へつなぐ土木技術~\n下田地区の9施設で受けられる特典をご用意しております。 \n一度途絶えた会津と越後の道が時を超えて再び結ばれる「国道２８９号八十里越」の工事見学を通じ、事業の効果・必要性を感じてもらうとともに秘境八十里越の最大の魅力である「あふれる自然」や「河井継之助にまつわる歴史ロマン」を実際に体感してもらい、心満たされる豊かなひと時を過ごしてもらうため、「秘境八十里越体感バス」を運行します。 \n \n●スケジュール● \n道の駅「漢学の里しただ」9:00出発(8:45集合)/13:15出発(13:00集合) → 6号トンネル付近(説明) → 5号橋梁付近(説明) → 8号トンネル新潟坑口(説明・休憩) → 7号橋梁(見学) → 道の駅「漢学の里しただ」12:15頃着/16:30頃着(到着後解散) \n \n期間:平成27年10月25日(日)\n　　 【２回運行】　午前便：9時00分~午後0時15分　午後便:13時15分～16時30分\n対象:大人(中学生以上)\n定員:午前、午後便ともに84名\n旅行代金:2\,600円/お一人様\n申込・問い合わせ先:株式会社 JTB関東\n申込方法:TEL.0256-68-2601(申込専用電話)　\n　　　　　　　FAX.0256-35-3915\n　　　　　　　WEB.JTB関東 法人営業三条支店\n申込開始平成27年9月6日～ \n≫お申込みはこちら≪
URL:https://www.kenoh-navi.com/event/80rigoe_2015_10_25/
ATTACH;FMTTYPE=image/jpeg:https://www.kenoh-navi.com/wp/wp-content/uploads/2015/07/c79613dec86126f1b6ebff4e933af16f-e1437037658260.jpg
END:VEVENT
BEGIN:VEVENT
DTSTART;VALUE=DATE:20151025
DTEND;VALUE=DATE:20151026
DTSTAMP:20260423T065804
CREATED:20151016T072628Z
LAST-MODIFIED:20151016T074140Z
UID:7234-1445731200-1445817599@www.kenoh-navi.com
SUMMARY:秋の大感謝祭
DESCRIPTION:道の駅 漢学の里しただ & いい湯らてい同時開催!!\n是非、秋の紅葉シーズンにしただ郷に遊びにお越しください。\n \n会場：道の駅 漢学の里しただ & いい湯らてい\n時間：道の駅 漢学の里しただ/9:00~\n　　　　いい湯らてい/10:00~\nお問合せ：道の駅 漢学の里しただ　担当：中野\n☎：0256-47-2230
URL:https://www.kenoh-navi.com/event/akinodaikansyasai/
ATTACH;FMTTYPE=image/jpeg:https://www.kenoh-navi.com/wp/wp-content/uploads/2015/10/daikansyasai.jpg
END:VEVENT
END:VCALENDAR