BEGIN:VCALENDAR
VERSION:2.0
PRODID:-//新潟県央なび - 燕市・三条市・加茂市・弥彦村の店舗・施設案内 - ECPv6.0.6.2//NONSGML v1.0//EN
CALSCALE:GREGORIAN
METHOD:PUBLISH
X-WR-CALNAME:新潟県央なび - 燕市・三条市・加茂市・弥彦村の店舗・施設案内
X-ORIGINAL-URL:https://www.kenoh-navi.com
X-WR-CALDESC:新潟県央なび - 燕市・三条市・加茂市・弥彦村の店舗・施設案内 のイベント
REFRESH-INTERVAL;VALUE=DURATION:PT1H
X-Robots-Tag:noindex
X-PUBLISHED-TTL:PT1H
BEGIN:VTIMEZONE
TZID:Asia/Tokyo
BEGIN:STANDARD
TZOFFSETFROM:+0900
TZOFFSETTO:+0900
TZNAME:JST
DTSTART:20150101T000000
END:STANDARD
END:VTIMEZONE
BEGIN:VEVENT
DTSTART;VALUE=DATE:20151025
DTEND;VALUE=DATE:20151026
DTSTAMP:20260423T070700
CREATED:20151002T050944Z
LAST-MODIFIED:20151002T050944Z
UID:6997-1445731200-1445817599@www.kenoh-navi.com
SUMMARY:燕市PR大使 ふるさとコンサート
DESCRIPTION:開場：14:00\n開演：15:00\n入場料：自由席1000円(税込)\n※入場料の半額を燕市子ども夢基金に積立\n※車いす席有(事前にご予約が必要です。)\n入場券：販売中\n入場取扱：燕市総合文化センター・アサヒ堂・パコ・マルダイ楽器・エブリーデリス・吉田産業会館・(一財)燕三条地場産業振興センター・阿部電器商会・越後交通(株)東三条駅前案内所
URL:https://www.kenoh-navi.com/event/tubamesiprtaisi-hurusatokonsa-to/
LOCATION:燕市文化会館\, 新潟県燕市水道町1丁目3-28\, 〒959-1262
ATTACH;FMTTYPE=image/jpeg:https://www.kenoh-navi.com/wp/wp-content/uploads/2015/10/hurusatokonomo-212x3001.jpg
END:VEVENT
BEGIN:VEVENT
DTSTART;VALUE=DATE:20151025
DTEND;VALUE=DATE:20151026
DTSTAMP:20260423T070700
CREATED:20151002T043338Z
LAST-MODIFIED:20151019T085532Z
UID:6990-1445731200-1445817599@www.kenoh-navi.com
SUMMARY:第8回 燕市民茶会
DESCRIPTION:晩秋の一日、\n一服のお茶とともに、皆様とやすらぎのひとときを・・・・\nご来会をおまちいたしております。 \n時間：9:30~15:00　点心席：10:30~2:30\n会場：燕市吉田産業会館\n※中央公民館が工事中につき、昨年より会場が変更になっております。 \n茶席券：点心つき2\,500円　点心なし1\,200円 \n茶席券の取り扱い：燕庁舎分館(白山町2丁目)、燕市勤労青少年ホーム(燕市総合文化センター内)、吉田公民館、分水公民館 \n※各施設とも10月23日(金)まで取扱いし、なくなり次第終了となります。\n※当日の茶席券は、前日までの残券を会場で販売します。なくなり次第終了となり茶席には入室できませんのでご承知おきください。茶席券に限りがありますので、お早めにお求めください。 \n第1席　東阿部流　更科翠游　　　　　　　\n第2席　裏千家　石丸宗玲\n点心席　表千家流　坂井宗美 \n【市民茶会に関するお問い合わせ】\n燕市教育委員会 社会教育課 公民館事業係\nTEL：0256-63-7001/FAX：0256-63-7003
URL:https://www.kenoh-navi.com/event/tsubamesimintyakai/
LOCATION:燕市吉田産業会館\,  新潟県燕市吉田東栄町14-12\, 〒959-0232 
ATTACH;FMTTYPE=image/jpeg:https://www.kenoh-navi.com/wp/wp-content/uploads/2015/10/mattya.jpg
END:VEVENT
BEGIN:VEVENT
DTSTART;TZID=Asia/Tokyo:20151024T090000
DTEND;TZID=Asia/Tokyo:20151024T233000
DTSTAMP:20260423T070700
CREATED:20150716T085134Z
LAST-MODIFIED:20150716T085134Z
UID:4650-1445677200-1445729400@www.kenoh-navi.com
SUMMARY:笠堀ダム特別見学と大谷ダム探訪ツアー10月②
DESCRIPTION:今しか見られない!\n●笠堀ダム特別見学と大谷ダム探訪ツアー●\n下田地区の9施設で受けられる特典・ダムカード3種類をプレゼントがあります! \n \n三条市の治水・利水の利便性を高め、貯水量を増やし私たちが安心して安全に暮らせるよう『笠堀ダムかさ上げ工事』をしています。工事期間は平成２６年度から２９年度の予定で、その間一般車両は通行できません。自然豊かなしただ郷の魅力を体感しながら、今しか見れない！笠堀ダムのかさ上げ工事現場や大谷ダム内部の見学を通して、ダムのしくみやはたらきを学んでもらうため、「笠堀ダム特別見学と大谷ダム探訪ツアー」の運行を始めます。 \n●スケジュール●\n道の駅「漢学の里しただ」9:00出発(8:45集合) → 笠堀ダムかさ上げ工事(見学、現場職員による土木工事説明) → 大谷ダム ふれあい資料館(見学、現場職員によるダムの役割説明・休憩) → 大谷ダム(見学、現場職員による説明) → 道の駅「漢学の里しただ」11:30頃着(着後解散) \n \n期間:10月24日(土曜)\n運行時間:午前9時00分~11時30分\n対象:大人(中学生以上)\n定員:42名\n旅行代金:2\,000円/お一人様\n申込・問い合わせ先:株式会社JTB関東\n申込方法:TEL:0256-68-2601(申込専用電話)\n　　　　　　　FAX:0256-35-3915\n　　　　　　　web:JTB関東 法人営業三条支店\n申込開始:平成27年9月13日～ \n≫お申し込みはこちらから≪
URL:https://www.kenoh-navi.com/event/kasabori_ootani_2015_10_24/
ATTACH;FMTTYPE=image/jpeg:https://www.kenoh-navi.com/wp/wp-content/uploads/2015/07/1280px-Kasabori-753-r1.jpg
END:VEVENT
BEGIN:VEVENT
DTSTART;VALUE=DATE:20151020
DTEND;VALUE=DATE:20151122
DTSTAMP:20260423T070700
CREATED:20151114T011213Z
LAST-MODIFIED:20151114T011649Z
UID:7789-1445299200-1448150399@www.kenoh-navi.com
SUMMARY:弥彦もみじ谷
DESCRIPTION:10月下旬より11月中旬にかけて「弥彦もみじ谷」の紅葉が見ごろとなります。\n↓↓県央なび内サイト↓↓\nhttp://www.kenoh-navi.com/maparea/map_yahiko/yahikomomizidani-2/
URL:https://www.kenoh-navi.com/event/yahikomomizidani/
LOCATION:弥彦もみじ谷\, 新潟県西蒲原郡弥彦村弥彦公園
ATTACH;FMTTYPE=image/jpeg:https://www.kenoh-navi.com/wp/wp-content/uploads/2015/09/yahikomomizi-4.jpg
END:VEVENT
BEGIN:VEVENT
DTSTART;TZID=Asia/Tokyo:20151018T100000
DTEND;TZID=Asia/Tokyo:20151018T160000
DTSTAMP:20260423T070700
CREATED:20151006T020404Z
LAST-MODIFIED:20151006T020404Z
UID:7085-1445162400-1445184000@www.kenoh-navi.com
SUMMARY:Bunsuiけいトラ市withツバメルシェ
DESCRIPTION:軽トラの市の他、ステージイベント、秋市、働くクルマも大集合！\nツバメルシェも共に開催します！！
URL:https://www.kenoh-navi.com/event/bunsuikeitoraichi_tubamerusye/
LOCATION:分水総合体育館駐車場
ATTACH;FMTTYPE=image/jpeg:https://www.kenoh-navi.com/wp/wp-content/uploads/2015/10/-e1444096707109.jpg
END:VEVENT
BEGIN:VEVENT
DTSTART;TZID=Asia/Tokyo:20151018T071500
DTEND;TZID=Asia/Tokyo:20151018T120000
DTSTAMP:20260423T070700
CREATED:20151002T064928Z
LAST-MODIFIED:20151002T070718Z
UID:7027-1445152500-1445169600@www.kenoh-navi.com
SUMMARY:第37回　寺泊シーサイドマラソン大会
DESCRIPTION:大会リニューアル！！\n小学生からシニア世代まで、みなさんに優しい大会を目指します！ \n✦会場✦\n寺泊みなと公園（寺泊体育館裏）\nみなと公園脇スタート／フィニッシュ \n✦種目✦\n・ハーフマラソン\n・10km\n・5km\n・2km \n✦ゲストランナー✦\n千葉 真子さん、エリック・ワイナイナさん！！ \n抽選会・ゲストランナーサイン会などもあります。みんなでランナーを応援しましょう！！
URL:https://www.kenoh-navi.com/event/teradomariseasidemarathon_2015/
ATTACH;FMTTYPE=image/jpeg:https://www.kenoh-navi.com/wp/wp-content/uploads/2015/10/pic_guideline2015-150x1501.jpg
END:VEVENT
BEGIN:VEVENT
DTSTART;TZID=Asia/Tokyo:20151012T100000
DTEND;TZID=Asia/Tokyo:20151012T150000
DTSTAMP:20260423T070700
CREATED:20151002T164518Z
LAST-MODIFIED:20151002T164518Z
UID:7032-1444644000-1444662000@www.kenoh-navi.com
SUMMARY:三条マルシェ　大規模開催
DESCRIPTION:10月マルシェは大規模開催！！ \n４つのエリアで多くのお店が出店されます★\n詳細はこちらから！
URL:https://www.kenoh-navi.com/event/sanjyoumarusye_2015_10/
ATTACH;FMTTYPE=image/jpeg:https://www.kenoh-navi.com/wp/wp-content/uploads/2015/10/sanjomarche201510_omote-e1443788940780.jpg
END:VEVENT
BEGIN:VEVENT
DTSTART;TZID=Asia/Tokyo:20151011T140000
DTEND;TZID=Asia/Tokyo:20151011T140000
DTSTAMP:20260423T070700
CREATED:20150915T072556Z
LAST-MODIFIED:20150915T072556Z
UID:6738-1444572000-1444572000@www.kenoh-navi.com
SUMMARY:第三回 三条バル街
DESCRIPTION:
URL:https://www.kenoh-navi.com/event/sanjoubarugai/
LOCATION:三条市内・県央地区
ATTACH;FMTTYPE=image/gif:https://www.kenoh-navi.com/wp/wp-content/uploads/2015/09/top_logo1.gif
END:VEVENT
BEGIN:VEVENT
DTSTART;TZID=Asia/Tokyo:20151011T100000
DTEND;TZID=Asia/Tokyo:20151011T160000
DTSTAMP:20260423T070700
CREATED:20151002T023907Z
LAST-MODIFIED:20151002T062544Z
UID:6982-1444557600-1444579200@www.kenoh-navi.com
SUMMARY:農と魚のフェスティバルin寺泊
DESCRIPTION:貝殻を使ったキャンドル作り（無料体験） \n \nお子様と一緒に作れば良い思い出にもなりますよ♪ \n \n \n \n \n \nモチつき大会（13：00） \n \n自分でついたおモチは格別です！ \n \n \n \n \n \n地元寺泊で水揚げされた 鮮魚セリ市（参加受付14：00開始14：30） \n \n普段はなかなか見れないセリ市！この機会にご参加ください！！ \n \n \n \n \n \n農と魚の宝さがし（15：15） \n \n砂浜に隠されたお宝をGETしましょう☆
URL:https://www.kenoh-navi.com/event/noutosakananofesuthibaru/
LOCATION:寺泊みなと公園（雨天：寺泊体育館）
ATTACH;FMTTYPE=image/jpeg:https://www.kenoh-navi.com/wp/wp-content/uploads/2015/10/-e1443766483839.jpg
END:VEVENT
BEGIN:VEVENT
DTSTART;TZID=Asia/Tokyo:20151011T090000
DTEND;TZID=Asia/Tokyo:20151011T163000
DTSTAMP:20260423T070700
CREATED:20150716T093447Z
LAST-MODIFIED:20150716T093447Z
UID:4675-1444554000-1444581000@www.kenoh-navi.com
SUMMARY:秘境八十里越体感バス 10月②
DESCRIPTION:秘境八十里越体感バス\n~感じよう、あふれる自然・歴史ロマン・未来へつなぐ土木技術~\n下田地区の9施設で受けられる特典をご用意しております。 \n一度途絶えた会津と越後の道が時を超えて再び結ばれる「国道２８９号八十里越」の工事見学を通じ、事業の効果・必要性を感じてもらうとともに秘境八十里越の最大の魅力である「あふれる自然」や「河井継之助にまつわる歴史ロマン」を実際に体感してもらい、心満たされる豊かなひと時を過ごしてもらうため、「秘境八十里越体感バス」を運行します。 \n \n●スケジュール● \n道の駅「漢学の里しただ」9:00出発(8:45集合)/13:15出発(13:00集合) → 6号トンネル付近(説明) → 5号橋梁付近(説明) → 8号トンネル新潟坑口(説明・休憩) → 7号橋梁(見学) → 道の駅「漢学の里しただ」12:15頃着/16:30頃着(到着後解散) \n \n期間:平成27年10月11日(日)\n　　 【２回運行】　午前便：9時00分~午後0時15分　午後便:13時15分～16時30分\n対象:大人(中学生以上)\n定員:午前、午後便ともに84名\n旅行代金:2\,600円/お一人様\n申込・問い合わせ先:株式会社 JTB関東\n申込方法:TEL.0256-68-2601(申込専用電話)　\n　　　　　　　FAX.0256-35-3915\n　　　　　　　WEB.JTB関東 法人営業三条支店\n申込開始平成27年9月6日～ \n≫お申込みはこちら≪
URL:https://www.kenoh-navi.com/event/80rigoe_2015_10_11/
ATTACH;FMTTYPE=image/jpeg:https://www.kenoh-navi.com/wp/wp-content/uploads/2015/07/c79613dec86126f1b6ebff4e933af16f-e1437037658260.jpg
END:VEVENT
BEGIN:VEVENT
DTSTART;TZID=Asia/Tokyo:20151010T100000
DTEND;TZID=Asia/Tokyo:20151010T153000
DTSTAMP:20260423T070700
CREATED:20150925T073100Z
LAST-MODIFIED:20150925T073547Z
UID:6875-1444471200-1444491000@www.kenoh-navi.com
SUMMARY:つばさんキッズフェスタ
DESCRIPTION:燕三条の産業・伝統文化・観光・農業・食の５つのキーワードを体感できる「～つばさんキッズフェスタ～」を開催！ \n燕三条は日本の産業を支えるものづくりや美味しい作物が育つ農業、地域に根付いたご当地グルメなど、さまざまな魅力に溢れており、１２の体験ブースは１か所を除き無料です！この機会に燕三条の魅力を体験してみませんか？
URL:https://www.kenoh-navi.com/event/tsubasankidsfesta2015/
LOCATION:燕三条地場産業振興センター\, 三条市須頃1丁目17\, 〒955-0092
ATTACH;FMTTYPE=image/jpeg:https://www.kenoh-navi.com/wp/wp-content/uploads/2015/09/A4_OL_01-e1440853878568-120x100.jpg
END:VEVENT
BEGIN:VEVENT
DTSTART;TZID=Asia/Tokyo:20151010T090000
DTEND;TZID=Asia/Tokyo:20151010T113000
DTSTAMP:20260423T070700
CREATED:20150716T084953Z
LAST-MODIFIED:20150716T085602Z
UID:4649-1444467600-1444476600@www.kenoh-navi.com
SUMMARY:笠堀ダム特別見学と大谷ダム探訪ツアー10月①
DESCRIPTION:今しか見られない!\n●笠堀ダム特別見学と大谷ダム探訪ツアー●\n下田地区の9施設で受けられる特典・ダムカード3種類をプレゼントがあります! \n \n三条市の治水・利水の利便性を高め、貯水量を増やし私たちが安心して安全に暮らせるよう『笠堀ダムかさ上げ工事』をしています。工事期間は平成２６年度から２９年度の予定で、その間一般車両は通行できません。自然豊かなしただ郷の魅力を体感しながら、今しか見れない！笠堀ダムのかさ上げ工事現場や大谷ダム内部の見学を通して、ダムのしくみやはたらきを学んでもらうため、「笠堀ダム特別見学と大谷ダム探訪ツアー」の運行を始めます。 \n●スケジュール●\n道の駅「漢学の里しただ」9:00出発(8:45集合) → 笠堀ダムかさ上げ工事(見学、現場職員による土木工事説明) → 大谷ダム ふれあい資料館(見学、現場職員によるダムの役割説明・休憩) → 大谷ダム(見学、現場職員による説明) → 道の駅「漢学の里しただ」11:30頃着(着後解散) \n \n期間:10月10日(土曜)\n運行時間:午前9時00分~11時30分\n対象:大人(中学生以上)\n定員:42名\n旅行代金:2\,000円/お一人様\n申込・問い合わせ先:株式会社JTB関東\n申込方法:TEL:0256-68-2601(申込専用電話)\n　　　　　　　FAX:0256-35-3915\n　　　　　　　web:JTB関東 法人営業三条支店\n申込開始:平成27年9月13日～ \n≫お申し込みはこちらから≪
URL:https://www.kenoh-navi.com/event/kasabori_ootani_2015_10_10/
ATTACH;FMTTYPE=image/jpeg:https://www.kenoh-navi.com/wp/wp-content/uploads/2015/07/1280px-Kasabori-753-r1.jpg
END:VEVENT
BEGIN:VEVENT
DTSTART;VALUE=DATE:20151010
DTEND;VALUE=DATE:20151012
DTSTAMP:20260423T070700
CREATED:20150924T062637Z
LAST-MODIFIED:20150924T062637Z
UID:6852-1444435200-1444607999@www.kenoh-navi.com
SUMMARY:チーズマラソン三条
DESCRIPTION:初めてのチーズつくり2日間コース！\n新幹線燕三条駅から車で10分。秋の新潟旅行もかねてどうぞ。\n　\n\nDAY1 土曜日クラス\nチーズマラソン講座1「入門編」\n生クリームフレッシュチーズと発酵バターづくり\n　\n　\nチーズの基礎のヨーグルトつくりから学びます。ノルマンディバター、クリマフレーシュ、チーズ試食にバター食べ比べなどどなたにも楽しんでいただける講座です。 \n日時：10/10(土)\n時間：13:30〜15:00\n会場：三条ものづくり学校 109号室 調理室\n費用：3000円/人\n定員：16人\n※参加人数が一定数に満たない場合はキャンセルになる場合があります。あらかじめご了承ください。\n対象：高校生以上ならどなたでも\n※大変申し訳ありませんが小さなお子様連れは今回はご遠慮くださいますようよろしくお願いします。\n★MAKES(作る)★\n発酵バター、ヨーグルト、フレッシュチーズ、サワークリーム他\n★CLASS★\n基本レシピ3種(ヨーグルト、発酵バター、フレッシュチーズ)、フレッシュチーズ種菌、酵素、ヨーグルト種菌2種、チーズの応用レシピ、試食チーズ付き。牛乳は含みません。 \n \n\nDAY2 日曜日クラス\nチーズマラソン講座２\nモッツアレラチーズつくり\n　 \n人気ありますが実は難しいとされるモッツアレラチーズ。自宅で上手に作るコツとその理由を学びます。おいしいもの好きの方どうぞご参加くださいませ。 \n日時：10/11(日)\n時間：10:00〜13:00(10/10の入門編参加者は、11:00〜13:00）\n＊このチーズはヨーグルトをきちんと作れることが前提となります。2日目のみの参加の場合は、入門編のかわりに10:00〜11:00にヨーグルトつくりをお話します。\n会場三条ものづくり学校 106号室 caffè DO＊DO\n費用：5900円/人（10/10の入門編参加者は 4\,500円/人）\n定員：12人\n＊参加人数が一定数に満たない場合はキャンセルになる場合があります。あらかじめご了承ください。\n対象：高校生以上ならどなたでも\n＊大変申し訳ありませんが小さなお子様連れは今回はご遠慮くださいますようよろしくお願いします。\n★MAKES(作る)★\nモッツアレラチーズ\n★CLASS★\n器具+原料完全キット(レシピ+乳酸菌など必要な原料3回分)付き。牛乳は含みません。追加原料は郵送でかんたんに出来ますので継続していただけます。 \n\n講師：小森司\n申し込み チーズマラソン三条\n↓↓公式サイト↓↓\nhttp://www.cheese-marathon.com/#!sanjo-oct/c1k0t\nお問い合わせ cheesemarathon@gmail.com\n(チーズマラソン運営事務局 山本)\n共催 三条ものづくり学校
URL:https://www.kenoh-navi.com/event/ti-zumarason/
LOCATION:三条ものづくり学校\, 三条市桜木町 12-38\, 〒955-0844
ATTACH;FMTTYPE=image/jpeg:https://www.kenoh-navi.com/wp/wp-content/uploads/2015/09/cheesemarathon11.jpg
END:VEVENT
BEGIN:VEVENT
DTSTART;TZID=Asia/Tokyo:20151006T130000
DTEND;TZID=Asia/Tokyo:20151006T150000
DTSTAMP:20260423T070700
CREATED:20150902T063656Z
LAST-MODIFIED:20150902T063656Z
UID:6482-1444136400-1444143600@www.kenoh-navi.com
SUMMARY:着物リメイク教室~帽子作り~
DESCRIPTION:★初心者でもつくれる帽子作り♪ \n申込み：9月11日(金)までにかんきょう庵へ(0256－45-7040) \n定　員：10人(定員を超えた場合は抽選)\n講　師：鈴木みちこ(みちこ着物着付教室主宰)
URL:https://www.kenoh-navi.com/event/kimonorimeiku_106/
LOCATION:環境啓発施設「かんきょう庵」\, 環境啓発施設・かんきょう庵\, 〒959-1102
ATTACH;FMTTYPE=image/jpeg:https://www.kenoh-navi.com/wp/wp-content/uploads/2015/09/kimonorime.jpg
END:VEVENT
BEGIN:VEVENT
DTSTART;TZID=Asia/Tokyo:20151004T100000
DTEND;TZID=Asia/Tokyo:20151004T150000
DTSTAMP:20260423T070700
CREATED:20150914T071510Z
LAST-MODIFIED:20150914T071628Z
UID:6726-1443952800-1443970800@www.kenoh-navi.com
SUMMARY:巻グルケットin多加良まつり
DESCRIPTION:カリーナ・スイーツなどのご当地グルメ、お宝市・大抽選会、ちびっ子探検隊・ふわふわバルーンなど、子供から大人まで楽しめるイベントも開催☆\nぜひ巻までお越しください！！
URL:https://www.kenoh-navi.com/event/makiguruketto_takaramaturi2015/
LOCATION:まき鯛車商店街(本町通り)
ATTACH;FMTTYPE=image/jpeg:https://www.kenoh-navi.com/wp/wp-content/uploads/2015/09/0b0157a8-s.jpg
END:VEVENT
BEGIN:VEVENT
DTSTART;TZID=Asia/Tokyo:20151004T090000
DTEND;TZID=Asia/Tokyo:20151004T163000
DTSTAMP:20260423T070700
CREATED:20150716T093116Z
LAST-MODIFIED:20150716T093116Z
UID:4672-1443949200-1443976200@www.kenoh-navi.com
SUMMARY:秘境八十里越体感バス 10月①
DESCRIPTION:秘境八十里越体感バス\n~感じよう、あふれる自然・歴史ロマン・未来へつなぐ土木技術~\n下田地区の9施設で受けられる特典をご用意しております。 \n一度途絶えた会津と越後の道が時を超えて再び結ばれる「国道２８９号八十里越」の工事見学を通じ、事業の効果・必要性を感じてもらうとともに秘境八十里越の最大の魅力である「あふれる自然」や「河井継之助にまつわる歴史ロマン」を実際に体感してもらい、心満たされる豊かなひと時を過ごしてもらうため、「秘境八十里越体感バス」を運行します。 \n \n●スケジュール● \n道の駅「漢学の里しただ」9:00出発(8:45集合)/13:15出発(13:00集合) → 6号トンネル付近(説明) → 5号橋梁付近(説明) → 8号トンネル新潟坑口(説明・休憩) → 7号橋梁(見学) → 道の駅「漢学の里しただ」12:15頃着/16:30頃着(到着後解散) \n \n期間:平成27年10月4日(日)\n　　 【２回運行】　午前便：9時00分~午後0時15分　午後便:13時15分～16時30分\n対象:大人(中学生以上)\n定員:午前、午後便ともに84名\n旅行代金:2\,600円/お一人様\n申込・問い合わせ先:株式会社 JTB関東\n申込方法:TEL.0256-68-2601(申込専用電話)　\n　　　　　　　FAX.0256-35-3915\n　　　　　　　WEB.JTB関東 法人営業三条支店\n申込開始平成27年9月6日～ \n≫お申込みはこちら≪
URL:https://www.kenoh-navi.com/event/80rigoe_2015_10_4/
ATTACH;FMTTYPE=image/jpeg:https://www.kenoh-navi.com/wp/wp-content/uploads/2015/07/c79613dec86126f1b6ebff4e933af16f-e1437037658260.jpg
END:VEVENT
BEGIN:VEVENT
DTSTART;TZID=Asia/Tokyo:20151004T090000
DTEND;TZID=Asia/Tokyo:20151004T160000
DTSTAMP:20260423T070700
CREATED:20150907T060913Z
LAST-MODIFIED:20150918T024701Z
UID:6626-1443949200-1443974400@www.kenoh-navi.com
SUMMARY:燕青空即売会
DESCRIPTION:「つばめ」といえば、ステンレスやチタンなど金属複合加工のまちです。\nこの産地が自信を持って皆様にお送りする、年に一度のビッグイベント！\n商品はナイフ・フォーク・スプーンなどの金属洋食器をはじめ、鍋・フライパン、包丁などの台所用品や家庭雑貨、伝統工芸品として有名な茶筒・茶たく・水差し等の鎚起銅器製品が、特別価格で販売されます。\nツバメルシェも同時開催!! \n日時：10月4日(日)　午前9時～午後4時【雨天決行】\nお問合せ：つばめ物流センター　電話0256-63-7660\n　　　　　　燕市商工振興課　　　電話0256-92-1111
URL:https://www.kenoh-navi.com/event/tsubameaozorasokubaikai_20151004/
ATTACH;FMTTYPE=image/jpeg:https://www.kenoh-navi.com/wp/wp-content/uploads/2015/09/tsubameaozora2.jpg
END:VEVENT
BEGIN:VEVENT
DTSTART;TZID=Asia/Tokyo:20151004T090000
DTEND;TZID=Asia/Tokyo:20151004T160000
DTSTAMP:20260423T070700
CREATED:20150902T062047Z
LAST-MODIFIED:20150902T062047Z
UID:6494-1443949200-1443974400@www.kenoh-navi.com
SUMMARY:秋の保内公園まつり
DESCRIPTION:1年を通じて保内公園最大のイベント・秋バージョンです。\n楽しいこと、美味しいものをたくさん用意してお待ちしております。お誘い合わせになっておいで下さい。
URL:https://www.kenoh-navi.com/event/akinohonaikouenmaturi/
LOCATION:熱帯植物園　保内公園\, 条市下保内3714番地\, 〒955-0021
ATTACH;FMTTYPE=image/jpeg:https://www.kenoh-navi.com/wp/wp-content/uploads/2015/09/image2.jpg
END:VEVENT
BEGIN:VEVENT
DTSTART;VALUE=DATE:20151004
DTEND;VALUE=DATE:20151005
DTSTAMP:20260423T070700
CREATED:20150910T070738Z
LAST-MODIFIED:20150910T070738Z
UID:6676-1443916800-1444003199@www.kenoh-navi.com
SUMMARY:国上寺　火渡り大祭
DESCRIPTION:◆毎年10月第1日曜日に開催 \n★国上寺の火渡り大祭★\n千年以上のはるか昔から、国上山山中にて修験道の修行の一環として厳修されておりました。江戸時代にその行事は一度途絶え、先代住職が20数年前に再興し、年々大勢の参拝者が集まる祭りになりました。 \n \n★柴燈大護摩★\n松の木を井げた形に積み重ね、ヒバやスギの葉で覆ったもので、背丈ほどの高さがある大きなもの。国上山朝日山公園内を道場とし、山伏問答などの前作法で始まり、道場を結界して多くの僧侶が読経を行うなか、参拝者がけがれや病気のところをさすった撫木(なでぎ)を燃やし、導師が修法。炎が収まると、まだ赤さが残る炭の上を導師を先頭に山伏、参拝者が次々と渡り、一年の無病息災、心願成就、大難を無難にし、開運招福を祈る行事であります。
URL:https://www.kenoh-navi.com/event/kokujoujihiwataritaisai/
LOCATION:朝日山展望台\, 新潟県燕市国上朝日山展望台\, 〒959-0136
ATTACH;FMTTYPE=image/jpeg:https://www.kenoh-navi.com/wp/wp-content/uploads/2015/09/hiwatari1.jpg
END:VEVENT
BEGIN:VEVENT
DTSTART;TZID=Asia/Tokyo:20151003T093000
DTEND;TZID=Asia/Tokyo:20151003T113000
DTSTAMP:20260423T070700
CREATED:20150902T012403Z
LAST-MODIFIED:20150902T012403Z
UID:6476-1443864600-1443871800@www.kenoh-navi.com
SUMMARY:ハロウィン　かぼちゃランタンを作ろう！
DESCRIPTION:申込み：9月18日(金)までにかんきょう庵へ(0256－45-7040) \n対象：小学4年生以上の方(小学生は保護者同伴)\n定員：10人(定員を超えた場合は抽選)\n講師：伊丹　宏子さん　\n※LED電球がついてますので、自宅で楽しんでください♪
URL:https://www.kenoh-navi.com/event/harouxinkabotyarantan/
LOCATION:環境啓発施設「かんきょう庵」\, 環境啓発施設・かんきょう庵\, 〒959-1102
ATTACH;FMTTYPE=image/jpeg:https://www.kenoh-navi.com/wp/wp-content/uploads/2015/09/harouxin.jpg
END:VEVENT
BEGIN:VEVENT
DTSTART;VALUE=DATE:20151001
DTEND;VALUE=DATE:20151228
DTSTAMP:20260423T070700
CREATED:20151023T054841Z
LAST-MODIFIED:20151024T004059Z
UID:7359-1443657600-1451260799@www.kenoh-navi.com
SUMMARY:【企画展】Power of 燕三条
DESCRIPTION:本展示では、スノーピークの製品の中から［焚火台］［燕三条極薄鋳鉄］［チタンマグカップ］の３製品にスポットをあて、それぞれの製造委託先企業にお邪魔して話を伺うとともに普段はなかなか見られない製造過程の現物を公開しています。 \n★焚火台★\n \n★燕三条極薄鋳鉄★と★チタンマグカップ★ \n\n　
URL:https://www.kenoh-navi.com/event/power-of-tsubamesanjou/
LOCATION:三条ものづくり学校\, 三条市桜木町 12-38\, 〒955-0844
ATTACH;FMTTYPE=image/png:https://www.kenoh-navi.com/wp/wp-content/uploads/2015/10/powerof_thum1.png
END:VEVENT
BEGIN:VEVENT
DTSTART;VALUE=DATE:20151001
DTEND;VALUE=DATE:20151005
DTSTAMP:20260423T070700
CREATED:20150907T055147Z
LAST-MODIFIED:20150907T055147Z
UID:6620-1443657600-1444003199@www.kenoh-navi.com
SUMMARY:燕三条　工場の祭典
DESCRIPTION:今年で3回目！\n過去2回とも、全国から1万人以上が訪れた\n「燕三条　工場の祭典」が今年も開催！！ \n～燕三条は、工場で、人をつなげる～\n「燕三条 工場の祭典」は、金属加工の産地、新潟県燕三条地域で一斉に開放されるイベントです。\nさまざまな工場を訪れ、ものづくりを体感できるこの祭典。\n普段はとじられている工場の中で、職人たちの手業を直接みて、\n彼らと対話し、ワークショップに参加することもできます。\nそんなものづくりの内側は、きっと多くの人に新しい発見をもたらすことでしょう。\n職人たちのものづくりにかける思いや誇りがつまった燕三条の工場に、ぜひ足をお運びください。  \n【開催期間】10月1日(木)～10月4日(日)\n【開催地】燕市、三条市全域\n【参加工場数】68拠点\n【事務局】\n一般社団法人 燕三条地場産業振興センター 産業振興部 企画支援課\nTEL:0256-35-7811 \n 　
URL:https://www.kenoh-navi.com/event/tsubamesanjo_koubanosaiten/
LOCATION:燕市、三条市全域
ATTACH;FMTTYPE=image/jpeg:https://www.kenoh-navi.com/wp/wp-content/uploads/2015/09/koubafes.jpg
END:VEVENT
BEGIN:VEVENT
DTSTART;TZID=Asia/Tokyo:20150927T100000
DTEND;TZID=Asia/Tokyo:20150927T150000
DTSTAMP:20260423T070700
CREATED:20150901T084632Z
LAST-MODIFIED:20150902T005220Z
UID:6459-1443348000-1443366000@www.kenoh-navi.com
SUMMARY:第９回　フリーマーケットinかんきょう庵
DESCRIPTION:
URL:https://www.kenoh-navi.com/event/kankyouanhuri-ma-ketto/
LOCATION:環境啓発施設「かんきょう庵」\, 環境啓発施設・かんきょう庵\, 〒959-1102
ATTACH;FMTTYPE=image/jpeg:https://www.kenoh-navi.com/wp/wp-content/uploads/2015/09/kankyouanhuri.jpg
END:VEVENT
BEGIN:VEVENT
DTSTART;TZID=Asia/Tokyo:20150927T090000
DTEND;TZID=Asia/Tokyo:20150927T163000
DTSTAMP:20260423T070700
CREATED:20150716T092930Z
LAST-MODIFIED:20150716T092930Z
UID:4670-1443344400-1443371400@www.kenoh-navi.com
SUMMARY:秘境八十里越体感バス 9月④
DESCRIPTION:秘境八十里越体感バス\n~感じよう、あふれる自然・歴史ロマン・未来へつなぐ土木技術~\n下田地区の9施設で受けられる特典をご用意しております。 \n一度途絶えた会津と越後の道が時を超えて再び結ばれる「国道２８９号八十里越」の工事見学を通じ、事業の効果・必要性を感じてもらうとともに秘境八十里越の最大の魅力である「あふれる自然」や「河井継之助にまつわる歴史ロマン」を実際に体感してもらい、心満たされる豊かなひと時を過ごしてもらうため、「秘境八十里越体感バス」を運行します。 \n \n●スケジュール● \n道の駅「漢学の里しただ」9:00出発(8:45集合)/13:15出発(13:00集合) → 6号トンネル付近(説明) → 5号橋梁付近(説明) → 8号トンネル新潟坑口(説明・休憩) → 7号橋梁(見学) → 道の駅「漢学の里しただ」12:15頃着/16:30頃着(到着後解散) \n \n期間:平成27年9月27日(日)\n　　 【２回運行】　午前便：9時00分~午後0時15分　午後便:13時15分～16時30分\n対象:大人(中学生以上)\n定員:午前、午後便ともに84名\n旅行代金:2\,600円/お一人様\n申込・問い合わせ先:株式会社 JTB関東\n申込方法:TEL.0256-68-2601(申込専用電話)　\n　　　　　　　FAX.0256-35-3915\n　　　　　　　WEB.JTB関東 法人営業三条支店\n申込開始平成27年7月5日～ \n≫お申込みはこちら≪
URL:https://www.kenoh-navi.com/event/80rigoe_2015_9_27/
ATTACH;FMTTYPE=image/jpeg:https://www.kenoh-navi.com/wp/wp-content/uploads/2015/07/c79613dec86126f1b6ebff4e933af16f-e1437037658260.jpg
END:VEVENT
BEGIN:VEVENT
DTSTART;VALUE=DATE:20150927
DTEND;VALUE=DATE:20150928
DTSTAMP:20260423T070700
CREATED:20150826T024126Z
LAST-MODIFIED:20150826T024126Z
UID:6308-1443312000-1443398399@www.kenoh-navi.com
SUMMARY:いわむロックFESTIVAL　2015
DESCRIPTION:いわむロックFESTIVAL　2015\n温泉地・岩室を舞台に、田舎で過ごす時間の楽しさをシェアすることを目的とし、暮らしをより楽しくするために、好きなこと楽しいことを出し合って自由に表現したフェスティバルです。 \n入場無料!!\n開場　10:30／開演　11:00／終演　18：30\n\n出演アーティストは全17組！\n会場にはフードコートや足湯、お子様の遊び場もあります！\n＊飲食、温泉、物品販売は料金が掛かります。いわむろや足湯は無料です。 \nイベントの詳細や出演アーティスト情報、アクセス方法など詳しくは下記WEBサイトをチェック!!
URL:https://www.kenoh-navi.com/event/iwamuro%ef%bd%83kfestival2015/
ATTACH;FMTTYPE=image/jpeg:https://www.kenoh-navi.com/wp/wp-content/uploads/2015/08/-e1440554489290.jpg
END:VEVENT
BEGIN:VEVENT
DTSTART;TZID=Asia/Tokyo:20150926T130000
DTEND;TZID=Asia/Tokyo:20150926T150000
DTSTAMP:20260423T070700
CREATED:20150902T013704Z
LAST-MODIFIED:20150902T014138Z
UID:6480-1443272400-1443279600@www.kenoh-navi.com
SUMMARY:着物リメイク教室~帽子作り~
DESCRIPTION:★初心者でもつくれる帽子作り♪ \n申込み：9月11日(金)までにかんきょう庵へ(0256－45-7040)\n※10月6日(火)と全2回の開催となります。 \n定　員：10人(定員を超えた場合は抽選)\n講　師：鈴木みちこ(みちこ着物着付教室主宰)
URL:https://www.kenoh-navi.com/event/kimonorimeiku_911/
LOCATION:環境啓発施設「かんきょう庵」\, 環境啓発施設・かんきょう庵\, 〒959-1102
ATTACH;FMTTYPE=image/jpeg:https://www.kenoh-navi.com/wp/wp-content/uploads/2015/09/kimonorime.jpg
END:VEVENT
BEGIN:VEVENT
DTSTART;TZID=Asia/Tokyo:20150926T090000
DTEND;TZID=Asia/Tokyo:20150926T113000
DTSTAMP:20260423T070700
CREATED:20150716T084805Z
LAST-MODIFIED:20150716T084805Z
UID:4648-1443258000-1443267000@www.kenoh-navi.com
SUMMARY:笠堀ダム特別見学と大谷ダム探訪ツアー9月②
DESCRIPTION:今しか見られない!\n●笠堀ダム特別見学と大谷ダム探訪ツアー●\n下田地区の9施設で受けられる特典・ダムカード3種類をプレゼントがあります! \n \n三条市の治水・利水の利便性を高め、貯水量を増やし私たちが安心して安全に暮らせるよう『笠堀ダムかさ上げ工事』をしています。工事期間は平成２６年度から２９年度の予定で、その間一般車両は通行できません。自然豊かなしただ郷の魅力を体感しながら、今しか見れない！笠堀ダムのかさ上げ工事現場や大谷ダム内部の見学を通して、ダムのしくみやはたらきを学んでもらうため、「笠堀ダム特別見学と大谷ダム探訪ツアー」の運行を始めます。 \n●スケジュール●\n道の駅「漢学の里しただ」9:00出発(8:45集合) → 笠堀ダムかさ上げ工事(見学、現場職員による土木工事説明) → 大谷ダム ふれあい資料館(見学、現場職員によるダムの役割説明・休憩) → 大谷ダム(見学、現場職員による説明) → 道の駅「漢学の里しただ」11:30頃着(着後解散) \n \n期間:9月26日(土曜)\n運行時間:午前9時00分~11時30分\n対象:大人(中学生以上)\n定員:42名\n旅行代金:2\,000円/お一人様\n申込・問い合わせ先:株式会社JTB関東\n申込方法:TEL:0256-68-2601(申込専用電話)\n　　　　　　　FAX:0256-35-3915\n　　　　　　　web:JTB関東 法人営業三条支店\n申込開始:平成27年7月12日～ \n≫お申し込みはこちらから≪
URL:https://www.kenoh-navi.com/event/kasabori_ootani_2015_9_26/
ATTACH;FMTTYPE=image/jpeg:https://www.kenoh-navi.com/wp/wp-content/uploads/2015/07/1280px-Kasabori-753-r1.jpg
END:VEVENT
BEGIN:VEVENT
DTSTART;VALUE=DATE:20150926
DTEND;VALUE=DATE:20151001
DTSTAMP:20260423T070700
CREATED:20150902T011023Z
LAST-MODIFIED:20150902T011811Z
UID:6474-1443225600-1443657599@www.kenoh-navi.com
SUMMARY:第11回　リサイクル品展示・無料配布会
DESCRIPTION:展示・無料配布会では、まだまだ使える!もったいない!と思うようなリサイクル品がもりだくさん。\nまだまだ使える家具等をご希望の方に無料で差し上げます。\n中には未使用品も!?掘り出し物を探しに来てね!! \n※不要になったテーブル・タンス・家具等の引き取りをしておりませんが、「ゆずります!」「ゆずってください!」の専用掲示板にお得なリサイクル情報があります。こちらもチェックしてね♪ \n展示・申込：9月26日(土)~30日(水)\n抽選・当選連絡日：10月1日 (木)\n引渡し日：10月1日(木)~4日(日)\n※三条市内にお住みの方に限ります。\n※転売目的での申し込みは固くお断りいたします。
URL:https://www.kenoh-navi.com/event/risaikuruhinmuryouhaihukai/
LOCATION:環境啓発施設「かんきょう庵」\, 環境啓発施設・かんきょう庵\, 〒959-1102
ATTACH;FMTTYPE=image/jpeg:https://www.kenoh-navi.com/wp/wp-content/uploads/2015/09/PCdesuku.jpg
END:VEVENT
BEGIN:VEVENT
DTSTART;TZID=Asia/Tokyo:20150920T100000
DTEND;TZID=Asia/Tokyo:20150920T150000
DTSTAMP:20260423T070700
CREATED:20150903T022525Z
LAST-MODIFIED:20150903T022525Z
UID:6502-1442743200-1442761200@www.kenoh-navi.com
SUMMARY:はばたき祭2015
DESCRIPTION:地域でご活躍されている障がい関係の皆さんと力を合わせて盛り上げます! \n★食べる⇒喫茶あちゃこ、カレー、やきそば、お寿司等\n★遊ぶ⇒ボウリング、ヨーヨー釣り、輪投げ等\n★買う⇒手作り作品、遊休品、キャンドル等 \n★ステージイベント★\n時間：13:30~15:00\n・笑いの療法士小越ゆみ子さんによる「笑いの元気トーク」\n・どっち？ドッチ？○×クイズ\n　障がいに関する○×クイズ!勝ち残った人には豪華な景品あり!!\n・はばたきメンバーによるダンス発表
URL:https://www.kenoh-navi.com/event/habatakisai2015/
LOCATION:燕市障がい者地域生活支援センター　はばたき\, 新潟県燕市道金1160\, 〒959-1265 
ATTACH;FMTTYPE=image/jpeg:https://www.kenoh-navi.com/wp/wp-content/uploads/2015/09/habatakisai-e1441183396455.jpg
END:VEVENT
BEGIN:VEVENT
DTSTART;TZID=Asia/Tokyo:20150920T090000
DTEND;TZID=Asia/Tokyo:20150920T163000
DTSTAMP:20260423T070700
CREATED:20150716T092740Z
LAST-MODIFIED:20150716T092740Z
UID:4668-1442739600-1442766600@www.kenoh-navi.com
SUMMARY:秘境八十里越体感バス 9月③
DESCRIPTION:秘境八十里越体感バス\n~感じよう、あふれる自然・歴史ロマン・未来へつなぐ土木技術~\n下田地区の9施設で受けられる特典をご用意しております。 \n一度途絶えた会津と越後の道が時を超えて再び結ばれる「国道２８９号八十里越」の工事見学を通じ、事業の効果・必要性を感じてもらうとともに秘境八十里越の最大の魅力である「あふれる自然」や「河井継之助にまつわる歴史ロマン」を実際に体感してもらい、心満たされる豊かなひと時を過ごしてもらうため、「秘境八十里越体感バス」を運行します。 \n \n●スケジュール● \n道の駅「漢学の里しただ」9:00出発(8:45集合)/13:15出発(13:00集合) → 6号トンネル付近(説明) → 5号橋梁付近(説明) → 8号トンネル新潟坑口(説明・休憩) → 7号橋梁(見学) → 道の駅「漢学の里しただ」12:15頃着/16:30頃着(到着後解散) \n \n期間:平成27年9月20日(日)\n　　 【２回運行】　午前便：9時00分~午後0時15分　午後便:13時15分～16時30分\n対象:大人(中学生以上)\n定員:午前、午後便ともに84名\n旅行代金:2\,600円/お一人様\n申込・問い合わせ先:株式会社 JTB関東\n申込方法:TEL.0256-68-2601(申込専用電話)　\n　　　　　　　FAX.0256-35-3915\n　　　　　　　WEB.JTB関東 法人営業三条支店\n申込開始平成27年7月5日～ \n≫お申込みはこちら≪
URL:https://www.kenoh-navi.com/event/80rigoe_2015_9_20/
ATTACH;FMTTYPE=image/jpeg:https://www.kenoh-navi.com/wp/wp-content/uploads/2015/07/c79613dec86126f1b6ebff4e933af16f-e1437037658260.jpg
END:VEVENT
END:VCALENDAR