BEGIN:VCALENDAR
VERSION:2.0
PRODID:-//新潟県央なび - 燕市・三条市・加茂市・弥彦村の店舗・施設案内 - ECPv6.0.6.2//NONSGML v1.0//EN
CALSCALE:GREGORIAN
METHOD:PUBLISH
X-WR-CALNAME:新潟県央なび - 燕市・三条市・加茂市・弥彦村の店舗・施設案内
X-ORIGINAL-URL:https://www.kenoh-navi.com
X-WR-CALDESC:新潟県央なび - 燕市・三条市・加茂市・弥彦村の店舗・施設案内 のイベント
REFRESH-INTERVAL;VALUE=DURATION:PT1H
X-Robots-Tag:noindex
X-PUBLISHED-TTL:PT1H
BEGIN:VTIMEZONE
TZID:Asia/Tokyo
BEGIN:STANDARD
TZOFFSETFROM:+0900
TZOFFSETTO:+0900
TZNAME:JST
DTSTART:20150101T000000
END:STANDARD
END:VTIMEZONE
BEGIN:VEVENT
DTSTART;VALUE=DATE:20151001
DTEND;VALUE=DATE:20151228
DTSTAMP:20260423T065923
CREATED:20151023T054841Z
LAST-MODIFIED:20151024T004059Z
UID:7359-1443657600-1451260799@www.kenoh-navi.com
SUMMARY:【企画展】Power of 燕三条
DESCRIPTION:本展示では、スノーピークの製品の中から［焚火台］［燕三条極薄鋳鉄］［チタンマグカップ］の３製品にスポットをあて、それぞれの製造委託先企業にお邪魔して話を伺うとともに普段はなかなか見られない製造過程の現物を公開しています。 \n★焚火台★\n \n★燕三条極薄鋳鉄★と★チタンマグカップ★ \n\n　
URL:https://www.kenoh-navi.com/event/power-of-tsubamesanjou/
LOCATION:三条ものづくり学校\, 三条市桜木町 12-38\, 〒955-0844
ATTACH;FMTTYPE=image/png:https://www.kenoh-navi.com/wp/wp-content/uploads/2015/10/powerof_thum1.png
END:VEVENT
BEGIN:VEVENT
DTSTART;VALUE=DATE:20151001
DTEND;VALUE=DATE:20151005
DTSTAMP:20260423T065923
CREATED:20150907T055147Z
LAST-MODIFIED:20150907T055147Z
UID:6620-1443657600-1444003199@www.kenoh-navi.com
SUMMARY:燕三条　工場の祭典
DESCRIPTION:今年で3回目！\n過去2回とも、全国から1万人以上が訪れた\n「燕三条　工場の祭典」が今年も開催！！ \n～燕三条は、工場で、人をつなげる～\n「燕三条 工場の祭典」は、金属加工の産地、新潟県燕三条地域で一斉に開放されるイベントです。\nさまざまな工場を訪れ、ものづくりを体感できるこの祭典。\n普段はとじられている工場の中で、職人たちの手業を直接みて、\n彼らと対話し、ワークショップに参加することもできます。\nそんなものづくりの内側は、きっと多くの人に新しい発見をもたらすことでしょう。\n職人たちのものづくりにかける思いや誇りがつまった燕三条の工場に、ぜひ足をお運びください。  \n【開催期間】10月1日(木)～10月4日(日)\n【開催地】燕市、三条市全域\n【参加工場数】68拠点\n【事務局】\n一般社団法人 燕三条地場産業振興センター 産業振興部 企画支援課\nTEL:0256-35-7811 \n 　
URL:https://www.kenoh-navi.com/event/tsubamesanjo_koubanosaiten/
LOCATION:燕市、三条市全域
ATTACH;FMTTYPE=image/jpeg:https://www.kenoh-navi.com/wp/wp-content/uploads/2015/09/koubafes.jpg
END:VEVENT
BEGIN:VEVENT
DTSTART;TZID=Asia/Tokyo:20150927T100000
DTEND;TZID=Asia/Tokyo:20150927T150000
DTSTAMP:20260423T065923
CREATED:20150901T084632Z
LAST-MODIFIED:20150902T005220Z
UID:6459-1443348000-1443366000@www.kenoh-navi.com
SUMMARY:第９回　フリーマーケットinかんきょう庵
DESCRIPTION:
URL:https://www.kenoh-navi.com/event/kankyouanhuri-ma-ketto/
LOCATION:環境啓発施設「かんきょう庵」\, 環境啓発施設・かんきょう庵\, 〒959-1102
ATTACH;FMTTYPE=image/jpeg:https://www.kenoh-navi.com/wp/wp-content/uploads/2015/09/kankyouanhuri.jpg
END:VEVENT
BEGIN:VEVENT
DTSTART;TZID=Asia/Tokyo:20150927T090000
DTEND;TZID=Asia/Tokyo:20150927T163000
DTSTAMP:20260423T065923
CREATED:20150716T092930Z
LAST-MODIFIED:20150716T092930Z
UID:4670-1443344400-1443371400@www.kenoh-navi.com
SUMMARY:秘境八十里越体感バス 9月④
DESCRIPTION:秘境八十里越体感バス\n~感じよう、あふれる自然・歴史ロマン・未来へつなぐ土木技術~\n下田地区の9施設で受けられる特典をご用意しております。 \n一度途絶えた会津と越後の道が時を超えて再び結ばれる「国道２８９号八十里越」の工事見学を通じ、事業の効果・必要性を感じてもらうとともに秘境八十里越の最大の魅力である「あふれる自然」や「河井継之助にまつわる歴史ロマン」を実際に体感してもらい、心満たされる豊かなひと時を過ごしてもらうため、「秘境八十里越体感バス」を運行します。 \n \n●スケジュール● \n道の駅「漢学の里しただ」9:00出発(8:45集合)/13:15出発(13:00集合) → 6号トンネル付近(説明) → 5号橋梁付近(説明) → 8号トンネル新潟坑口(説明・休憩) → 7号橋梁(見学) → 道の駅「漢学の里しただ」12:15頃着/16:30頃着(到着後解散) \n \n期間:平成27年9月27日(日)\n　　 【２回運行】　午前便：9時00分~午後0時15分　午後便:13時15分～16時30分\n対象:大人(中学生以上)\n定員:午前、午後便ともに84名\n旅行代金:2\,600円/お一人様\n申込・問い合わせ先:株式会社 JTB関東\n申込方法:TEL.0256-68-2601(申込専用電話)　\n　　　　　　　FAX.0256-35-3915\n　　　　　　　WEB.JTB関東 法人営業三条支店\n申込開始平成27年7月5日～ \n≫お申込みはこちら≪
URL:https://www.kenoh-navi.com/event/80rigoe_2015_9_27/
ATTACH;FMTTYPE=image/jpeg:https://www.kenoh-navi.com/wp/wp-content/uploads/2015/07/c79613dec86126f1b6ebff4e933af16f-e1437037658260.jpg
END:VEVENT
BEGIN:VEVENT
DTSTART;VALUE=DATE:20150927
DTEND;VALUE=DATE:20150928
DTSTAMP:20260423T065923
CREATED:20150826T024126Z
LAST-MODIFIED:20150826T024126Z
UID:6308-1443312000-1443398399@www.kenoh-navi.com
SUMMARY:いわむロックFESTIVAL　2015
DESCRIPTION:いわむロックFESTIVAL　2015\n温泉地・岩室を舞台に、田舎で過ごす時間の楽しさをシェアすることを目的とし、暮らしをより楽しくするために、好きなこと楽しいことを出し合って自由に表現したフェスティバルです。 \n入場無料!!\n開場　10:30／開演　11:00／終演　18：30\n\n出演アーティストは全17組！\n会場にはフードコートや足湯、お子様の遊び場もあります！\n＊飲食、温泉、物品販売は料金が掛かります。いわむろや足湯は無料です。 \nイベントの詳細や出演アーティスト情報、アクセス方法など詳しくは下記WEBサイトをチェック!!
URL:https://www.kenoh-navi.com/event/iwamuro%ef%bd%83kfestival2015/
ATTACH;FMTTYPE=image/jpeg:https://www.kenoh-navi.com/wp/wp-content/uploads/2015/08/-e1440554489290.jpg
END:VEVENT
BEGIN:VEVENT
DTSTART;TZID=Asia/Tokyo:20150926T130000
DTEND;TZID=Asia/Tokyo:20150926T150000
DTSTAMP:20260423T065923
CREATED:20150902T013704Z
LAST-MODIFIED:20150902T014138Z
UID:6480-1443272400-1443279600@www.kenoh-navi.com
SUMMARY:着物リメイク教室~帽子作り~
DESCRIPTION:★初心者でもつくれる帽子作り♪ \n申込み：9月11日(金)までにかんきょう庵へ(0256－45-7040)\n※10月6日(火)と全2回の開催となります。 \n定　員：10人(定員を超えた場合は抽選)\n講　師：鈴木みちこ(みちこ着物着付教室主宰)
URL:https://www.kenoh-navi.com/event/kimonorimeiku_911/
LOCATION:環境啓発施設「かんきょう庵」\, 環境啓発施設・かんきょう庵\, 〒959-1102
ATTACH;FMTTYPE=image/jpeg:https://www.kenoh-navi.com/wp/wp-content/uploads/2015/09/kimonorime.jpg
END:VEVENT
BEGIN:VEVENT
DTSTART;TZID=Asia/Tokyo:20150926T090000
DTEND;TZID=Asia/Tokyo:20150926T113000
DTSTAMP:20260423T065923
CREATED:20150716T084805Z
LAST-MODIFIED:20150716T084805Z
UID:4648-1443258000-1443267000@www.kenoh-navi.com
SUMMARY:笠堀ダム特別見学と大谷ダム探訪ツアー9月②
DESCRIPTION:今しか見られない!\n●笠堀ダム特別見学と大谷ダム探訪ツアー●\n下田地区の9施設で受けられる特典・ダムカード3種類をプレゼントがあります! \n \n三条市の治水・利水の利便性を高め、貯水量を増やし私たちが安心して安全に暮らせるよう『笠堀ダムかさ上げ工事』をしています。工事期間は平成２６年度から２９年度の予定で、その間一般車両は通行できません。自然豊かなしただ郷の魅力を体感しながら、今しか見れない！笠堀ダムのかさ上げ工事現場や大谷ダム内部の見学を通して、ダムのしくみやはたらきを学んでもらうため、「笠堀ダム特別見学と大谷ダム探訪ツアー」の運行を始めます。 \n●スケジュール●\n道の駅「漢学の里しただ」9:00出発(8:45集合) → 笠堀ダムかさ上げ工事(見学、現場職員による土木工事説明) → 大谷ダム ふれあい資料館(見学、現場職員によるダムの役割説明・休憩) → 大谷ダム(見学、現場職員による説明) → 道の駅「漢学の里しただ」11:30頃着(着後解散) \n \n期間:9月26日(土曜)\n運行時間:午前9時00分~11時30分\n対象:大人(中学生以上)\n定員:42名\n旅行代金:2\,000円/お一人様\n申込・問い合わせ先:株式会社JTB関東\n申込方法:TEL:0256-68-2601(申込専用電話)\n　　　　　　　FAX:0256-35-3915\n　　　　　　　web:JTB関東 法人営業三条支店\n申込開始:平成27年7月12日～ \n≫お申し込みはこちらから≪
URL:https://www.kenoh-navi.com/event/kasabori_ootani_2015_9_26/
ATTACH;FMTTYPE=image/jpeg:https://www.kenoh-navi.com/wp/wp-content/uploads/2015/07/1280px-Kasabori-753-r1.jpg
END:VEVENT
BEGIN:VEVENT
DTSTART;VALUE=DATE:20150926
DTEND;VALUE=DATE:20151001
DTSTAMP:20260423T065923
CREATED:20150902T011023Z
LAST-MODIFIED:20150902T011811Z
UID:6474-1443225600-1443657599@www.kenoh-navi.com
SUMMARY:第11回　リサイクル品展示・無料配布会
DESCRIPTION:展示・無料配布会では、まだまだ使える!もったいない!と思うようなリサイクル品がもりだくさん。\nまだまだ使える家具等をご希望の方に無料で差し上げます。\n中には未使用品も!?掘り出し物を探しに来てね!! \n※不要になったテーブル・タンス・家具等の引き取りをしておりませんが、「ゆずります!」「ゆずってください!」の専用掲示板にお得なリサイクル情報があります。こちらもチェックしてね♪ \n展示・申込：9月26日(土)~30日(水)\n抽選・当選連絡日：10月1日 (木)\n引渡し日：10月1日(木)~4日(日)\n※三条市内にお住みの方に限ります。\n※転売目的での申し込みは固くお断りいたします。
URL:https://www.kenoh-navi.com/event/risaikuruhinmuryouhaihukai/
LOCATION:環境啓発施設「かんきょう庵」\, 環境啓発施設・かんきょう庵\, 〒959-1102
ATTACH;FMTTYPE=image/jpeg:https://www.kenoh-navi.com/wp/wp-content/uploads/2015/09/PCdesuku.jpg
END:VEVENT
BEGIN:VEVENT
DTSTART;TZID=Asia/Tokyo:20150920T100000
DTEND;TZID=Asia/Tokyo:20150920T150000
DTSTAMP:20260423T065923
CREATED:20150903T022525Z
LAST-MODIFIED:20150903T022525Z
UID:6502-1442743200-1442761200@www.kenoh-navi.com
SUMMARY:はばたき祭2015
DESCRIPTION:地域でご活躍されている障がい関係の皆さんと力を合わせて盛り上げます! \n★食べる⇒喫茶あちゃこ、カレー、やきそば、お寿司等\n★遊ぶ⇒ボウリング、ヨーヨー釣り、輪投げ等\n★買う⇒手作り作品、遊休品、キャンドル等 \n★ステージイベント★\n時間：13:30~15:00\n・笑いの療法士小越ゆみ子さんによる「笑いの元気トーク」\n・どっち？ドッチ？○×クイズ\n　障がいに関する○×クイズ!勝ち残った人には豪華な景品あり!!\n・はばたきメンバーによるダンス発表
URL:https://www.kenoh-navi.com/event/habatakisai2015/
LOCATION:燕市障がい者地域生活支援センター　はばたき\, 新潟県燕市道金1160\, 〒959-1265 
ATTACH;FMTTYPE=image/jpeg:https://www.kenoh-navi.com/wp/wp-content/uploads/2015/09/habatakisai-e1441183396455.jpg
END:VEVENT
BEGIN:VEVENT
DTSTART;TZID=Asia/Tokyo:20150920T090000
DTEND;TZID=Asia/Tokyo:20150920T163000
DTSTAMP:20260423T065923
CREATED:20150716T092740Z
LAST-MODIFIED:20150716T092740Z
UID:4668-1442739600-1442766600@www.kenoh-navi.com
SUMMARY:秘境八十里越体感バス 9月③
DESCRIPTION:秘境八十里越体感バス\n~感じよう、あふれる自然・歴史ロマン・未来へつなぐ土木技術~\n下田地区の9施設で受けられる特典をご用意しております。 \n一度途絶えた会津と越後の道が時を超えて再び結ばれる「国道２８９号八十里越」の工事見学を通じ、事業の効果・必要性を感じてもらうとともに秘境八十里越の最大の魅力である「あふれる自然」や「河井継之助にまつわる歴史ロマン」を実際に体感してもらい、心満たされる豊かなひと時を過ごしてもらうため、「秘境八十里越体感バス」を運行します。 \n \n●スケジュール● \n道の駅「漢学の里しただ」9:00出発(8:45集合)/13:15出発(13:00集合) → 6号トンネル付近(説明) → 5号橋梁付近(説明) → 8号トンネル新潟坑口(説明・休憩) → 7号橋梁(見学) → 道の駅「漢学の里しただ」12:15頃着/16:30頃着(到着後解散) \n \n期間:平成27年9月20日(日)\n　　 【２回運行】　午前便：9時00分~午後0時15分　午後便:13時15分～16時30分\n対象:大人(中学生以上)\n定員:午前、午後便ともに84名\n旅行代金:2\,600円/お一人様\n申込・問い合わせ先:株式会社 JTB関東\n申込方法:TEL.0256-68-2601(申込専用電話)　\n　　　　　　　FAX.0256-35-3915\n　　　　　　　WEB.JTB関東 法人営業三条支店\n申込開始平成27年7月5日～ \n≫お申込みはこちら≪
URL:https://www.kenoh-navi.com/event/80rigoe_2015_9_20/
ATTACH;FMTTYPE=image/jpeg:https://www.kenoh-navi.com/wp/wp-content/uploads/2015/07/c79613dec86126f1b6ebff4e933af16f-e1437037658260.jpg
END:VEVENT
BEGIN:VEVENT
DTSTART;VALUE=DATE:20150920
DTEND;VALUE=DATE:20150922
DTSTAMP:20260423T065923
CREATED:20150820T042126Z
LAST-MODIFIED:20150911T012922Z
UID:6202-1442707200-1442879999@www.kenoh-navi.com
SUMMARY:燕三条食の陣
DESCRIPTION:“身近な食と道具の再発見”をキーワードに、産業、食文化、暮らし等をマルチな切り口で一般消費者の皆様に「見て・触れて・味わって」いただくことで、燕三条の魅力を知っていただくイベントです。\nご当地グルメが集結する「グルメ屋台村」、海上自衛隊カレーの振る舞い(21日)、ゆるキャラとの撮影会＆握手会、ステージイベントなど、おいしいもの、楽しいことが盛りだくさんの内容となっております!! \nゴミの軽減と来場者の皆様に数多くのメニュー(ミニサイズ)を召し上がっていただくための企画。\n1.受付で事前に600円のデポジット(保証金)をお支払いいただき、容器とスプーンを受け取ります。\n2.ミニサイズ協力店で注文時に容器を渡すと、盛り付けてくれます。 \n※食器を返却いただければ600円は返金いたします。\n※ご使用いただいた食器が気に入った場合は、そのままお持ち帰りいただいてもOK。\n※数に限りがございます。 \n↓↓公式サイトはこちら↓↓\nhttp://tsubasan-shokuno-jin.jp/
URL:https://www.kenoh-navi.com/event/tsubamesanjousyokunozin/
LOCATION:メッセピア\, 三条市須頃１丁目１７\, 〒955-0092
ATTACH;FMTTYPE=image/jpeg:https://www.kenoh-navi.com/wp/wp-content/uploads/2015/08/tubamesyokuzin.jpg
END:VEVENT
BEGIN:VEVENT
DTSTART;VALUE=DATE:20150920
DTEND;VALUE=DATE:20150921
DTSTAMP:20260423T065923
CREATED:20150829T001346Z
LAST-MODIFIED:20150829T001948Z
UID:6373-1442707200-1442793599@www.kenoh-navi.com
SUMMARY:小杉農園 ★梨狩り&バーベキュー★
DESCRIPTION:今年もやります!収穫祭イベント!\n★梨狩り&バーベキュー★\n\n◆日時：9月20日(日)\n◆時間：10:30~\n◆参加費\n・大人･･･2000円\n・中/高生･･･1000円\n・小学生･･･500円\n※バーベキュー・ソフトドリンク・梨2個分が含まれます。\n★↓↓詳細はこちら↓↓★\nhttp://kosugi-farm.com/nashigari/\n★↓↓お申込みはこちら↓↓★\nhttps://s505.asuka.jp/kosugi-farm.com/support1.cgi\n★↓↓県央なび内サイト↓↓★\nhttp://www.kenoh-navi.com/maparea/map_tsubame/kosuginouen/
URL:https://www.kenoh-navi.com/event/kosuginouen_nasigariba-bekyu/
LOCATION:小杉農園\, 燕市下児木37\, 〒959-1223 
ATTACH;FMTTYPE=image/jpeg:https://www.kenoh-navi.com/wp/wp-content/uploads/2015/07/10712725_854993511220279_4351658449480167704_n2.jpg
END:VEVENT
BEGIN:VEVENT
DTSTART;TZID=Asia/Tokyo:20150919T190000
DTEND;TZID=Asia/Tokyo:20150920T220000
DTSTAMP:20260423T065923
CREATED:20150907T010134Z
LAST-MODIFIED:20150907T010824Z
UID:6567-1442689200-1442786400@www.kenoh-navi.com
SUMMARY:戸隠神社　秋季祭礼
DESCRIPTION:19日は宵宮、20日は秋季大祭を開催します。\n【19日】19：00～（予定）\n【20日】11：00～（予定） \n戸隠神社周辺に屋台が立ち並びます。\n宵宮では御神楽が奉納され、ミニ萬燈や樽神輿などのこども神輿が元気に行き交い、勇壮な江戸神輿が商店街を練り歩きます。
URL:https://www.kenoh-navi.com/event/togakusijinja_shuukisairei201509/
ATTACH;FMTTYPE=image/jpeg:https://www.kenoh-navi.com/wp/wp-content/uploads/2015/09/togakushi20110514-2.jpg
END:VEVENT
BEGIN:VEVENT
DTSTART;VALUE=DATE:20150919
DTEND;VALUE=DATE:20150921
DTSTAMP:20260423T065923
CREATED:20150826T010901Z
LAST-MODIFIED:20150826T011644Z
UID:5831-1442620800-1442793599@www.kenoh-navi.com
SUMMARY:小京都を楽しむ会 ＡＫＡＲＩＢＡ2015
DESCRIPTION:-まちに誇りを。まちをもっとたのしく-\n\n新潟県の中心に位置する加茂市は、３方を丘陵に囲まれ中心を加茂川が流れており、地形が京都に似ていることから「北越の小京都」と呼ばれています。\n歴史的に由緒あるまちも、昨今の近代化に伴い急速にその姿を失い始め、まちの人の小京都という意識も希薄となってきました。\nそこでもう一度、まちを見つめなおし、≪まちの人がたのしく、まちに誇りを持てるようにしてゆくこと≫が大切であると考えました。\nその具体例が、「北越の小京都」にスポットをあて、小京都の風情、情緒をあかりで表現するイベント小京都を楽しむ会　AKARIBAです。 \nfacebook⇒https://www.facebook.com/akariba.kamo \n-AKARIBAで使用されるあかり- \nAKARIBAで使用されるあかりは、ワークショップなどで手作りで作られ飾られます。\nひとりひとりがあかりに「想い」を込めて　作られ、ひとりひとりがあかりに「想い」を込めて灯されたものです。\nだから、あたたかく、人の心を打つのです。 \n20日のメインイベントは「あかりの結婚式」！！\n一般公募で選ばれたカップルが、大正時代の情緒漂う旧酒蔵の町屋を出発し人力車にて市内を巡り、創建726年の歴史ある青海神社にて古式ゆかしき神前式をおこないます。
URL:https://www.kenoh-navi.com/event/kamoakariba_2015/
LOCATION:加茂山公園・周辺商店街\, 加茂市加茂２２９\, 〒959-1300
ATTACH;FMTTYPE=image/jpeg:https://www.kenoh-navi.com/wp/wp-content/uploads/2015/08/akaribatiou2.jpg
END:VEVENT
BEGIN:VEVENT
DTSTART;VALUE=DATE:20150919
DTEND;VALUE=DATE:20150920
DTSTAMP:20260423T065923
CREATED:20150831T074136Z
LAST-MODIFIED:20150831T074328Z
UID:6408-1442620800-1442707199@www.kenoh-navi.com
SUMMARY:芝生を味わうランニング教室
DESCRIPTION:親子で楽しく体を動かしたい、マラソン大会で速く走りたい小学生集まれ！\nスポーツの秋目前の9月!\n親子一緒に運動あそび＆ランニング教室に参加して、楽しく運動能力を伸ばしませんか？ \n★午前/親子向け★\n日時：9月19日(土)\n時間：13:45〜16:30\n受付：13:30より(多目的ホール)\n参加費：1\,000円(親子ペア/保険料含む)\n※兄弟姉妹1人追加：500円\n持ち物：運動できる服装と靴(内履きと外履き)、飲み物、タオル、帽子、着替え\n講師：高橋美恵 \n◆プログラム◆\n1.準備体操(三条カレーラーメン体操)\n2.お楽しみ運動レク\n3.芝生の上でランニング教室\n※雨天の場合は多目的ホールでの開催となります。 \n \n\nこれから何か運動を始めてみたい方へ！\n「ランニングを始めてみたいけど、走り方がわからない」\n「一緒に運動する仲間が欲しい」など\nそんなあなたのご要望に応える、初心者向けのランニング教室です。\n特徴は、自然の中を走る「トレイルランニング」の要素を取り入れているところです！ \n★午後/大人向け★\n日時：9月19日(土)\n時間：10:15〜11:45\n受付：10:00より(多目的ホール)\n参加費：1\,500円（保険料含む/ドリンク1杯)\n持ち物：運動できる服装と靴(内履きと外履き)、飲み物、タオル、帽子、着替え\n講師：高橋美恵 \n◆プログラム◆\n1.お楽しみ運動レク\n2.芝生の上でランニング教室\n3.ティータイム \n \n◯申し込み\n三条ものづくり学校 事務局\n◆メール・FAXの場合\n件名を「親子向けランニング教室申込」とし、お名前／年齢（生年月日）／性別／住所／電話番号／メールアドレスをご記入ください。（参加者全員分の情報をご記入ください）\nMail：sanjo@r-school.net\nFAX ：0256-34-6723\n◆お電話の場合\n☎0256-34-6700\n受付時間：8:30-17:30(月曜休み)
URL:https://www.kenoh-navi.com/event/ranningukyousitu/
LOCATION:三条ものづくり学校\, 三条市桜木町 12-38\, 〒955-0844
ATTACH;FMTTYPE=image/jpeg:https://www.kenoh-navi.com/wp/wp-content/uploads/2015/08/am1.jpg
END:VEVENT
BEGIN:VEVENT
DTSTART;VALUE=DATE:20150914
DTEND;VALUE=DATE:20150916
DTSTAMP:20260423T065923
CREATED:20150808T022820Z
LAST-MODIFIED:20150808T022820Z
UID:5810-1442188800-1442361599@www.kenoh-navi.com
SUMMARY:長瀬神社 秋季祭礼
DESCRIPTION:６世紀後半に創建されたと伝えられる長瀬神社は、加茂川の清流に臨んで八幡(やはた)の地に鎮座している神社であり、別名「八幡様（はちまんさま）」とも呼ばれています。\n秋季祭礼では、１５日に約１００発の花火があがります。
URL:https://www.kenoh-navi.com/event/kamo_nagasejinnjyasyuukisairei/
LOCATION:長瀬神社\, 加茂市八幡１－８－２０
ATTACH;FMTTYPE=image/jpeg:https://www.kenoh-navi.com/wp/wp-content/uploads/2015/08/dsc_0099.jpg
END:VEVENT
BEGIN:VEVENT
DTSTART;TZID=Asia/Tokyo:20150913T100000
DTEND;TZID=Asia/Tokyo:20150913T150000
DTSTAMP:20260423T065923
CREATED:20150828T023605Z
LAST-MODIFIED:20150828T023605Z
UID:6290-1442138400-1442156400@www.kenoh-navi.com
SUMMARY:～三条マルシェ～ごった市＠ホコテン
DESCRIPTION:家族みんなで出かけよう！\n敬老の日が近いので「敬老の日　手作り応援企画」を実施！\nプレゼント用に似顔絵やメッセージカードを書いたり、デコスイーツを作ったり♪\nその他、まちなかクエストやステージイベントなども行います。
URL:https://www.kenoh-navi.com/event/sanjomarushe_20150913/
LOCATION:中央商店街
ATTACH;FMTTYPE=image/jpeg:https://www.kenoh-navi.com/wp/wp-content/uploads/2015/08/DSC_0949.jpg
END:VEVENT
BEGIN:VEVENT
DTSTART;TZID=Asia/Tokyo:20150913T090000
DTEND;TZID=Asia/Tokyo:20150913T163000
DTSTAMP:20260423T065923
CREATED:20150716T092622Z
LAST-MODIFIED:20150716T092622Z
UID:4667-1442134800-1442161800@www.kenoh-navi.com
SUMMARY:秘境八十里越体感バス 9月②
DESCRIPTION:秘境八十里越体感バス\n~感じよう、あふれる自然・歴史ロマン・未来へつなぐ土木技術~\n下田地区の9施設で受けられる特典をご用意しております。 \n一度途絶えた会津と越後の道が時を超えて再び結ばれる「国道２８９号八十里越」の工事見学を通じ、事業の効果・必要性を感じてもらうとともに秘境八十里越の最大の魅力である「あふれる自然」や「河井継之助にまつわる歴史ロマン」を実際に体感してもらい、心満たされる豊かなひと時を過ごしてもらうため、「秘境八十里越体感バス」を運行します。 \n \n●スケジュール● \n道の駅「漢学の里しただ」9:00出発(8:45集合)/13:15出発(13:00集合) → 6号トンネル付近(説明) → 5号橋梁付近(説明) → 8号トンネル新潟坑口(説明・休憩) → 7号橋梁(見学) → 道の駅「漢学の里しただ」12:15頃着/16:30頃着(到着後解散) \n \n期間:平成27年9月13日(日)\n　　 【２回運行】　午前便：9時00分~午後0時15分　午後便:13時15分～16時30分\n対象:大人(中学生以上)\n定員:午前、午後便ともに84名\n旅行代金:2\,600円/お一人様\n申込・問い合わせ先:株式会社 JTB関東\n申込方法:TEL.0256-68-2601(申込専用電話)　\n　　　　　　　FAX.0256-35-3915\n　　　　　　　WEB.JTB関東 法人営業三条支店\n申込開始平成27年7月5日～ \n≫お申込みはこちら≪
URL:https://www.kenoh-navi.com/event/80rigoe_2015_9_13/
ATTACH;FMTTYPE=image/jpeg:https://www.kenoh-navi.com/wp/wp-content/uploads/2015/07/c79613dec86126f1b6ebff4e933af16f-e1437037658260.jpg
END:VEVENT
BEGIN:VEVENT
DTSTART;TZID=Asia/Tokyo:20150912T090000
DTEND;TZID=Asia/Tokyo:20150912T113000
DTSTAMP:20260423T065923
CREATED:20150716T084304Z
LAST-MODIFIED:20150716T084440Z
UID:4646-1442048400-1442057400@www.kenoh-navi.com
SUMMARY:笠堀ダム特別見学と大谷ダム探訪ツアー9月①
DESCRIPTION:今しか見られない!\n●笠堀ダム特別見学と大谷ダム探訪ツアー●\n下田地区の9施設で受けられる特典・ダムカード3種類をプレゼントがあります! \n \n三条市の治水・利水の利便性を高め、貯水量を増やし私たちが安心して安全に暮らせるよう『笠堀ダムかさ上げ工事』をしています。工事期間は平成２６年度から２９年度の予定で、その間一般車両は通行できません。自然豊かなしただ郷の魅力を体感しながら、今しか見れない！笠堀ダムのかさ上げ工事現場や大谷ダム内部の見学を通して、ダムのしくみやはたらきを学んでもらうため、「笠堀ダム特別見学と大谷ダム探訪ツアー」の運行を始めます。 \n●スケジュール●\n道の駅「漢学の里しただ」9:00出発(8:45集合) → 笠堀ダムかさ上げ工事(見学、現場職員による土木工事説明) → 大谷ダム ふれあい資料館(見学、現場職員によるダムの役割説明・休憩) → 大谷ダム(見学、現場職員による説明) → 道の駅「漢学の里しただ」11:30頃着(着後解散) \n \n期間:9月12日(土曜)\n運行時間:午前9時00分~11時30分\n対象:大人(中学生以上)\n定員:42名\n旅行代金:2\,000円/お一人様\n申込・問い合わせ先:株式会社JTB関東\n申込方法:TEL:0256-68-2601(申込専用電話)\n　　　　　　　FAX:0256-35-3915\n　　　　　　　web:JTB関東 法人営業三条支店\n申込開始:平成27年7月12日～ \n≫お申し込みはこちらから≪
URL:https://www.kenoh-navi.com/event/kasabori_ootani_2015_9_12/
ATTACH;FMTTYPE=image/jpeg:https://www.kenoh-navi.com/wp/wp-content/uploads/2015/07/1280px-Kasabori-753-r1.jpg
END:VEVENT
BEGIN:VEVENT
DTSTART;TZID=Asia/Tokyo:20150909T193000
DTEND;TZID=Asia/Tokyo:20150910T222000
DTSTAMP:20260423T065923
CREATED:20150803T021821Z
LAST-MODIFIED:20150803T021821Z
UID:5510-1441827000-1441923600@www.kenoh-navi.com
SUMMARY:片貝まつり（浅原神社秋季例大祭奉納大煙火）
DESCRIPTION:三尺玉発祥の地！世界一の四尺玉は片貝まつりだけ！！ \n貝まつりの花火は、家内安全など色々な想いを込めて、浅原神社へ花火を奉納します。\n世界一の四尺玉は、両日の午後１０時頃に打上げられ、９日は「昇天銀竜黄金すだれ小割浮模様」１０日は「昇天銀竜黄金千輪二段咲き」と２種類の四尺玉が楽しめます！\n「筒引き」「玉送り」等の伝統行事も行われます。
URL:https://www.kenoh-navi.com/event/katakaimaturi_2015/
LOCATION:片貝浅原神社裏手
ATTACH;FMTTYPE=image/jpeg:https://www.kenoh-navi.com/wp/wp-content/uploads/2015/08/01_img.jpg
END:VEVENT
BEGIN:VEVENT
DTSTART;TZID=Asia/Tokyo:20150906T120000
DTEND;TZID=Asia/Tokyo:20150906T203000
DTSTAMP:20260423T065923
CREATED:20150820T024132Z
LAST-MODIFIED:20150820T024132Z
UID:6189-1441540800-1441571400@www.kenoh-navi.com
SUMMARY:三条楽音祭
DESCRIPTION:昨年、大勢の来場者を得て好評をいただいた三条発!\n音楽フェスティバル『三条楽音祭』を今年も開催!!\n三条楽音祭は、若者の若者による若者のためのイベントとして2009年に初開催。\n三条市の活性化に繋げるひとつの要素として、音楽という共通言語を通して、人々の交流をおおいに深める「出会いの場」にしたい!!\n若者や若い心を持っている方、若いエネルギーを感じたい方など、みなさんで三条楽音祭を一緒につくり上げていきましょう。\n【天候】決行します!\n【内容】\n★LIVE・ダンスステージ\n★ワークショップ\n★飲食・物販・フリーマーケット\n※シャトルバスが運行されます。
URL:https://www.kenoh-navi.com/event/sanjousirakuonsai/
LOCATION:中浦ヒメサユリ森林公園\, 三条市中浦143番地\, 〒955-0113
ATTACH;FMTTYPE=image/jpeg:https://www.kenoh-navi.com/wp/wp-content/uploads/2015/08/sanjourakuonn.jpg
END:VEVENT
BEGIN:VEVENT
DTSTART;TZID=Asia/Tokyo:20150906T090000
DTEND;TZID=Asia/Tokyo:20150906T163000
DTSTAMP:20260423T065923
CREATED:20150716T092502Z
LAST-MODIFIED:20150716T092502Z
UID:4666-1441530000-1441557000@www.kenoh-navi.com
SUMMARY:秘境八十里越体感バス 9月①
DESCRIPTION:秘境八十里越体感バス\n~感じよう、あふれる自然・歴史ロマン・未来へつなぐ土木技術~\n下田地区の9施設で受けられる特典をご用意しております。 \n一度途絶えた会津と越後の道が時を超えて再び結ばれる「国道２８９号八十里越」の工事見学を通じ、事業の効果・必要性を感じてもらうとともに秘境八十里越の最大の魅力である「あふれる自然」や「河井継之助にまつわる歴史ロマン」を実際に体感してもらい、心満たされる豊かなひと時を過ごしてもらうため、「秘境八十里越体感バス」を運行します。 \n \n●スケジュール● \n道の駅「漢学の里しただ」9:00出発(8:45集合)/13:15出発(13:00集合) → 6号トンネル付近(説明) → 5号橋梁付近(説明) → 8号トンネル新潟坑口(説明・休憩) → 7号橋梁(見学) → 道の駅「漢学の里しただ」12:15頃着/16:30頃着(到着後解散) \n \n期間:平成27年9月6日(日)\n　　 【２回運行】　午前便：9時00分~午後0時15分　午後便:13時15分～16時30分\n対象:大人(中学生以上)\n定員:午前、午後便ともに84名\n旅行代金:2\,600円/お一人様\n申込・問い合わせ先:株式会社 JTB関東\n申込方法:TEL.0256-68-2601(申込専用電話)　\n　　　　　　　FAX.0256-35-3915\n　　　　　　　WEB.JTB関東 法人営業三条支店\n申込開始平成27年7月5日～ \n≫お申込みはこちら≪
URL:https://www.kenoh-navi.com/event/80rigoe_2015_9_6/
ATTACH;FMTTYPE=image/jpeg:https://www.kenoh-navi.com/wp/wp-content/uploads/2015/07/c79613dec86126f1b6ebff4e933af16f-e1437037658260.jpg
END:VEVENT
BEGIN:VEVENT
DTSTART;TZID=Asia/Tokyo:20150905T103000
DTEND;TZID=Asia/Tokyo:20150905T150000
DTSTAMP:20260423T065923
CREATED:20150820T031102Z
LAST-MODIFIED:20150820T031102Z
UID:6197-1441449000-1441465200@www.kenoh-navi.com
SUMMARY:ひょうたんストラップを作ろう!!
DESCRIPTION:ブランキングアート展2015』の開催を記念して、ブランク材(廃材)を使った工作ワークショップを開催します。\n鍬(くわ)の製造の際に排出された廃材を活用し、ストラップを制作します。 \n◆15分程度でできる簡単な作業です。◆\n【日　時】9月5日(土)　1回目：10:30～12:00/2回目：13:30～15:00\n【駐車場】燕三条地場産業振興センターの無料駐車場をご利用下さい。(徒歩約10分)\n※JR燕三条駅駐車場は30分～有料です。\n【お申込】不要・随時受付\n【内　容】鍬(くわ)の製造の際に排出された廃材を活用し、ひょうたんストラップを作ります。 \n【お問い合わせ】燕三条地場産業振興センター 燕三条ブランド推進室\n☎0256-36-4123(平日8:30～17:15)
URL:https://www.kenoh-navi.com/event/hyoutansutoreppu/
LOCATION:燕三条駅観光物産センター 燕三条Wing(JR燕三条駅構内2F)\, 三条市下須頃497\, 〒955-0093
ATTACH;FMTTYPE=image/jpeg:https://www.kenoh-navi.com/wp/wp-content/uploads/2015/08/1509051.jpg
END:VEVENT
BEGIN:VEVENT
DTSTART;TZID=Asia/Tokyo:20150905T100000
DTEND;TZID=Asia/Tokyo:20150905T160000
DTSTAMP:20260423T065923
CREATED:20150903T015311Z
LAST-MODIFIED:20150903T015847Z
UID:6511-1441447200-1441468800@www.kenoh-navi.com
SUMMARY:ツバメルシェin燕市交通公園
DESCRIPTION:★燕交通公園★\n★去年、大人気だった水鉄砲大会を今年も開催! \n全23店舗が各ブースにてツバメルシェを盛り上げる!\n★飲食ブース★\n新潟名物半身からあげや会津地鶏などのご当地グルメ、地元燕の食材を使ったスイーツなど。 \n★福祉ブース★\nつばめキャンドルや福祉作業所トム・ソーヤの手織り布で作る小物作り体験など。 \n★クラフトブース★\nチューリップ・桜で染めた染物や古着子供服の販売、デコレーションで小物入れやストラップが作れるお店など。
URL:https://www.kenoh-navi.com/event/tsubamerusyeintsubamesikoutuukouen/
LOCATION:燕市交通公園\, 燕市大曲3375\, 〒959-1263
ATTACH;FMTTYPE=image/jpeg:https://www.kenoh-navi.com/wp/wp-content/uploads/2015/09/tubamerumizute.jpg
END:VEVENT
BEGIN:VEVENT
DTSTART;VALUE=DATE:20150902
DTEND;VALUE=DATE:20151001
DTSTAMP:20260423T065923
CREATED:20150905T083150Z
LAST-MODIFIED:20150908T022549Z
UID:6598-1441152000-1443657599@www.kenoh-navi.com
SUMMARY:アートディレクター 白井剛暁 のしごと展
DESCRIPTION:三条市で生まれ育ち、新潟を拠点に活動しているアートディレクター白井剛暁氏が率いるクリエイティブデザイン事務所「デザインデザイン」が三条ものづくり学校にて展示会を開催します。\n今回は特別にデザインデザインが携わった商品の販売も行います。ぜひご高覧ください。\n\n\n　\n日時：9月2日(水)~30日(水)\n時間：8:30~22:00(最終日のみ17:00まで)\n★↓↓詳細はこちら↓↓★\nhttp://sanjo-school.net/?p=1562 \n◆会期中は106号室「caffè DO＊DO」にて関連商品の販売も行います。\n★↓↓公式サイト↓↓★\nhttp://caffedodo.jimdo.com/\n★↓↓県央なび内サイト↓↓★\nhttp://www.kenoh-navi.com/maparea/map_sanjo/cafedodo/
URL:https://www.kenoh-navi.com/event/a-todhirekuta-siraitakeakinosigototen/
LOCATION:三条ものづくり学校\, 三条市桜木町 12-38\, 〒955-0844
ATTACH;FMTTYPE=image/jpeg:https://www.kenoh-navi.com/wp/wp-content/uploads/2015/09/komekan.jpg
END:VEVENT
BEGIN:VEVENT
DTSTART;VALUE=DATE:20150831
DTEND;VALUE=DATE:20150902
DTSTAMP:20260423T065923
CREATED:20150804T023738Z
LAST-MODIFIED:20150804T023738Z
UID:5613-1440979200-1441151999@www.kenoh-navi.com
SUMMARY:青海神社 秋季祭礼
DESCRIPTION:創建727年、加茂山公園の中心に建つ青海神社の秋季祭例 \n\n駅前商店街を中心に１００以上の露店が立ち並ぶほか、2日間で約３００発の花火が上がります。\n※花火は2日間とも、２０時～２１時頃に上がります。
URL:https://www.kenoh-navi.com/event/oumijinnjya_syuukitaisai_2015/
LOCATION:青海神社　他
ATTACH;FMTTYPE=image/jpeg:https://www.kenoh-navi.com/wp/wp-content/uploads/2015/08/aomi-aki.jpg
END:VEVENT
BEGIN:VEVENT
DTSTART;TZID=Asia/Tokyo:20150830T090000
DTEND;TZID=Asia/Tokyo:20150830T163000
DTSTAMP:20260423T065923
CREATED:20150716T091937Z
LAST-MODIFIED:20150716T092137Z
UID:4664-1440925200-1440952200@www.kenoh-navi.com
SUMMARY:秘境八十里越体感バス 8月③
DESCRIPTION:秘境八十里越体感バス\n~感じよう、あふれる自然・歴史ロマン・未来へつなぐ土木技術~\n下田地区の9施設で受けられる特典をご用意しております。 \n一度途絶えた会津と越後の道が時を超えて再び結ばれる「国道２８９号八十里越」の工事見学を通じ、事業の効果・必要性を感じてもらうとともに秘境八十里越の最大の魅力である「あふれる自然」や「河井継之助にまつわる歴史ロマン」を実際に体感してもらい、心満たされる豊かなひと時を過ごしてもらうため、「秘境八十里越体感バス」を運行します。 \n \n●スケジュール● \n道の駅「漢学の里しただ」9:00出発(8:45集合)/13:15出発(13:00集合) → 6号トンネル付近(説明) → 5号橋梁付近(説明) → 8号トンネル新潟坑口(説明・休憩) → 7号橋梁(見学) → 道の駅「漢学の里しただ」12:15頃着/16:30頃着(到着後解散) \n \n期間:平成27年8月30日(日)\n　　 【２回運行】　午前便：9時00分~午後0時15分　午後便:13時15分～16時30分\n対象:大人(中学生以上)\n定員:午前、午後便ともに84名\n旅行代金:2\,600円/お一人様\n申込・問い合わせ先:株式会社 JTB関東\n申込方法:TEL.0256-68-2601(申込専用電話)　\n　　　　　　　FAX.0256-35-3915\n　　　　　　　WEB.JTB関東 法人営業三条支店\n申込開始平成27年7月5日～ \n≫お申込みはこちら≪
URL:https://www.kenoh-navi.com/event/80rigoe_2015_8_30/
ATTACH;FMTTYPE=image/jpeg:https://www.kenoh-navi.com/wp/wp-content/uploads/2015/07/c79613dec86126f1b6ebff4e933af16f-e1437037658260.jpg
END:VEVENT
BEGIN:VEVENT
DTSTART;TZID=Asia/Tokyo:20150829T170000
DTEND;TZID=Asia/Tokyo:20150829T213000
DTSTAMP:20260423T065923
CREATED:20150805T024249Z
LAST-MODIFIED:20150826T023443Z
UID:5671-1440867600-1440883800@www.kenoh-navi.com
SUMMARY:いわむろや夏祭り
DESCRIPTION:歌って踊って楽しんで、最後は豪華景品をゲットしよう!\n浴衣で来るとドリンク一杯プレゼント付き! \n18:00～　夏祭りゲーム大会(景品あり)\n18:30～　岩室甚句の盆踊り\n19:00～　いわねちゃんダンスショー\n19:10～　いわむロックminiライブ(出演：岡村　翼)\n19:30～　おもしろ○×クイズ大会(景品あり)\n19:50～　岩室甚句の盆踊り\n20:20～　ファイヤーパフォーマンス(出演：茜火)\n20:50～　大ビンゴ大会(景品あり) \nそのほか、子供縁日・うんめもん夜市・ワークショップ・ふわふわ もあるよ!\nみんなで遊びに来てね！
URL:https://www.kenoh-navi.com/event/iwamuroyanatumaturi/
LOCATION:いわむろや\, 新潟市西蒲区岩室温泉96番地1\, 〒953-0104 
ATTACH;FMTTYPE=image/jpeg:https://www.kenoh-navi.com/wp/wp-content/uploads/2015/08/iwamuromaturi.jpg
ORGANIZER;CN="%E3%81%84%E3%82%8F%E3%82%80%E3%82%8D%E3%82%84":MAILTO:mail@iwamuro.info
END:VEVENT
BEGIN:VEVENT
DTSTART;TZID=Asia/Tokyo:20150829T150000
DTEND;TZID=Asia/Tokyo:20150829T200000
DTSTAMP:20260423T065923
CREATED:20150804T053331Z
LAST-MODIFIED:20150804T053331Z
UID:5625-1440860400-1440878400@www.kenoh-navi.com
SUMMARY:サン・コアなかまち夏フェス2015withツバメルシェ
DESCRIPTION:今回はツバメルシェと合体でさらにパワーアップ！！\n恒例のフォークライブに地元グルメも盛り沢山！
URL:https://www.kenoh-navi.com/event/sannkoanakamti_tubamerusye_2015/
LOCATION:サンコアなかまち駐車場\, 燕市吉田中町4-16
ATTACH;FMTTYPE=image/jpeg:https://www.kenoh-navi.com/wp/wp-content/uploads/2015/08/11753727_458204504357906_3794619707179250401_n.jpg
END:VEVENT
BEGIN:VEVENT
DTSTART;VALUE=DATE:20150829
DTEND;VALUE=DATE:20150831
DTSTAMP:20260423T065923
CREATED:20150730T085334Z
LAST-MODIFIED:20150730T091450Z
UID:5354-1440806400-1440979199@www.kenoh-navi.com
SUMMARY:第8回　わらアートまつり
DESCRIPTION:「稲わら」を活用した新潟市西蒲区ならではのイベント、「わらアートまつり」を開催します。\n会場となる「上堰潟公園」では、稲わらを使用した大小さまざまな「わらアート」の展示します。\nほかにも会場内には西蒲区の農産物や飲食物などを販売する西蒲市場、わら工芸品作り体験教室、歌や踊りを披露する「わらわらステージ」、過去のわらアート作品の制作風景や完成写真などを展示する「木陰のギャラリー」など盛りだくさんの内容です。\n夏の終わりの2日間をわらアートまつり会場でのんびりとお過ごしください。 \n◆開催日時\n8月29日：10:00~16:00\n8月30日：10:00~15:00 \n◆作品の展示\n平成27年11月1日(日)まで(予定) \n↓↓イベントの詳細はこちら↓↓\nhttp://www.city.niigata.lg.jp/nishikan/event/kanko/waraart2015.html \n★西蒲市場★\n農産物や飲食物などの販売、わら工芸品作り体験など西蒲区の特色が詰った露店市を設置します。 \n★わらわらステージ★\n会場に特設ステージを設けて、歌やダンスなどの披露を予定しています。 \n\n夏の上堰潟公園で、学生たちと一緒に作品を制作しませんか。\nどんな作品に仕上がるか楽しく話しながら、作品を完成させましょう。\n多くの方のボランティア参加をお待ちしております。 \n↓↓サポーター募集の詳細はこちら↓↓\nhttp://www.city.niigata.lg.jp/nishikan/event/shiseisanka/warasapo2015.html \n◆活動期間\n平成27年8月23日(日)~8月28日(金)\n◆活動時間\n9:30~17:00\n◆活動場所\n上堰潟公園(うわせきがたこうえん)(新潟市西蒲区松野尾1番地)\n◆申込期限\n平成27年8月21日(金) 17:00迄
URL:https://www.kenoh-navi.com/event/waraa-tomaturi/
LOCATION:上堰潟公園(うわせきがたこうえん)\, 上堰潟公園
ATTACH;FMTTYPE=image/jpeg:https://www.kenoh-navi.com/wp/wp-content/uploads/2015/07/2015waraa-to.jpg
ORGANIZER;CN="%E6%96%B0%E6%BD%9F%E5%B8%82%E8%A5%BF%E8%92%B2%E5%8C%BA%E5%BD%B9%E6%89%80%E3%80%80%E7%94%A3%E6%A5%AD%E8%A6%B3%E5%85%89%E8%AA%B2%E3%80%80%E8%A6%B3%E5%85%89%E4%BA%A4%E6%B5%81%E5%AE%A4":MAILTO:sangyo.nsk@city.niigata.lg.jp
END:VEVENT
END:VCALENDAR