BEGIN:VCALENDAR
VERSION:2.0
PRODID:-//新潟県央なび - 燕市・三条市・加茂市・弥彦村の店舗・施設案内 - ECPv6.0.6.2//NONSGML v1.0//EN
CALSCALE:GREGORIAN
METHOD:PUBLISH
X-WR-CALNAME:新潟県央なび - 燕市・三条市・加茂市・弥彦村の店舗・施設案内
X-ORIGINAL-URL:https://www.kenoh-navi.com
X-WR-CALDESC:新潟県央なび - 燕市・三条市・加茂市・弥彦村の店舗・施設案内 のイベント
REFRESH-INTERVAL;VALUE=DURATION:PT1H
X-Robots-Tag:noindex
X-PUBLISHED-TTL:PT1H
BEGIN:VTIMEZONE
TZID:Asia/Tokyo
BEGIN:STANDARD
TZOFFSETFROM:+0900
TZOFFSETTO:+0900
TZNAME:JST
DTSTART:20150101T000000
END:STANDARD
END:VTIMEZONE
BEGIN:VEVENT
DTSTART;VALUE=DATE:20150726
DTEND;VALUE=DATE:20150727
DTSTAMP:20260423T070710
CREATED:20150716T094948Z
LAST-MODIFIED:20150716T095206Z
UID:4683-1437868800-1437955199@www.kenoh-navi.com
SUMMARY:サンドアートコンテスト
DESCRIPTION:日時:7月26日(日)\n場所:長岡市寺泊上田町(中央海水浴場)\n※当日参加も可能です。どうぞご参加ください!\nお問合せ:寺泊観光協会/℡.0258-75-3363\n中央海水浴場
URL:https://www.kenoh-navi.com/event/sandart_2015/
LOCATION:寺泊中央海水浴場\, 長岡市寺泊上田町7695\, 940-2502
ATTACH;FMTTYPE=image/jpeg:https://www.kenoh-navi.com/wp/wp-content/uploads/2015/07/sandoa-to.jpg
END:VEVENT
BEGIN:VEVENT
DTSTART;VALUE=DATE:20150725
DTEND;VALUE=DATE:20150730
DTSTAMP:20260423T070710
CREATED:20150717T010438Z
LAST-MODIFIED:20150717T010438Z
UID:4702-1437782400-1438214399@www.kenoh-navi.com
SUMMARY:第10回リサイクル品展示・無料配布会
DESCRIPTION:展示・無料配布会では、まだまだ使える!もったいない!と思うようなリサイクル品がもりだくさん。\nまだまだ使える家具等をご希望の方に無料で差し上げます。\n中には未使用品も!?掘り出し物を探しに来てね!! \n\n※不要になったテーブル・タンス・家具等の引き取りをしておりませんが、「ゆずります!」「ゆずってください!」の専用掲示板にお得なリサイクル情報があります。こちらもチェックしてね♪ \n展示・申込:7月25日(土)~29日(水)\n抽選・当選連絡日:7月30日(木)\n引渡し日:7月30日(木)～8月2日(日)\n※三条市内にお住みの方に限ります。\n※転売目的での申し込みは固くお断りいたします。 \n場所:環境啓発施設「かんきょう庵」\n住所:三条市福島新田乙367番地(清掃センター向かい)\n開館時間:9:00~17:00\nお問合せ:TEL/FAX.0256-45-7040
URL:https://www.kenoh-navi.com/event/recycle_2015_7_25-29/
LOCATION:環境啓発施設「かんきょう庵」\, 環境啓発施設・かんきょう庵\, 〒959-1102
ATTACH;FMTTYPE=image/jpeg:https://www.kenoh-navi.com/wp/wp-content/uploads/2015/07/sit0038-054-e1437095055860.jpg
END:VEVENT
BEGIN:VEVENT
DTSTART;VALUE=DATE:20150724
DTEND;VALUE=DATE:20150727
DTSTAMP:20260423T070710
CREATED:20150717T023916Z
LAST-MODIFIED:20150717T024106Z
UID:4742-1437696000-1437955199@www.kenoh-navi.com
SUMMARY:弥彦燈籠まつり
DESCRIPTION:越後一宮 彌彦神社に千年前から伝わる燈籠神事であり、\n国の重要無形民俗文化財にも指定されている。 \n  \n24日の前夜祭は、大民謡流しやヤホールでのステージイベントが開催されます。\n25日の昼間は、弥彦温泉芸妓連や地元小学生による燈籠押しなどがあり、\n夜は８時から奉祝花火大会、夜９時から御神輿渡御・大燈籠巡業が行われます。\n大巡業は神社を出発し、花火が打ち上がる中、町を２時間余りにわたって一巡します。\n26日には還御祭が行なわれます。 \n【ＪＲ臨時列車のご案内】\n　7/25(土)のみ\n　弥彦発　21:58 →東三条着 22:28\n（吉田駅２番線 22:13発 新潟行きに連絡） \nお問合せ先\n弥彦観光協会\nTEL：0256-94-3154\nhttp://www.e-yahiko.com/notice/2015tourou.html
URL:https://www.kenoh-navi.com/event/yahiko_tourou_2015/
ATTACH;FMTTYPE=image/jpeg:https://www.kenoh-navi.com/wp/wp-content/uploads/2015/07/2015tourou.jpg
END:VEVENT
BEGIN:VEVENT
DTSTART;VALUE=DATE:20150724
DTEND;VALUE=DATE:20150726
DTSTAMP:20260423T070710
CREATED:20150717T160909Z
LAST-MODIFIED:20150725T011607Z
UID:4803-1437696000-1437868799@www.kenoh-navi.com
SUMMARY:見附まつり
DESCRIPTION:『市民自らが参加し楽しむまつり　子どもたちにふるさとの思い出を』 \n \n≪２４日プログラム≫\n午後1時～午後10時　露店出店\n午後3時～午後8時　四社まいり\n新町諏訪神社、本町諏訪神社、金毘羅宮、棚織神社が参拝者にお菓子を振舞います。\n午後7時～午後8時45分　民踊流し\n総勢1500人あまりが、地方（じかた）の生演奏による「見附音頭」「見附民謡」を踊ります。\n \n \n \n≪２５日プログラム≫\n午前8時30分～午後10時　露店出店\n午前9時～午後9時　四社まいり\n午前9時15分～午前11時　鼓笛パレード・演奏\n保育園・幼稚園、小学校の園児・児童約500人が鼓笛パレードと定点演奏を行います。\n午後1時～午後4時　越後見附太鼓\n午後3時～午後5時　ストリート「ダンスパフォーマンス」　　　　　　　　　　　　　　　　　\n午後6時45分～午後8時10分　樽はやし大会\n県内唯一の樽はやし！「まちに心に鳴り響け！樽の音」をテーマに参加者だけでなく、見ている人も楽しめます。\n午後6時30分～午後9時30分　神輿渡御\n粋な若者たちが威勢よく神輿を担ぐ姿をご覧ください。\n午後7時40分～午後9時　越後見附太鼓\n越後見附太鼓と県外の和太鼓との響演をお楽しみに。
URL:https://www.kenoh-navi.com/event/mitsuke_2015/
LOCATION:本町商店街
ATTACH;FMTTYPE=image/png:https://www.kenoh-navi.com/wp/wp-content/uploads/2015/07/mituke.png
END:VEVENT
BEGIN:VEVENT
DTSTART;VALUE=DATE:20150724
DTEND;VALUE=DATE:20150726
DTSTAMP:20260423T070710
CREATED:20150717T044545Z
LAST-MODIFIED:20150717T044545Z
UID:4756-1437696000-1437868799@www.kenoh-navi.com
SUMMARY:吉田まつり
DESCRIPTION:大勢の参加者でにぎわう「民謡流し」や、打ち上げ花火を合図に15基の山車が夜の街を練り歩く「山車巡行」が行われます。\n元気な子供たちによる「おまつりステージ」や「子供みこし」が、おまつりをより一層盛り上げてくれます。 \n7月24日\n　●民謡流し：19時20分～21時30分\n7月25日\n　●山車巡業：17時～21時 \nお問合せ\n吉田まつり協賛会\nTEL：0256-93-2609
URL:https://www.kenoh-navi.com/event/yoshida_fes_2015/
LOCATION:吉田まつり会場\, 燕市吉田駅前
ATTACH;FMTTYPE=image/jpeg:https://www.kenoh-navi.com/wp/wp-content/uploads/2015/07/yosidamaturi1.jpg
END:VEVENT
BEGIN:VEVENT
DTSTART;TZID=Asia/Tokyo:20150723T140000
DTEND;TZID=Asia/Tokyo:20150723T153000
DTSTAMP:20260423T070710
CREATED:20150717T004622Z
LAST-MODIFIED:20150717T004702Z
UID:4693-1437660000-1437665400@www.kenoh-navi.com
SUMMARY:エコちゃんサンちゃんシアター②
DESCRIPTION:【上映内容】\n・「保内三王山古墳群からの贈り物」三条市上保内に所在する古墳発掘についての記録\n・「水害発生　その時!」三条市を襲った7.13水害の記録 \n場所:環境啓発施設「かんきょう庵」\n住所:三条市福島新田乙367番地(清掃センター向かい)\n日時:7月9日(木)・23日(木)\n時間:14:00~15:30\nお問合せ:TEL/FAX.0256-45-7040\n開館時間:9:00~17:00\n※事前申込み不要です。直接かんきょう庵へお越しください。
URL:https://www.kenoh-navi.com/event/eco_sun_2015_7_23/
LOCATION:環境啓発施設「かんきょう庵」\, 環境啓発施設・かんきょう庵\, 〒959-1102
ATTACH;FMTTYPE=image/jpeg:https://www.kenoh-navi.com/wp/wp-content/uploads/2015/07/000069283.jpg
END:VEVENT
BEGIN:VEVENT
DTSTART;TZID=Asia/Tokyo:20150721T130000
DTEND;TZID=Asia/Tokyo:20150721T170000
DTSTAMP:20260423T070710
CREATED:20150717T005254Z
LAST-MODIFIED:20150717T005407Z
UID:4698-1437483600-1437498000@www.kenoh-navi.com
SUMMARY:着物リメイク教室②
DESCRIPTION:場所:環境啓発施設「かんきょう庵」\n住所:三条市福島新田乙367番地(清掃センター向かい)\n日時:7月21日(火)\n時間:13:00~\nお問合せ:TEL/FAX.0256-45-7040\n開館時間:9:00~17:00
URL:https://www.kenoh-navi.com/event/kimono_2015_7_21/
LOCATION:環境啓発施設「かんきょう庵」\, 環境啓発施設・かんきょう庵\, 〒959-1102
ATTACH;FMTTYPE=image/jpeg:https://www.kenoh-navi.com/wp/wp-content/uploads/2015/07/mitikokituke.jpg
END:VEVENT
BEGIN:VEVENT
DTSTART;TZID=Asia/Tokyo:20150720T100000
DTEND;TZID=Asia/Tokyo:20150720T150000
DTSTAMP:20260423T070710
CREATED:20150718T060146Z
LAST-MODIFIED:20150718T060146Z
UID:4870-1437386400-1437404400@www.kenoh-navi.com
SUMMARY:三条マルシェ　ごった市＠ホコテン
DESCRIPTION:ひがしさんじょうといっしょ♪「駅」～東の玄関口～\n東三条の昔の写真展と地域で活躍する凧組の凧展示や、最近施工された街路灯のLED化報告、\nまた東三条開催といえばおなじみの餅まきと白バイ・パトカーにも乗れちゃいます！\n出店数53店舗（新規5店舗）も皆様のお越しを心よりお待ちしております！
URL:https://www.kenoh-navi.com/event/sannjyoumarusye_2015_7/
LOCATION:東三条商店街
ATTACH;FMTTYPE=image/jpeg:https://www.kenoh-navi.com/wp/wp-content/uploads/2015/07/74af978c4a46abe42c0b68d1d142af7d-212x300.jpg
END:VEVENT
BEGIN:VEVENT
DTSTART;TZID=Asia/Tokyo:20150719T090000
DTEND;TZID=Asia/Tokyo:20150719T163000
DTSTAMP:20260423T070710
CREATED:20150716T075437Z
LAST-MODIFIED:20150716T091010Z
UID:4643-1437296400-1437323400@www.kenoh-navi.com
SUMMARY:秘境八十里越体感バス ７月①
DESCRIPTION:秘境八十里越体感バス\n~感じよう、あふれる自然・歴史ロマン・未来へつなぐ土木技術~\n下田地区の9施設で受けられる特典をご用意しております。 \n一度途絶えた会津と越後の道が時を超えて再び結ばれる「国道２８９号八十里越」の工事見学を通じ、事業の効果・必要性を感じてもらうとともに秘境八十里越の最大の魅力である「あふれる自然」や「河井継之助にまつわる歴史ロマン」を実際に体感してもらい、心満たされる豊かなひと時を過ごしてもらうため、「秘境八十里越体感バス」を運行します。 \n \n●スケジュール● \n道の駅「漢学の里しただ」9:00出発(8:45集合)/13:15出発(13:00集合) → 6号トンネル付近(説明) → 5号橋梁付近(説明) → 8号トンネル新潟坑口(説明・休憩) → 7号橋梁(見学) → 道の駅「漢学の里しただ」12:15頃着/16:30頃着(到着後解散) \n \n期間:平成27年7月19日(日)\n　　 【２回運行】　午前便：9時00分~午後0時15分　午後便:13時15分～16時30分\n対象:大人(中学生以上)\n定員:午前、午後便ともに84名\n旅行代金:2\,600円/お一人様\n申込・問い合わせ先:株式会社 JTB関東\n申込方法:TEL.0256-68-2601(申込専用電話)　\n　　　　　　　FAX.0256-35-3915\n　　　　　　　WEB.JTB関東 法人営業三条支店\n申込開始平成27年6月7日～ \n≫お申込みはこちら≪
URL:https://www.kenoh-navi.com/event/80rigoe_2015_7_19/
ATTACH;FMTTYPE=image/jpeg:https://www.kenoh-navi.com/wp/wp-content/uploads/2015/07/c79613dec86126f1b6ebff4e933af16f-e1437037658260.jpg
END:VEVENT
BEGIN:VEVENT
DTSTART;VALUE=DATE:20150718
DTEND;VALUE=DATE:20150721
DTSTAMP:20260423T070710
CREATED:20150717T045327Z
LAST-MODIFIED:20150717T045327Z
UID:4759-1437177600-1437436799@www.kenoh-navi.com
SUMMARY:道の駅 漢学の里 しただ　感謝祭
DESCRIPTION:◆7月18日(土)~7月19日(日)◆\n★夏野菜勢揃い! 100円コーナー開催!!★\n⇒キュウリ・ナス・トマト・ズッキーニ・ピーマン・夕顔などその他夏野菜も沢山あります。\n※なくなり次第終了 \n★レストラン利用者に２０％割引券配布★\n⇒1\,000円以上お食事されたお客様に次回20％割引券(平日限定)をプレゼント!\n※配布期間:~7月31日(金)まで配布中! \n◆19日(日)・20日(月)◆\n★フリーマーケット開催★\n⇒三条市内の出展者から手作り小物、工芸品、おもちゃ、フィギュア、古着など対面販売を行います。 \n開催地:道の駅 漢学の里 しただ\n日時:7月18日(土)~20日(月)\n住所:三条市庭月451-1\n℡.0256-47-2230
URL:https://www.kenoh-navi.com/event/kangaku_shitada_2015/
LOCATION:道の駅 漢学の里 しただ\, 三条市庭月451-1\, 〒955-0131
ATTACH;FMTTYPE=image/jpeg:https://www.kenoh-navi.com/wp/wp-content/uploads/2015/07/sitadaibe2.jpg
END:VEVENT
BEGIN:VEVENT
DTSTART;VALUE=DATE:20150718
DTEND;VALUE=DATE:20150720
DTSTAMP:20260423T070710
CREATED:20150717T023205Z
LAST-MODIFIED:20150717T023205Z
UID:4740-1437177600-1437350399@www.kenoh-navi.com
SUMMARY:飛燕夏まつり
DESCRIPTION:18日はよさこいソーランや燕1000人みこし、燕舞ストリートダンスフェスティバルなど、\n19日はふれあい野菜市やつばめ屋台村、民謡タイムや燕甚句踊り流しなど、イベントが盛だくさんです。 \n＜18日プログラム＞\n9：40～　　交通安全・音楽パレード\n11：30～　 バーベキュー（NTT跡地）\n　　　　　 　大なべ（NTT跡地）\n　　　　　　 よさこいソーラン（特設ステージ）\n12：30～　 燕舞ストリートダンスフェスティバル（特設ステージ）\n14：30～　 よさこいソーラン（燕駅前)\n15：30～　 燕1\,000人みこし・よさこいソーラン（商店街メインストリート）　　　　　　　　　\n※「交通安全・音楽パレード」を実施するときは、午前7時に合図の花火を打ち上げます。 \n＜19日プログラム＞\n7：00～　　　ふれあい野菜市（JA越後中央総合管理センター広場）\n10：00～　　 【フリーマーケット・つばめ屋台村・チビッ子遊びの広場】\n　　　　　　　　（商店街メインストリート）\n　　　　　　　　フラダンス（特設ステージ）\n11：30～　　　郷土芸能太鼓の響演（特設ステージ）\n17：00～　　　民謡タイム＆燕甚句踊り流し大会（特設ステージ）\n19：00～　　　燕ばやし大会（特設ステージ）
URL:https://www.kenoh-navi.com/event/tsubame_fes_2015/
ATTACH;FMTTYPE=image/jpeg:https://www.kenoh-navi.com/wp/wp-content/uploads/2015/07/6033_1.jpg
END:VEVENT
BEGIN:VEVENT
DTSTART;TZID=Asia/Tokyo:20150714T130000
DTEND;TZID=Asia/Tokyo:20150714T170000
DTSTAMP:20260423T070710
CREATED:20150717T005111Z
LAST-MODIFIED:20150717T005523Z
UID:4696-1436878800-1436893200@www.kenoh-navi.com
SUMMARY:着物リメイク教室①
DESCRIPTION:場所:環境啓発施設「かんきょう庵」\n住所:三条市福島新田乙367番地(清掃センター向かい)\n日時:7月14日(火)\n時間:13:00~\nお問合せ:TEL/FAX.0256-45-7040\n開館時間:9:00~17:00
URL:https://www.kenoh-navi.com/event/kimono_2015_7_14/
LOCATION:環境啓発施設「かんきょう庵」\, 環境啓発施設・かんきょう庵\, 〒959-1102
ATTACH;FMTTYPE=image/jpeg:https://www.kenoh-navi.com/wp/wp-content/uploads/2015/07/mitikokituke.jpg
END:VEVENT
BEGIN:VEVENT
DTSTART;TZID=Asia/Tokyo:20150712T090000
DTEND;TZID=Asia/Tokyo:20150712T160000
DTSTAMP:20260423T070710
CREATED:20150716T094511Z
LAST-MODIFIED:20150716T094511Z
UID:4681-1436691600-1436716800@www.kenoh-navi.com
SUMMARY:Eボート長岡寺泊大会
DESCRIPTION:日時:7月12日(日)\n場所:寺泊港内\n時間:9:00~16:00\n(9:00~11:00 Eボート練習/11:00~16:00 開会式、Eボートレース、表彰式)\n※募集は定員に達しました。数多くの応募ありがとうございました。\nお問合せ\nEボート長岡寺泊大会実行委員会事務局(寺泊観光協会内)\n℡.0258-75-3363 \n★参加特典　寺泊 屋台村 同時開催!★
URL:https://www.kenoh-navi.com/event/eboat_teradomari2015/
ATTACH;FMTTYPE=image/jpeg:https://www.kenoh-navi.com/wp/wp-content/uploads/2015/07/Ebo-to.jpg
END:VEVENT
BEGIN:VEVENT
DTSTART;TZID=Asia/Tokyo:20150709T140000
DTEND;TZID=Asia/Tokyo:20150709T153000
DTSTAMP:20260423T070710
CREATED:20150717T004356Z
LAST-MODIFIED:20150717T004755Z
UID:4690-1436450400-1436455800@www.kenoh-navi.com
SUMMARY:エコちゃんサンちゃんシアター①
DESCRIPTION:【上映内容】\n「植村直己の足跡(ﾄﾚｰｽ)」世界的冒険家「植村直己」のアドベンチャー物語 \n場所:環境啓発施設「かんきょう庵」\n住所:三条市福島新田乙367番地(清掃センター向かい)\n日時:7月9日(木)・23日(木)\n時間:14:00~15:30\nお問合せ:TEL/FAX.0256-45-7040\n開館時間:9:00~17:00\n※事前申込み不要です。直接かんきょう庵へお越しください。
URL:https://www.kenoh-navi.com/event/eco_sun_2015_7_9/
LOCATION:環境啓発施設「かんきょう庵」\, 環境啓発施設・かんきょう庵\, 〒959-1102
ATTACH;FMTTYPE=image/jpeg:https://www.kenoh-navi.com/wp/wp-content/uploads/2015/07/000069283.jpg
END:VEVENT
END:VCALENDAR