BEGIN:VCALENDAR
VERSION:2.0
PRODID:-//新潟県央なび - 燕市・三条市・加茂市・弥彦村の店舗・施設案内 - ECPv6.0.6.2//NONSGML v1.0//EN
CALSCALE:GREGORIAN
METHOD:PUBLISH
X-WR-CALNAME:新潟県央なび - 燕市・三条市・加茂市・弥彦村の店舗・施設案内
X-ORIGINAL-URL:https://www.kenoh-navi.com
X-WR-CALDESC:新潟県央なび - 燕市・三条市・加茂市・弥彦村の店舗・施設案内 のイベント
REFRESH-INTERVAL;VALUE=DURATION:PT1H
X-Robots-Tag:noindex
X-PUBLISHED-TTL:PT1H
BEGIN:VTIMEZONE
TZID:Asia/Tokyo
BEGIN:STANDARD
TZOFFSETFROM:+0900
TZOFFSETTO:+0900
TZNAME:JST
DTSTART:20150101T000000
END:STANDARD
END:VTIMEZONE
BEGIN:VEVENT
DTSTART;VALUE=DATE:20150718
DTEND;VALUE=DATE:20150720
DTSTAMP:20260423T074032
CREATED:20150717T023205Z
LAST-MODIFIED:20150717T023205Z
UID:4740-1437177600-1437350399@www.kenoh-navi.com
SUMMARY:飛燕夏まつり
DESCRIPTION:18日はよさこいソーランや燕1000人みこし、燕舞ストリートダンスフェスティバルなど、\n19日はふれあい野菜市やつばめ屋台村、民謡タイムや燕甚句踊り流しなど、イベントが盛だくさんです。 \n＜18日プログラム＞\n9：40～　　交通安全・音楽パレード\n11：30～　 バーベキュー（NTT跡地）\n　　　　　 　大なべ（NTT跡地）\n　　　　　　 よさこいソーラン（特設ステージ）\n12：30～　 燕舞ストリートダンスフェスティバル（特設ステージ）\n14：30～　 よさこいソーラン（燕駅前)\n15：30～　 燕1\,000人みこし・よさこいソーラン（商店街メインストリート）　　　　　　　　　\n※「交通安全・音楽パレード」を実施するときは、午前7時に合図の花火を打ち上げます。 \n＜19日プログラム＞\n7：00～　　　ふれあい野菜市（JA越後中央総合管理センター広場）\n10：00～　　 【フリーマーケット・つばめ屋台村・チビッ子遊びの広場】\n　　　　　　　　（商店街メインストリート）\n　　　　　　　　フラダンス（特設ステージ）\n11：30～　　　郷土芸能太鼓の響演（特設ステージ）\n17：00～　　　民謡タイム＆燕甚句踊り流し大会（特設ステージ）\n19：00～　　　燕ばやし大会（特設ステージ）
URL:https://www.kenoh-navi.com/event/tsubame_fes_2015/
ATTACH;FMTTYPE=image/jpeg:https://www.kenoh-navi.com/wp/wp-content/uploads/2015/07/6033_1.jpg
END:VEVENT
BEGIN:VEVENT
DTSTART;TZID=Asia/Tokyo:20150714T130000
DTEND;TZID=Asia/Tokyo:20150714T170000
DTSTAMP:20260423T074032
CREATED:20150717T005111Z
LAST-MODIFIED:20150717T005523Z
UID:4696-1436878800-1436893200@www.kenoh-navi.com
SUMMARY:着物リメイク教室①
DESCRIPTION:場所:環境啓発施設「かんきょう庵」\n住所:三条市福島新田乙367番地(清掃センター向かい)\n日時:7月14日(火)\n時間:13:00~\nお問合せ:TEL/FAX.0256-45-7040\n開館時間:9:00~17:00
URL:https://www.kenoh-navi.com/event/kimono_2015_7_14/
LOCATION:環境啓発施設「かんきょう庵」\, 環境啓発施設・かんきょう庵\, 〒959-1102
ATTACH;FMTTYPE=image/jpeg:https://www.kenoh-navi.com/wp/wp-content/uploads/2015/07/mitikokituke.jpg
END:VEVENT
BEGIN:VEVENT
DTSTART;TZID=Asia/Tokyo:20150712T090000
DTEND;TZID=Asia/Tokyo:20150712T160000
DTSTAMP:20260423T074032
CREATED:20150716T094511Z
LAST-MODIFIED:20150716T094511Z
UID:4681-1436691600-1436716800@www.kenoh-navi.com
SUMMARY:Eボート長岡寺泊大会
DESCRIPTION:日時:7月12日(日)\n場所:寺泊港内\n時間:9:00~16:00\n(9:00~11:00 Eボート練習/11:00~16:00 開会式、Eボートレース、表彰式)\n※募集は定員に達しました。数多くの応募ありがとうございました。\nお問合せ\nEボート長岡寺泊大会実行委員会事務局(寺泊観光協会内)\n℡.0258-75-3363 \n★参加特典　寺泊 屋台村 同時開催!★
URL:https://www.kenoh-navi.com/event/eboat_teradomari2015/
ATTACH;FMTTYPE=image/jpeg:https://www.kenoh-navi.com/wp/wp-content/uploads/2015/07/Ebo-to.jpg
END:VEVENT
BEGIN:VEVENT
DTSTART;TZID=Asia/Tokyo:20150709T140000
DTEND;TZID=Asia/Tokyo:20150709T153000
DTSTAMP:20260423T074032
CREATED:20150717T004356Z
LAST-MODIFIED:20150717T004755Z
UID:4690-1436450400-1436455800@www.kenoh-navi.com
SUMMARY:エコちゃんサンちゃんシアター①
DESCRIPTION:【上映内容】\n「植村直己の足跡(ﾄﾚｰｽ)」世界的冒険家「植村直己」のアドベンチャー物語 \n場所:環境啓発施設「かんきょう庵」\n住所:三条市福島新田乙367番地(清掃センター向かい)\n日時:7月9日(木)・23日(木)\n時間:14:00~15:30\nお問合せ:TEL/FAX.0256-45-7040\n開館時間:9:00~17:00\n※事前申込み不要です。直接かんきょう庵へお越しください。
URL:https://www.kenoh-navi.com/event/eco_sun_2015_7_9/
LOCATION:環境啓発施設「かんきょう庵」\, 環境啓発施設・かんきょう庵\, 〒959-1102
ATTACH;FMTTYPE=image/jpeg:https://www.kenoh-navi.com/wp/wp-content/uploads/2015/07/000069283.jpg
END:VEVENT
END:VCALENDAR